{"text_format":"1","workbook":"xlsx","n_sheets":11,"sheets":["Report Generator","Report","Control","Report Template","Preview","NEC Report Template","Report Temp","Chart Template","Version History","Sample Data","NEC"],"not_rendered":{"charts":17,"images":2,"macros":1,"external_links":0,"defined_names":553,"comments":0,"pivot_tables":0},"unopened":[],"bounds":{"document_bytes":16777216,"sheet_cells":100000,"rows_first":2000,"rows_last":500,"rows_between":2000,"halvings":0,"cell_chars":16384,"cell_head_chars":4096},"cells_cut":0,"cells_raw":0,"read":"whole","date_system":"1900"}

{"sheet":"Report Generator","index":0,"n_rows":8,"n_cols":2,"rows_kept":8,"cut":false,"hidden":false,"merged":[]}
[]
[]
[]
[]
[null,"This macro is provided free of charge \"as is\" to assist users in interpreting data from the Metsys Current Logger. "]
[null,"No warranties, either express or implied, are made regarding this macro, including but not limited to, warranties of fitness for any particular purpose. "]
[null,"Users are solely responsible for any decisions based on the reports generated by this macro. "]
[null,"GMC-I PROSyS Ltd. shall not be liable for any loss or damage, however caused, resulting from the use of this macro."]

{"sheet":"Report","index":1,"n_rows":52,"n_cols":13,"rows_kept":52,"cut":false,"hidden":true,"merged":[[44,1,44,7],[51,11,51,12],[5,8,5,11],[6,8,6,11],[7,8,7,11],[8,8,8,11],[9,8,9,11],[35,11,38,11],[37,8,37,10],[0,1,0,11],[2,2,2,3],[2,8,2,11],[3,2,3,3],[3,8,3,11],[4,8,4,11]]}
[null,"BB1"]
[]
[null,"Start Time","2024-04-23T09:35:00",null,null,null,null,"Location","Bull's Head"]
[null,"End Time","2024-04-30T15:15:34"]
[null,"Duration",null,7.2399769999999997,null,"hours"]
[null,"Log Interval",null,5,null,"minutes"]
[null,null,null,null,null,null,null,"Circuit Desc.","panel 1"]
[null,null,null,null,null,null,null,"Applicable regs.","BS"]
[null,null,null,null,null,null,null,"No. of Poles",3]
[null,"Readings",null,2085,null,null,null,"Source","240423-Bulls_00013_240423_0935.csv"]
[]
[]
[]
[]
[]
[]
[]
[]
[]
[]
[]
[]
[]
[]
[]
[]
[]
[]
[]
[]
[]
[]
[]
[]
[null,"Current Rating",null,null,null,null,null,null,100,"A"]
[null,"90% of Rating (40C)",null,null,null,null,null,null,90,"A",null,"based on highest loaded phase"]
[null,"Nominal Voltage",null,null,null,null,null,null,240,"V"]
[null,null,null,null,null,null,null,null,"phase"]
["Connected Current Demand Study",null,null,null,null,null,null,null,"A","B","C"]
[null,"Current Demand (CD)",null,null,null,null,null,null,{"$f":"ia_peak","v":27},{"$f":"ib_peak","v":28},{"$f":"ic_peak","v":42},{"$f":"MAX(I40:K40)","v":42},"A"]
[null,"Maximum Apparent Power",null,null,null,null,null,null,{"$f":"I40*$I37/1000","v":6.48},{"$f":"J40*$I37/1000","v":6.72},{"$f":"K40*$I37/1000","v":10.08},{"$f":"MAX(I41:K41)","v":10.08},"kVA"]
[null,"Maximum Demand (load)",null,null,null,null,null,null,{"$f":"SUM(I41:K41)","v":23.28},null,null,null,"kVA"]
[null,"Seasonal Adjustments",null,null,null,null,null,null,{"$f":"IF(seasonal_en,seasonal_adjust,0)","v":0},null,null,null,"A"]
[null,"Total Current Demand",null,null,null,null,null,null,{"$f":"I40+$I43","v":27},{"$f":"J40+$I43","v":28},42,{"$f":"MAX(I44:K44)","v":42},"A"]
[null,"Available Capacity",null,null,null,null,null,null,{"$f":"$I35-report_connected_load_a","v":73},{"$f":"$I35-report_connected_load_b","v":72},{"$f":"$I35-report_connected_load_c","v":58},{"$f":"MIN(I45:K45)","v":58},"A"]
[null,"Free Capacity",null,null,null,null,null,null,{"$f":"nv*SUM(I45:K45)/1000","v":48.72},null,null,null,"kVA"]
["Plan/Projected Current Demand Analysis"]
[null,"Planned Additional Current Demand",null,null,null,null,null,null,{"$f":"IF(planned_load_en,planned_load,0)","v":0},null,null,null,"A"]
[null,"Projected Current Demand w/addition",null,null,null,null,null,null,{"$f":"report_connected_load_a+$I48","v":27},{"$f":"report_connected_load_b+$I48","v":28},{"$f":"report_connected_load_c+$I48","v":42},{"$f":"MAX(I49:K49)","v":42},"A"]
[null,"Projected Remaining Capacity",null,null,null,null,null,null,{"$f":"pcbr-I49","v":73},{"$f":"pcbr-J49","v":72},{"$f":"pcbr-K49","v":58},{"$f":"MIN(I50:K50)","v":58},"A"]
[]
[{"$f":"MID(CELL(\"filename\"),SEARCH(\"[\",CELL(\"filename\"))+1, SEARCH(\"]\",CELL(\"filename\"))-SEARCH(\"[\",CELL(\"filename\"))-1)","v":"maximum_demand_report_generator_01_05.xlsm"},null,null,null,null,null,null,null,null,null,null,"2017-07-01T00:06:32"]

{"sheet":"Control","index":2,"n_rows":62,"n_cols":17,"rows_kept":62,"cut":false,"hidden":true,"merged":[]}
[]
[]
[]
[]
[null,"Report Generator Mode",1,null,null,"0 - RG, 1 - NEC"]
[null,"Rolling Data Present",false]
[null,"Step",1]
[null,"Title"]
[null,"Job ID"]
[]
[null,"Location",null,null,null,"Circuit Description"]
[null,null,null,null,null,"Standard"]
[null,null,null,null,null,"No. of Poles",1]
[]
[]
[null,"Type",0]
[null,"Phase Colours",2,null,null,"NB. 2 = (black, red, blue). This cannot currently be changed in NEC mode"]
[]
[null,"Log File Name","<none>"]
[null,"Start Time","2024-04-23T09:35:00"]
[null,"End Time","2024-04-30T15:15:34"]
[null,"Duration",7.2399769999999997,"hours"]
[null,"Readings",2085]
[null,"Phases",3]
[null,"Log Interval",5,"minutes"]
[]
[null,"Chart Start",{"$f":"FLOOR(start_time*24, 1)/24","v":"2024-04-23T09:00:00"},null,null,{"$f":"chart_start","v":45405.375}]
[null,"Chart End",{"$f":"CEILING(end_time*24, 1)/24","v":"2024-04-30T16:00:00"},null,null,{"$f":"chart_end","v":45412.666666666664}]
[null,"Chart Duration (days)",{"$f":"chart_end-chart_start","v":7.2916666666642413},"hours",null,17520,8760,2184,720,168,48,24,12,6,2,1,"hours"]
[null,"Calculated Grid (days)",{"$f":"C29/4","v":1.8229166666660603},null,null,{"$f":"F29/24","v":730},365,{"$f":"H29/24","v":91},30,{"$f":"J29/24","v":7},2,1,0.5,0.25,8.3333333333333329E-2,4.1666666666666664E-2,"days"]
[null,"Next Larger Grid (days)",{"$f":"INDEX(H30:P30,MATCH(C30,H30:P30,-1))","v":2}]
[]
[null,null,"Title","Selection"]
[null,"No. of charts",3]
[1,"Chart1","Phase A",4353,null,"Limit1",0]
[2,"Chart2","Phase B",8706,null,"Limit2",0]
[3,"Chart3","Phase C",17412]
[4,"Chart4",null,0]
[]
[null,"Note"]
[]
[null,null,"Header Left","Header Right"]
[null,"mode",1,1]
[null,"name"]
[]
[null,null,"Footer Left","Footer Right"]
[null,"mode",1,1]
[null,"text"]
[]
[null,"Report Dir"]
[null,"Report File Name"]
[]
[null,"NEC Settings"]
[]
[null,"Current Rating",200]
[null,"Nominal Voltage",230,null,null,null,"Percent","Temperature",null,"ComboBox",null,"Line desc",null,null,"Chart Legend"]
[null,"Temp Rating Index (ListIndex)",1,null,null,null,{"$f":"INDEX(G$59:G$62,temp_rating_index+1)","v":90},null,null,null,null,{"$f":"INDEX(L$59:L$62,temp_rating_index+1)","v":"90% of Rating (40C)"},null,null,{"$f":"INDEX(O$59:O$62,temp_rating_index+1)","v":"90% line (40C)"}]
[null,"Phase Selection",4]
[null,"Adjustment Factor",{"$f":"seasonal_adjust","v":0},null,null,null,100,"<40",null,{"$f":"$H59&\"C (\"&$G59&\"%)\"","v":"<40C (100%)"},null,{"$f":"$G59 & \"% of Rating (\" &$H59& \"C)\"","v":"100% of Rating (<40C)"},null,null,{"$f":"$G59 & \"% line (\" &$H59& \"C)\"","v":"100% line (<40C)"}]
[null,"Additional non-operating Load",0,0,null,null,90,40,null,{"$f":"$H60&\"C (\"&$G60&\"%)\"","v":"40C (90%)"},null,{"$f":"$G60 & \"% of Rating (\" &$H60& \"C)\"","v":"90% of Rating (40C)"},null,null,{"$f":"$G60 & \"% line (\" &$H60& \"C)\"","v":"90% line (40C)"}]
[null,"Planned (Additional) Load",{"$f":"planned_load","v":0},{"$f":"planned_load_en","v":0},null,null,80,"50",null,"50C (80%)",null,{"$f":"$G61 & \"% of Rating (\" &$H61& \"C)\"","v":"80% of Rating (50C)"},null,null,{"$f":"$G61 & \"% line (\" &$H61& \"C)\"","v":"80% line (50C)"}]
[null,"Seasonal",{"$f":"seasonal_adjust","v":0},{"$f":"seasonal_en","v":0},null,null,70,"60",null,"60C (70%)",null,{"$f":"$G62 & \"% of Rating (\" &$H62& \"C)\"","v":"70% of Rating (60C)"},null,null,{"$f":"$G62 & \"% line (\" &$H62& \"C)\"","v":"70% line (60C)"}]

{"sheet":"Report Template","index":3,"n_rows":51,"n_cols":26,"rows_kept":51,"cut":false,"hidden":true,"merged":[[50,11,50,12],[9,1,9,11],[0,1,0,11],[1,14,1,22],[1,26,1,33],[2,8,3,11],[3,2,3,3],[4,2,4,3]]}
[null,"Sample Report"]
[]
[null,"Job ID",null,null,null,null,null,"Location","1 Potter Place, West Pimbo, Skelmersdale, Lancashire, WN8 9PH, UK"]
[null,"Start Time","2017-07-01T00:06:32"]
[null,"End Time","2017-07-03T23:56:32",null,null,null,null,"Source"]
[null,"Duration",null,3,null,"hours",null,"Type","pre-install"]
[null,"Log Interval",null,10,null,"minutes",null,"Phases",4]
[null,null,null,null,null,null,null,"Readings",432]
[]
[null,"Survey carried out over 3 days prior to installation of new equipment."]
[null,"3hr Maximum Continuous Load"]
[null,null,"A","B",null,"C",null,"N"]
[null,null,0,0,null,0,null,0]
[]
[]
[]
[]
[]
[]
[]
[null,null,null,null,null,null,null,null,null,null,null,null,null,null,"Max",null,null,null,null,null,null,null,null,null,null,"Max"]
[null,null,null,null,null,null,null,null,null,null,null,null,null,null,"Mean",null,null,null,null,null,null,null,null,null,null,"Mean"]
[null,null,null,null,null,null,null,null,null,null,null,null,null,null,"Min",null,null,null,null,null,null,null,null,null,null,"Min"]
[null,null,null,null,null,null,null,null,null,null,null,null,null,null,"Median",null,null,null,null,null,null,null,null,null,null,"Median"]
[null,null,null,null,null,null,null,null,null,null,null,null,null,null,"Stdev",null,null,null,null,null,null,null,null,null,null,"Stdev"]
[]
[]
[]
[]
[]
[]
[]
[]
[]
[]
[null,"Max"]
[null,"Mean"]
[null,"Min"]
[null,"Median"]
[null,"Stdev"]
[]
[]
[]
[]
[]
[]
[null,null,null,null,null,null,null,null,null,null,null,null,null,null,"Max"]
[null,null,null,null,null,null,null,null,null,null,null,null,null,null,"Mean"]
[null,null,null,null,null,null,null,null,null,null,null,null,null,null,"Min"]
[null,null,null,null,null,null,null,null,null,null,null,null,null,null,"Median"]
[{"$f":"MID(CELL(\"filename\"),SEARCH(\"[\",CELL(\"filename\"))+1, SEARCH(\"]\",CELL(\"filename\"))-SEARCH(\"[\",CELL(\"filename\"))-1)","v":"maximum_demand_report_generator_01_05.xlsm"},null,null,null,null,null,null,null,null,null,null,"2017-07-01T00:06:32",null,null,"Stdev"]

{"sheet":"Preview","index":4,"n_rows":0,"n_cols":0,"rows_kept":0,"cut":false,"hidden":true,"merged":[]}

{"sheet":"NEC Report Template","index":5,"n_rows":52,"n_cols":13,"rows_kept":52,"cut":false,"hidden":true,"merged":[[35,11,38,11],[51,11,51,12],[0,1,0,11],[2,2,2,3],[3,2,3,3],[37,8,37,10],[2,8,2,11],[3,8,3,11],[4,8,4,11],[5,8,5,11],[9,8,9,11],[44,1,44,7],[6,8,6,11],[7,8,7,11],[8,8,8,11]]}
[null,"Sample Report"]
[]
[null,"Start Time","2017-07-01T00:06:32",null,null,null,null,"Location","1 Potter Place, West Pimbo, Skelmersdale, Lancashire, WN8 9PH, UK"]
[null,"End Time","2017-07-03T23:56:32"]
[null,"Duration",null,3,null,"hours"]
[null,"Log Interval",null,10,null,"minutes"]
[null,null,null,null,null,null,null,"Circuit Desc."]
[null,null,null,null,null,null,null,"Applicable regs."]
[null,null,null,null,null,null,null,"No. of Poles"]
[null,"Readings",null,432,null,null,null,"Source"]
[]
[]
[]
[]
[]
[]
[]
[]
[]
[]
[]
[]
[]
[]
[]
[]
[]
[]
[]
[]
[]
[]
[]
[]
[null,"Current Rating",null,null,null,null,null,null,{"$f":"panel_capacity","v":200},"A"]
[null,{"$f":"sd_temp_rating_desc","v":"90% of Rating (40C)"},null,null,null,null,null,null,{"$f":"0.8*I35","v":160},"A",null,"based on highest loaded phase"]
[null,"Nominal Voltage",null,null,null,null,null,null,{"$f":"nominal_voltage","v":230},"V"]
[null,null,null,null,null,null,null,null,"phase"]
["Connected Current Demand Study",null,null,null,null,null,null,null,"A","B","C"]
[null,"Current Demand (CD)",null,null,null,null,null,null,{"$f":"ia_peak","v":27},{"$f":"ib_peak","v":28},{"$f":"ic_peak","v":42},{"$f":"MAX(I40:K40)","v":42},"A"]
[null,"Maximum Apparent Power",null,null,null,null,null,null,{"$f":"I40*$I37/1000","v":6.21},{"$f":"J40*$I37/1000","v":6.44},{"$f":"K40*$I37/1000","v":9.66},{"$f":"MAX(I41:K41)","v":9.66},"kVA"]
[null,"Maximum Demand (load)",null,null,null,null,null,null,{"$f":"SUM(I41:K41)","v":22.310000000000002},null,null,null,"kVA"]
[null,"Seasonal Adjustments",null,null,null,null,null,null,{"$f":"IF(seasonal_en,seasonal_adjust,0)","v":0},null,null,null,"A"]
[null,"Total Current Demand",null,null,null,null,null,null,{"$f":"I40+$I43","v":27},{"$f":"J40+$I43","v":28},42,{"$f":"MAX(I44:K44)","v":42},"A"]
[null,"Available Capacity",null,null,null,null,null,null,{"$f":"$I35-report_connected_load_a","v":173},{"$f":"$I35-report_connected_load_b","v":172},{"$f":"$I35-report_connected_load_c","v":158},{"$f":"MIN(I45:K45)","v":158},"A"]
[null,"Free Capacity",null,null,null,null,null,null,{"$f":"nv*SUM(I45:K45)/1000","v":115.69},null,null,null,"kVA"]
["Plan/Projected Current Demand Analysis"]
[null,"Planned Additional Current Demand",null,null,null,null,null,null,{"$f":"IF(planned_load_en,planned_load,0)","v":0},null,null,null,"A"]
[null,"Projected Current Demand w/addition",null,null,null,null,null,null,{"$f":"report_connected_load_a+$I48","v":27},{"$f":"report_connected_load_b+$I48","v":28},{"$f":"report_connected_load_c+$I48","v":42},{"$f":"MAX(I49:K49)","v":42},"A"]
[null,"Projected Remaining Capacity",null,null,null,null,null,null,{"$f":"pcbr-I49","v":173},{"$f":"pcbr-J49","v":172},{"$f":"pcbr-K49","v":158},{"$f":"MIN(I50:K50)","v":158},"A"]
[]
[{"$f":"MID(CELL(\"filename\"),SEARCH(\"[\",CELL(\"filename\"))+1, SEARCH(\"]\",CELL(\"filename\"))-SEARCH(\"[\",CELL(\"filename\"))-1)","v":"maximum_demand_report_generator_01_05.xlsm"},null,null,null,null,null,null,null,null,null,null,"2017-07-01T00:06:32"]

{"sheet":"Report Temp","index":6,"n_rows":49,"n_cols":26,"rows_kept":49,"cut":false,"hidden":true,"merged":[[9,1,9,11],[48,11,48,12],[0,1,0,11],[1,14,1,22],[1,26,1,33],[2,8,3,11],[3,2,3,3],[4,2,4,3]]}
[null,"Sample Report"]
[]
[null,"Job ID",null,null,null,null,null,"Location","1 Potter Place, West Pimbo, Skelmersdale, Lancashire, WN8 9PH, UK"]
[null,"Start Time","2017-07-01T00:06:32"]
[null,"End Time","2017-07-03T23:56:32",null,null,null,null,"Source"]
[null,"Duration",null,3,null,"hours",null,"Type","pre-install"]
[null,"Log Interval",null,10,null,"minutes",null,"Phases",4]
[null,null,null,null,null,null,null,"Readings",432]
[]
[null,"Survey carried out over 3 days prior to installation of new equipment."]
[null,"3hr Maximum Continuous Load"]
[null,null,"A","B",null,"C",null,"N"]
[null,null,0,0,null,0,null,0]
[]
[]
[]
[]
[]
[]
[null,null,null,null,null,null,null,null,null,null,null,null,null,null,"Max",null,null,null,null,null,null,null,null,null,null,"Max"]
[null,null,null,null,null,null,null,null,null,null,null,null,null,null,"Mean",null,null,null,null,null,null,null,null,null,null,"Mean"]
[null,null,null,null,null,null,null,null,null,null,null,null,null,null,"Min",null,null,null,null,null,null,null,null,null,null,"Min"]
[null,null,null,null,null,null,null,null,null,null,null,null,null,null,"Median",null,null,null,null,null,null,null,null,null,null,"Median"]
[null,null,null,null,null,null,null,null,null,null,null,null,null,null,"Stdev",null,null,null,null,null,null,null,null,null,null,"Stdev"]
[]
[]
[]
[]
[]
[]
[]
[]
[]
[]
[null,"Max"]
[null,"Mean"]
[null,"Min"]
[null,"Median"]
[null,"Stdev"]
[]
[]
[]
[]
[]
[null,null,null,null,null,null,null,null,null,null,null,null,null,null,"Max"]
[null,null,null,null,null,null,null,null,null,null,null,null,null,null,"Mean"]
[null,null,null,null,null,null,null,null,null,null,null,null,null,null,"Min"]
[null,null,null,null,null,null,null,null,null,null,null,null,null,null,"Median"]
[{"$f":"MID(CELL(\"filename\"),SEARCH(\"[\",CELL(\"filename\"))+1, SEARCH(\"]\",CELL(\"filename\"))-SEARCH(\"[\",CELL(\"filename\"))-1)","v":"maximum_demand_report_generator_01_05.xlsm"},null,null,null,null,null,null,null,null,null,null,"2017-07-01T00:06:32",null,null,"Stdev"]

{"sheet":"Chart Template","index":7,"n_rows":2,"n_cols":13,"rows_kept":2,"cut":false,"hidden":true,"merged":[]}
["Templates for charts in reports",null,null,null,null,null,null,null,null,null,null,null,"Templates for charts in preview window"]
["NB. changing chart series line colours programatically to RGB values does not work properly in Excel 2013 (get random colours & points change too)! - having to use a different template here per colour scheme!"]

{"sheet":"Version History","index":8,"n_rows":5,"n_cols":3,"rows_kept":5,"cut":false,"hidden":false,"merged":[]}
["Version","Date"]
[1.02,"2024-08-30","Initial Version"]
[1.03,"2024-10-23","Now includes Voltage input and estimated Apparent Power"]
[1.04,"2025-01-20","Minor changes and bug fixes"]
[1.05,"2025-01-22","Modified Maximum Demand (Total Power) formula. Added Free Capacity calculation. Removed Base Load. Added units to the tables."]

{"sheet":"Sample Data","index":9,"n_rows":2086,"n_cols":67,"rows_kept":2086,"cut":false,"hidden":true,"merged":[]}
["Time","IA Avg","IB Avg","IC Avg","IN Avg","IA Min","IB Min","IC Min","IN Min","IA Max","IB Max","IC Max","IN Max","IAvg Sum",null,null,null,null,null,null,null,"IA Pk-Avg","IB Pk-Avg","IC Pk-Avg","IN Pk-Avg",null,null,null,{"$f":"B1","v":"IA Avg"},{"$f":"C1","v":"IB Avg"},"IC Avg","IN Avg","IA Min","IB Min","IC Min","IN Min","IA Max","IB Max","IC Max","IN Max","IAvg Sum",0,0,0,0,0,0,0,"IA Pk-Avg","IB Pk-Avg","IC Pk-Avg","IN Pk-Avg","limit1","limit2","Current Rating",null,"80% Line",null,"Max CL",null,"AMAD",null,"Seasonal",null,"Projected Demand",null,"Time"]
["2024-04-23T09:35:00",10,14,34,0,7,3,24,0,14,28,41,0,{"$f":"SUM(B2:D2)","v":58},null,null,null,null,null,null,null,{"$f":"connected_load_plot+J2-B2","v":46},{"$f":"connected_load_plot+K2-C2","v":56},{"$f":"connected_load_plot+L2-D2","v":49},{"$f":"0","v":0},null,null,"Max",{"$f":"MAX(B2:B2086)","v":27},{"$f":"MAX(C2:C2086)","v":28},42,0,18,16,33,0,46,49,66,0,80,0,0,0,0,0,0,0,68,68,75,0,0,0,{"$f":"panel_capacity","v":200},{"$f":"temp_rating_desc","v":"90% of Rating (40C)"},{"$f":"nec_80_percent","v":180},"Maximum Continuous Load (MCL)",40,"Adjusted Maximum Average Demand (+25%) AMAD",50,"AMCL + Seasonal",{"$f":"nec_seasonal_plot","v":0},"Projected Demand",{"$f":"connected_load_plot","v":42},null,"2024-04-23T09:00:00"]
["2024-04-23T09:40:00",10,16,32,0,7,3,25,0,20,28,42,0,{"$f":"SUM(B3:D3)","v":58},null,null,null,null,null,null,null,{"$f":"connected_load_plot+J3-B3","v":52},{"$f":"connected_load_plot+K3-C3","v":54},{"$f":"connected_load_plot+L3-D3","v":52},{"$f":"0","v":0},null,null,"Mean",{"$f":"AVERAGE(B2:B2086)","v":12.410551558752998},{"$f":"AVERAGE(C2:C2086)","v":10.006235011990407},22.881055155875298,0,5.8657074340527577,3.4441247002398083,14.796642685851319,0,21.780815347721823,20.448920863309354,33.817266187050357,0,45.297841726618707,{"$error":"#DIV/0!"},{"$error":"#DIV/0!"},{"$error":"#DIV/0!"},{"$error":"#DIV/0!"},{"$error":"#DIV/0!"},{"$error":"#DIV/0!"},{"$error":"#DIV/0!"},51.370263788968828,52.442685851318942,52.936211031175063,0,{"$f":"limit_val1","v":0},{"$f":"limit2_val","v":0},{"$f":"BC2","v":200},null,{"$f":"BE2","v":180},null,40,null,50,null,{"$f":"BK2","v":0},null,42,null,"2024-04-30T16:00:00"]
["2024-04-23T09:45:00",8,16,34,0,6,3,26,0,14,28,43,0,58,null,null,null,null,null,null,null,{"$f":"connected_load_plot+J4-B4","v":48},{"$f":"connected_load_plot+K4-C4","v":54},{"$f":"connected_load_plot+L4-D4","v":51},{"$f":"0","v":0},null,null,"Min",{"$f":"MIN(B2:B2086)","v":4},{"$f":"MIN(C2:C2086)","v":2},4,0,2,1,4,0,8,5,6,0,15,0,0,0,0,0,0,0,44,44,43,0]
["2024-04-23T09:50:00",9,14,35,0,6,3,26,0,19,28,49,0,58,null,null,null,null,null,null,null,{"$f":"connected_load_plot+J5-B5","v":52},{"$f":"connected_load_plot+K5-C5","v":56},{"$f":"connected_load_plot+L5-D5","v":56},{"$f":"0","v":0},null,null,"Median",{"$f":"MEDIAN(B2:B2086)","v":12},{"$f":"MEDIAN(C2:C2086)","v":9},25,0,5,3,16,0,22,20,36,0,47,{"$error":"#NUM!"},{"$error":"#NUM!"},{"$error":"#NUM!"},{"$error":"#NUM!"},{"$error":"#NUM!"},{"$error":"#NUM!"},{"$error":"#NUM!"},51,52,53,0]
["2024-04-23T09:55:00",8,14,31,0,6,3,26,0,14,28,37,0,53,null,null,null,null,null,null,null,{"$f":"connected_load_plot+J6-B6","v":48},{"$f":"connected_load_plot+K6-C6","v":56},{"$f":"connected_load_plot+L6-D6","v":48},{"$f":"0","v":0},null,null,"Stdev",{"$f":"_xlfn.STDEV.P(B2:B2086)","v":4.3450993848941915},{"$f":"_xlfn.STDEV.P(C2:C2086)","v":4.3371640849390785},8.6998029603271227,0,2.8733788532508631,2.6189441304752132,7.0894178070945726,0,6.974115644542862,6.9702970382825766,10.655525771013009,0,12.065131802587093,{"$error":"#DIV/0!"},{"$error":"#DIV/0!"},{"$error":"#DIV/0!"},{"$error":"#DIV/0!"},{"$error":"#DIV/0!"},{"$error":"#DIV/0!"},{"$error":"#DIV/0!"},3.8003001493802322,4.0427215563733432,4.2056554402476305,0,null,null,null,null,null,null,"MAD",null,null,null,null,null,"Continuous Load"]
["2024-04-23T10:00:00",8,17,35,0,5,3,26,0,14,28,44,0,60,null,null,null,null,null,null,null,{"$f":"connected_load_plot+J7-B7","v":48},{"$f":"connected_load_plot+K7-C7","v":53},{"$f":"connected_load_plot+L7-D7","v":51},{"$f":"0","v":0},null,null,null,null,null,null,null,null,null,null,null,null,null,null,null,null,null,null,null,null,null,null,null,null,null,null,null,null,null,null,null,null,"Current Demand (CD)",{"$f":"mad_plot","v":42},null,null,null,null,"CONTINUOUS LOAD",{"$f":"continuous_load_plot","v":40}]
["2024-04-23T10:05:00",14,17,35,0,5,3,26,0,27,28,44,0,66,null,null,null,null,null,null,null,{"$f":"connected_load_plot+J8-B8","v":55},{"$f":"connected_load_plot+K8-C8","v":53},{"$f":"connected_load_plot+L8-D8","v":51},{"$f":"0","v":0},null,null,null,null,null,null,null,null,null,null,null,null,null,null,null,null,null,null,null,null,null,null,null,null,null,null,null,null,null,null,null,null,null,{"$f":"BG7","v":42},null,null,null,null,null,{"$f":"BM7","v":40}]
["2024-04-23T10:10:00",8,17,32,0,6,4,25,0,21,36,43,0,57,null,null,null,null,null,null,null,{"$f":"connected_load_plot+J9-B9","v":55},{"$f":"connected_load_plot+K9-C9","v":61},{"$f":"connected_load_plot+L9-D9","v":53},{"$f":"0","v":0}]
["2024-04-23T10:15:00",8,15,30,0,6,4,25,0,19,29,39,0,53,null,null,null,null,null,null,null,{"$f":"connected_load_plot+J10-B10","v":53},{"$f":"connected_load_plot+K10-C10","v":56},{"$f":"connected_load_plot+L10-D10","v":51},{"$f":"0","v":0}]
["2024-04-23T10:20:00",7,17,35,0,6,4,26,0,13,23,43,0,59,null,null,null,null,null,null,null,{"$f":"connected_load_plot+J11-B11","v":48},{"$f":"connected_load_plot+K11-C11","v":48},{"$f":"connected_load_plot+L11-D11","v":50},{"$f":"0","v":0}]
["2024-04-23T10:25:00",12,17,38,0,6,4,26,0,26,30,47,0,67,null,null,null,null,null,null,null,{"$f":"connected_load_plot+J12-B12","v":56},{"$f":"connected_load_plot+K12-C12","v":55},{"$f":"connected_load_plot+L12-D12","v":51},{"$f":"0","v":0},null,null,"Max"]
["2024-04-23T10:30:00",7,14,32,0,6,4,26,0,13,29,39,0,53,null,null,null,null,null,null,null,{"$f":"connected_load_plot+J13-B13","v":48},{"$f":"connected_load_plot+K13-C13","v":57},{"$f":"connected_load_plot+L13-D13","v":49},{"$f":"0","v":0}]
["2024-04-23T10:35:00",9,16,34,0,6,4,26,0,19,30,44,0,59,null,null,null,null,null,null,null,{"$f":"connected_load_plot+J14-B14","v":52},{"$f":"connected_load_plot+K14-C14","v":56},{"$f":"connected_load_plot+L14-D14","v":52},{"$f":"0","v":0},null,null,null,null,null,null,null,null,"these are the offsets added to the Max-Avg readings to add a baseline to the peak values on the chart"]
["2024-04-23T10:40:00",8,15,33,0,6,4,27,0,14,30,38,0,56,null,null,null,null,null,null,null,{"$f":"connected_load_plot+J15-B15","v":48},{"$f":"connected_load_plot+K15-C15","v":57},{"$f":"connected_load_plot+L15-D15","v":47},{"$f":"0","v":0},null,null,null,null,null,null,null,null,"they need to be subtracted from the max values of the plotted Peak-Avg curves"]
["2024-04-23T10:45:00",9,14,36,0,6,4,27,0,19,30,44,0,59,null,null,null,null,null,null,null,{"$f":"connected_load_plot+J16-B16","v":52},{"$f":"connected_load_plot+K16-C16","v":58},{"$f":"connected_load_plot+L16-D16","v":50},{"$f":"0","v":0}]
["2024-04-23T10:50:00",7,14,34,0,6,4,27,0,13,30,44,0,55,null,null,null,null,null,null,null,{"$f":"connected_load_plot+J17-B17","v":48},{"$f":"connected_load_plot+K17-C17","v":58},{"$f":"connected_load_plot+L17-D17","v":52},{"$f":"0","v":0}]
["2024-04-23T10:55:00",9,14,35,0,6,4,27,0,19,30,44,0,58,null,null,null,null,null,null,null,{"$f":"connected_load_plot+J18-B18","v":52},{"$f":"connected_load_plot+K18-C18","v":58},{"$f":"connected_load_plot+L18-D18","v":51},{"$f":"0","v":0}]
["2024-04-23T11:00:00",8,12,35,0,6,3,26,0,19,24,44,0,55,null,null,null,null,null,null,null,{"$f":"connected_load_plot+J19-B19","v":53},{"$f":"connected_load_plot+K19-C19","v":54},{"$f":"connected_load_plot+L19-D19","v":51},{"$f":"0","v":0},null,null,0,0,null,"additional load"]
["2024-04-23T11:05:00",8,12,34,0,6,3,26,0,14,23,44,0,54,null,null,null,null,null,null,null,{"$f":"connected_load_plot+J20-B20","v":48},{"$f":"connected_load_plot+K20-C20","v":53},{"$f":"connected_load_plot+L20-D20","v":52},{"$f":"0","v":0},null,null,0,0,null,"seasonal_adjust"]
["2024-04-23T11:10:00",7,12,35,0,6,3,26,0,13,23,44,0,54,null,null,null,null,null,null,null,{"$f":"connected_load_plot+J21-B21","v":48},{"$f":"connected_load_plot+K21-C21","v":53},{"$f":"connected_load_plot+L21-D21","v":51},{"$f":"0","v":0}]
["2024-04-23T11:15:00",6,12,35,0,6,3,27,0,9,23,46,0,53,null,null,null,null,null,null,null,{"$f":"connected_load_plot+J22-B22","v":45},{"$f":"connected_load_plot+K22-C22","v":53},{"$f":"connected_load_plot+L22-D22","v":53},{"$f":"0","v":0}]
["2024-04-23T11:20:00",7,13,33,0,6,3,26,0,12,23,39,0,53,null,null,null,null,null,null,null,{"$f":"connected_load_plot+J23-B23","v":47},{"$f":"connected_load_plot+K23-C23","v":52},{"$f":"connected_load_plot+L23-D23","v":48},{"$f":"0","v":0}]
["2024-04-23T11:25:00",6,12,35,0,6,3,26,0,8,23,44,0,53,null,null,null,null,null,null,null,{"$f":"connected_load_plot+J24-B24","v":44},{"$f":"connected_load_plot+K24-C24","v":53},{"$f":"connected_load_plot+L24-D24","v":51},{"$f":"0","v":0}]
["2024-04-23T11:30:00",7,12,35,0,6,3,27,0,19,23,44,0,54,null,null,null,null,null,null,null,{"$f":"connected_load_plot+J25-B25","v":54},{"$f":"connected_load_plot+K25-C25","v":53},{"$f":"connected_load_plot+L25-D25","v":51},{"$f":"0","v":0}]
["2024-04-23T11:35:00",6,12,33,0,6,3,26,0,9,23,39,0,51,null,null,null,null,null,null,null,{"$f":"connected_load_plot+J26-B26","v":45},{"$f":"connected_load_plot+K26-C26","v":53},{"$f":"connected_load_plot+L26-D26","v":48},{"$f":"0","v":0}]
["2024-04-23T11:40:00",7,12,31,0,6,3,25,0,12,16,42,0,50,null,null,null,null,null,null,null,{"$f":"connected_load_plot+J27-B27","v":47},{"$f":"connected_load_plot+K27-C27","v":46},{"$f":"connected_load_plot+L27-D27","v":53},{"$f":"0","v":0}]
["2024-04-23T11:45:00",6,11,33,0,6,3,25,0,8,23,43,0,50,null,null,null,null,null,null,null,{"$f":"connected_load_plot+J28-B28","v":44},{"$f":"connected_load_plot+K28-C28","v":54},{"$f":"connected_load_plot+L28-D28","v":52},{"$f":"0","v":0},null,null,"Projected Demand for plotting"]
["2024-04-23T11:50:00",7,12,32,0,6,2,24,0,13,22,42,0,51,null,null,null,null,null,null,null,{"$f":"connected_load_plot+J29-B29","v":48},{"$f":"connected_load_plot+K29-C29","v":52},{"$f":"connected_load_plot+L29-D29","v":52},{"$f":"0","v":0},null,null,null,{"$f":"NEC!J19","v":42}]
["2024-04-23T11:55:00",6,13,31,0,6,2,24,0,12,28,42,0,50,null,null,null,null,null,null,null,{"$f":"connected_load_plot+J30-B30","v":48},{"$f":"connected_load_plot+K30-C30","v":57},{"$f":"connected_load_plot+L30-D30","v":53},{"$f":"0","v":0}]
["2024-04-23T12:00:00",8,11,32,0,6,2,25,0,19,22,42,0,51,null,null,null,null,null,null,null,{"$f":"connected_load_plot+J31-B31","v":53},{"$f":"connected_load_plot+K31-C31","v":53},{"$f":"connected_load_plot+L31-D31","v":52},{"$f":"0","v":0},null,null,"Continuous Load for plotting"]
["2024-04-23T12:05:00",7,9,31,0,6,2,25,0,13,16,43,0,47,null,null,null,null,null,null,null,{"$f":"connected_load_plot+J32-B32","v":48},{"$f":"connected_load_plot+K32-C32","v":49},{"$f":"connected_load_plot+L32-D32","v":54},{"$f":"0","v":0},null,null,null,40]
["2024-04-23T12:10:00",6,11,31,0,6,2,25,0,13,22,43,0,48,null,null,null,null,null,null,null,{"$f":"connected_load_plot+J33-B33","v":49},{"$f":"connected_load_plot+K33-C33","v":53},{"$f":"connected_load_plot+L33-D33","v":54},{"$f":"0","v":0}]
["2024-04-23T12:15:00",9,13,31,0,6,2,25,0,18,23,42,0,53,null,null,null,null,null,null,null,{"$f":"connected_load_plot+J34-B34","v":51},{"$f":"connected_load_plot+K34-C34","v":52},{"$f":"connected_load_plot+L34-D34","v":53},{"$f":"0","v":0}]
["2024-04-23T12:20:00",10,11,31,0,6,3,25,0,18,22,38,0,52,null,null,null,null,null,null,null,{"$f":"connected_load_plot+J35-B35","v":50},{"$f":"connected_load_plot+K35-C35","v":53},{"$f":"connected_load_plot+L35-D35","v":49},{"$f":"0","v":0}]
["2024-04-23T12:25:00",11,10,32,0,6,3,25,0,17,22,42,0,53,null,null,null,null,null,null,null,{"$f":"connected_load_plot+J36-B36","v":48},{"$f":"connected_load_plot+K36-C36","v":54},{"$f":"connected_load_plot+L36-D36","v":52},{"$f":"0","v":0}]
["2024-04-23T12:30:00",6,13,34,0,6,3,25,0,8,29,44,0,53,null,null,null,null,null,null,null,{"$f":"connected_load_plot+J37-B37","v":44},{"$f":"connected_load_plot+K37-C37","v":58},{"$f":"connected_load_plot+L37-D37","v":52},{"$f":"0","v":0}]
["2024-04-23T12:35:00",7,13,32,0,6,3,26,0,13,23,38,0,52,null,null,null,null,null,null,null,{"$f":"connected_load_plot+J38-B38","v":48},{"$f":"connected_load_plot+K38-C38","v":52},{"$f":"connected_load_plot+L38-D38","v":48},{"$f":"0","v":0}]
["2024-04-23T12:40:00",6,11,37,0,6,3,26,0,8,22,52,0,54,null,null,null,null,null,null,null,{"$f":"connected_load_plot+J39-B39","v":44},{"$f":"connected_load_plot+K39-C39","v":53},{"$f":"connected_load_plot+L39-D39","v":57},{"$f":"0","v":0}]
["2024-04-23T12:45:00",7,10,32,0,6,3,25,0,13,22,41,0,49,null,null,null,null,null,null,null,{"$f":"connected_load_plot+J40-B40","v":48},{"$f":"connected_load_plot+K40-C40","v":54},{"$f":"connected_load_plot+L40-D40","v":51},{"$f":"0","v":0}]
["2024-04-23T12:50:00",6,12,32,0,6,3,25,0,13,22,45,0,50,null,null,null,null,null,null,null,{"$f":"connected_load_plot+J41-B41","v":49},{"$f":"connected_load_plot+K41-C41","v":52},{"$f":"connected_load_plot+L41-D41","v":55},{"$f":"0","v":0}]
["2024-04-23T12:55:00",7,11,35,0,6,3,28,0,13,22,45,0,53,null,null,null,null,null,null,null,{"$f":"connected_load_plot+J42-B42","v":48},{"$f":"connected_load_plot+K42-C42","v":53},{"$f":"connected_load_plot+L42-D42","v":52},{"$f":"0","v":0}]
["2024-04-23T13:00:00",7,11,32,0,6,3,25,0,13,16,44,0,50,null,null,null,null,null,null,null,{"$f":"connected_load_plot+J43-B43","v":48},{"$f":"connected_load_plot+K43-C43","v":47},{"$f":"connected_load_plot+L43-D43","v":54},{"$f":"0","v":0}]
["2024-04-23T13:05:00",6,10,31,0,6,3,25,0,8,23,36,0,47,null,null,null,null,null,null,null,{"$f":"connected_load_plot+J44-B44","v":44},{"$f":"connected_load_plot+K44-C44","v":55},{"$f":"connected_load_plot+L44-D44","v":47},{"$f":"0","v":0}]
["2024-04-23T13:10:00",7,12,32,0,6,3,25,0,13,23,43,0,51,null,null,null,null,null,null,null,{"$f":"connected_load_plot+J45-B45","v":48},{"$f":"connected_load_plot+K45-C45","v":53},{"$f":"connected_load_plot+L45-D45","v":53},{"$f":"0","v":0}]
["2024-04-23T13:15:00",6,12,32,0,5,3,25,0,12,23,43,0,50,null,null,null,null,null,null,null,{"$f":"connected_load_plot+J46-B46","v":48},{"$f":"connected_load_plot+K46-C46","v":53},{"$f":"connected_load_plot+L46-D46","v":53},{"$f":"0","v":0}]
["2024-04-23T13:20:00",7,10,30,0,6,3,25,0,13,16,36,0,47,null,null,null,null,null,null,null,{"$f":"connected_load_plot+J47-B47","v":48},{"$f":"connected_load_plot+K47-C47","v":48},{"$f":"connected_load_plot+L47-D47","v":48},{"$f":"0","v":0}]
["2024-04-23T13:25:00",6,9,33,0,6,3,25,0,8,16,42,0,48,null,null,null,null,null,null,null,{"$f":"connected_load_plot+J48-B48","v":44},{"$f":"connected_load_plot+K48-C48","v":49},{"$f":"connected_load_plot+L48-D48","v":51},{"$f":"0","v":0}]
["2024-04-23T13:30:00",7,11,32,0,6,3,25,0,13,22,42,0,50,null,null,null,null,null,null,null,{"$f":"connected_load_plot+J49-B49","v":48},{"$f":"connected_load_plot+K49-C49","v":53},{"$f":"connected_load_plot+L49-D49","v":52},{"$f":"0","v":0}]
["2024-04-23T13:35:00",6,13,32,0,6,3,25,0,8,23,43,0,51,null,null,null,null,null,null,null,{"$f":"connected_load_plot+J50-B50","v":44},{"$f":"connected_load_plot+K50-C50","v":52},{"$f":"connected_load_plot+L50-D50","v":53},{"$f":"0","v":0}]
["2024-04-23T13:40:00",7,10,33,0,6,3,24,0,13,23,43,0,50,null,null,null,null,null,null,null,{"$f":"connected_load_plot+J51-B51","v":48},{"$f":"connected_load_plot+K51-C51","v":55},{"$f":"connected_load_plot+L51-D51","v":52},{"$f":"0","v":0}]
["2024-04-23T13:45:00",7,10,30,0,6,3,24,0,13,20,37,0,47,null,null,null,null,null,null,null,{"$f":"connected_load_plot+J52-B52","v":48},{"$f":"connected_load_plot+K52-C52","v":52},{"$f":"connected_load_plot+L52-D52","v":49},{"$f":"0","v":0}]
["2024-04-23T13:50:00",13,12,31,0,7,2,24,0,21,21,37,0,56,null,null,null,null,null,null,null,{"$f":"connected_load_plot+J53-B53","v":50},{"$f":"connected_load_plot+K53-C53","v":51},{"$f":"connected_load_plot+L53-D53","v":48},{"$f":"0","v":0}]
["2024-04-23T13:55:00",14,12,33,0,14,3,24,0,20,26,42,0,59,null,null,null,null,null,null,null,{"$f":"connected_load_plot+J54-B54","v":48},{"$f":"connected_load_plot+K54-C54","v":56},{"$f":"connected_load_plot+L54-D54","v":51},{"$f":"0","v":0}]
["2024-04-23T14:00:00",11,10,31,0,7,3,24,0,21,25,44,0,52,null,null,null,null,null,null,null,{"$f":"connected_load_plot+J55-B55","v":52},{"$f":"connected_load_plot+K55-C55","v":57},{"$f":"connected_load_plot+L55-D55","v":55},{"$f":"0","v":0}]
["2024-04-23T14:05:00",7,10,36,0,7,3,25,0,9,16,44,0,53,null,null,null,null,null,null,null,{"$f":"connected_load_plot+J56-B56","v":44},{"$f":"connected_load_plot+K56-C56","v":48},{"$f":"connected_load_plot+L56-D56","v":50},{"$f":"0","v":0}]
["2024-04-23T14:10:00",8,10,33,0,7,3,25,0,15,16,42,0,51,null,null,null,null,null,null,null,{"$f":"connected_load_plot+J57-B57","v":49},{"$f":"connected_load_plot+K57-C57","v":48},{"$f":"connected_load_plot+L57-D57","v":51},{"$f":"0","v":0}]
["2024-04-23T14:15:00",7,13,30,0,7,3,24,0,9,23,36,0,50,null,null,null,null,null,null,null,{"$f":"connected_load_plot+J58-B58","v":44},{"$f":"connected_load_plot+K58-C58","v":52},{"$f":"connected_load_plot+L58-D58","v":48},{"$f":"0","v":0}]
["2024-04-23T14:20:00",8,10,32,0,6,3,24,0,14,22,42,0,50,null,null,null,null,null,null,null,{"$f":"connected_load_plot+J59-B59","v":48},{"$f":"connected_load_plot+K59-C59","v":54},{"$f":"connected_load_plot+L59-D59","v":52},{"$f":"0","v":0}]
["2024-04-23T14:25:00",6,10,32,0,6,3,24,0,8,18,42,0,48,null,null,null,null,null,null,null,{"$f":"connected_load_plot+J60-B60","v":44},{"$f":"connected_load_plot+K60-C60","v":50},{"$f":"connected_load_plot+L60-D60","v":52},{"$f":"0","v":0}]
["2024-04-23T14:30:00",7,12,30,0,6,3,24,0,13,22,36,0,49,null,null,null,null,null,null,null,{"$f":"connected_load_plot+J61-B61","v":48},{"$f":"connected_load_plot+K61-C61","v":52},{"$f":"connected_load_plot+L61-D61","v":48},{"$f":"0","v":0}]
["2024-04-23T14:35:00",8,11,31,0,7,3,24,0,14,22,41,0,50,null,null,null,null,null,null,null,{"$f":"connected_load_plot+J62-B62","v":48},{"$f":"connected_load_plot+K62-C62","v":53},{"$f":"connected_load_plot+L62-D62","v":52},{"$f":"0","v":0}]
["2024-04-23T14:40:00",13,10,29,0,7,3,24,0,20,22,36,0,52,null,null,null,null,null,null,null,{"$f":"connected_load_plot+J63-B63","v":49},{"$f":"connected_load_plot+K63-C63","v":54},{"$f":"connected_load_plot+L63-D63","v":49},{"$f":"0","v":0}]
["2024-04-23T14:45:00",8,11,28,0,6,3,24,0,14,22,35,0,47,null,null,null,null,null,null,null,{"$f":"connected_load_plot+J64-B64","v":48},{"$f":"connected_load_plot+K64-C64","v":53},{"$f":"connected_load_plot+L64-D64","v":49},{"$f":"0","v":0}]
["2024-04-23T14:50:00",14,11,33,0,6,3,24,0,20,16,42,0,58,null,null,null,null,null,null,null,{"$f":"connected_load_plot+J65-B65","v":48},{"$f":"connected_load_plot+K65-C65","v":47},{"$f":"connected_load_plot+L65-D65","v":51},{"$f":"0","v":0}]
["2024-04-23T14:55:00",13,11,31,0,13,3,25,0,15,22,38,0,55,null,null,null,null,null,null,null,{"$f":"connected_load_plot+J66-B66","v":44},{"$f":"connected_load_plot+K66-C66","v":53},{"$f":"connected_load_plot+L66-D66","v":49},{"$f":"0","v":0}]
["2024-04-23T15:00:00",14,12,32,0,6,3,25,0,20,23,42,0,{"$f":"SUM(B67:D67)","v":58},null,null,null,null,null,null,null,{"$f":"connected_load_plot+J67-B67","v":48},{"$f":"connected_load_plot+K67-C67","v":53},{"$f":"connected_load_plot+L67-D67","v":52},{"$f":"0","v":0}]
["2024-04-23T15:05:00",8,11,33,0,6,3,25,0,18,16,42,0,52,null,null,null,null,null,null,null,{"$f":"connected_load_plot+J68-B68","v":52},{"$f":"connected_load_plot+K68-C68","v":47},{"$f":"connected_load_plot+L68-D68","v":51},{"$f":"0","v":0}]
["2024-04-23T15:10:00",8,11,33,0,6,3,25,0,14,21,43,0,52,null,null,null,null,null,null,null,{"$f":"connected_load_plot+J69-B69","v":48},{"$f":"connected_load_plot+K69-C69","v":52},{"$f":"connected_load_plot+L69-D69","v":52},{"$f":"0","v":0}]
["2024-04-23T15:15:00",7,10,31,0,6,3,25,0,12,16,42,0,48,null,null,null,null,null,null,null,{"$f":"connected_load_plot+J70-B70","v":47},{"$f":"connected_load_plot+K70-C70","v":48},{"$f":"connected_load_plot+L70-D70","v":53},{"$f":"0","v":0}]
["2024-04-23T15:20:00",6,12,32,0,6,3,25,0,12,23,38,0,50,null,null,null,null,null,null,null,{"$f":"connected_load_plot+J71-B71","v":48},{"$f":"connected_load_plot+K71-C71","v":53},{"$f":"connected_load_plot+L71-D71","v":48},{"$f":"0","v":0}]
["2024-04-23T15:25:00",8,10,30,0,5,2,25,0,18,23,36,0,48,null,null,null,null,null,null,null,{"$f":"connected_load_plot+J72-B72","v":52},{"$f":"connected_load_plot+K72-C72","v":55},{"$f":"connected_load_plot+L72-D72","v":48},{"$f":"0","v":0}]
["2024-04-23T15:30:00",7,11,30,0,6,2,25,0,12,21,42,0,48,null,null,null,null,null,null,null,{"$f":"connected_load_plot+J73-B73","v":47},{"$f":"connected_load_plot+K73-C73","v":52},{"$f":"connected_load_plot+L73-D73","v":54},{"$f":"0","v":0}]
["2024-04-23T15:35:00",8,9,36,0,6,2,30,0,13,20,47,0,53,null,null,null,null,null,null,null,{"$f":"connected_load_plot+J74-B74","v":47},{"$f":"connected_load_plot+K74-C74","v":53},{"$f":"connected_load_plot+L74-D74","v":53},{"$f":"0","v":0}]
["2024-04-23T15:40:00",6,9,32,0,6,2,25,0,9,15,47,0,47,null,null,null,null,null,null,null,{"$f":"connected_load_plot+J75-B75","v":45},{"$f":"connected_load_plot+K75-C75","v":48},{"$f":"connected_load_plot+L75-D75","v":57},{"$f":"0","v":0}]
["2024-04-23T15:45:00",7,10,32,0,6,2,26,0,12,21,43,0,49,null,null,null,null,null,null,null,{"$f":"connected_load_plot+J76-B76","v":47},{"$f":"connected_load_plot+K76-C76","v":53},{"$f":"connected_load_plot+L76-D76","v":53},{"$f":"0","v":0}]
["2024-04-23T15:50:00",7,11,35,0,6,3,26,0,13,22,43,0,53,null,null,null,null,null,null,null,{"$f":"connected_load_plot+J77-B77","v":48},{"$f":"connected_load_plot+K77-C77","v":53},{"$f":"connected_load_plot+L77-D77","v":50},{"$f":"0","v":0}]
["2024-04-23T15:55:00",8,10,32,0,6,3,25,0,18,22,44,0,50,null,null,null,null,null,null,null,{"$f":"connected_load_plot+J78-B78","v":52},{"$f":"connected_load_plot+K78-C78","v":54},{"$f":"connected_load_plot+L78-D78","v":54},{"$f":"0","v":0}]
["2024-04-23T16:00:00",6,10,33,0,6,3,25,0,11,16,42,0,49,null,null,null,null,null,null,null,{"$f":"connected_load_plot+J79-B79","v":47},{"$f":"connected_load_plot+K79-C79","v":48},{"$f":"connected_load_plot+L79-D79","v":51},{"$f":"0","v":0}]
["2024-04-23T16:05:00",7,14,31,0,6,3,25,0,13,24,37,0,52,null,null,null,null,null,null,null,{"$f":"connected_load_plot+J80-B80","v":48},{"$f":"connected_load_plot+K80-C80","v":52},{"$f":"connected_load_plot+L80-D80","v":48},{"$f":"0","v":0}]
["2024-04-23T16:10:00",7,14,35,0,6,3,25,0,13,24,45,0,56,null,null,null,null,null,null,null,{"$f":"connected_load_plot+J81-B81","v":48},{"$f":"connected_load_plot+K81-C81","v":52},{"$f":"connected_load_plot+L81-D81","v":52},{"$f":"0","v":0}]
["2024-04-23T16:15:00",8,12,33,0,6,3,24,0,13,26,40,0,53,null,null,null,null,null,null,null,{"$f":"connected_load_plot+J82-B82","v":47},{"$f":"connected_load_plot+K82-C82","v":56},{"$f":"connected_load_plot+L82-D82","v":49},{"$f":"0","v":0}]
["2024-04-23T16:20:00",6,12,35,0,6,3,25,0,13,26,47,0,53,null,null,null,null,null,null,null,{"$f":"connected_load_plot+J83-B83","v":49},{"$f":"connected_load_plot+K83-C83","v":56},{"$f":"connected_load_plot+L83-D83","v":54},{"$f":"0","v":0}]
["2024-04-23T16:25:00",7,12,31,0,6,3,25,0,13,22,39,0,50,null,null,null,null,null,null,null,{"$f":"connected_load_plot+J84-B84","v":48},{"$f":"connected_load_plot+K84-C84","v":52},{"$f":"connected_load_plot+L84-D84","v":50},{"$f":"0","v":0}]
["2024-04-23T16:30:00",6,12,35,0,5,3,25,0,12,16,47,0,53,null,null,null,null,null,null,null,{"$f":"connected_load_plot+J85-B85","v":48},{"$f":"connected_load_plot+K85-C85","v":46},{"$f":"connected_load_plot+L85-D85","v":54},{"$f":"0","v":0}]
["2024-04-23T16:35:00",8,11,30,0,5,3,25,0,18,16,41,0,49,null,null,null,null,null,null,null,{"$f":"connected_load_plot+J86-B86","v":52},{"$f":"connected_load_plot+K86-C86","v":47},{"$f":"connected_load_plot+L86-D86","v":53},{"$f":"0","v":0}]
["2024-04-23T16:40:00",6,10,31,0,5,3,25,0,12,16,41,0,47,null,null,null,null,null,null,null,{"$f":"connected_load_plot+J87-B87","v":48},{"$f":"connected_load_plot+K87-C87","v":48},{"$f":"connected_load_plot+L87-D87","v":52},{"$f":"0","v":0}]
["2024-04-23T16:45:00",6,12,31,0,5,3,24,0,12,16,41,0,49,null,null,null,null,null,null,null,{"$f":"connected_load_plot+J88-B88","v":48},{"$f":"connected_load_plot+K88-C88","v":46},{"$f":"connected_load_plot+L88-D88","v":52},{"$f":"0","v":0}]
["2024-04-23T16:50:00",5,11,30,0,5,3,24,0,8,18,37,0,46,null,null,null,null,null,null,null,{"$f":"connected_load_plot+J89-B89","v":45},{"$f":"connected_load_plot+K89-C89","v":49},{"$f":"connected_load_plot+L89-D89","v":49},{"$f":"0","v":0}]
["2024-04-23T16:55:00",7,11,29,0,5,3,24,0,13,24,36,0,47,null,null,null,null,null,null,null,{"$f":"connected_load_plot+J90-B90","v":48},{"$f":"connected_load_plot+K90-C90","v":55},{"$f":"connected_load_plot+L90-D90","v":49},{"$f":"0","v":0}]
["2024-04-23T17:00:00",8,12,32,0,6,3,24,0,18,22,42,0,52,null,null,null,null,null,null,null,{"$f":"connected_load_plot+J91-B91","v":52},{"$f":"connected_load_plot+K91-C91","v":52},{"$f":"connected_load_plot+L91-D91","v":52},{"$f":"0","v":0}]
["2024-04-23T17:05:00",6,13,30,0,5,3,24,0,18,22,46,0,49,null,null,null,null,null,null,null,{"$f":"connected_load_plot+J92-B92","v":54},{"$f":"connected_load_plot+K92-C92","v":51},{"$f":"connected_load_plot+L92-D92","v":58},{"$f":"0","v":0}]
["2024-04-23T17:10:00",6,9,31,0,5,3,24,0,12,22,41,0,46,null,null,null,null,null,null,null,{"$f":"connected_load_plot+J93-B93","v":48},{"$f":"connected_load_plot+K93-C93","v":55},{"$f":"connected_load_plot+L93-D93","v":52},{"$f":"0","v":0}]
["2024-04-23T17:15:00",7,11,33,0,5,3,24,0,12,22,42,0,51,null,null,null,null,null,null,null,{"$f":"connected_load_plot+J94-B94","v":47},{"$f":"connected_load_plot+K94-C94","v":53},{"$f":"connected_load_plot+L94-D94","v":51},{"$f":"0","v":0}]
["2024-04-23T17:20:00",8,13,28,0,5,3,23,0,18,22,31,0,49,null,null,null,null,null,null,null,{"$f":"connected_load_plot+J95-B95","v":52},{"$f":"connected_load_plot+K95-C95","v":51},{"$f":"connected_load_plot+L95-D95","v":45},{"$f":"0","v":0}]
["2024-04-23T17:25:00",6,13,28,0,5,3,24,0,13,23,38,0,47,null,null,null,null,null,null,null,{"$f":"connected_load_plot+J96-B96","v":49},{"$f":"connected_load_plot+K96-C96","v":52},{"$f":"connected_load_plot+L96-D96","v":52},{"$f":"0","v":0}]
["2024-04-23T17:30:00",6,15,31,0,6,4,25,0,13,26,42,0,52,null,null,null,null,null,null,null,{"$f":"connected_load_plot+J97-B97","v":49},{"$f":"connected_load_plot+K97-C97","v":53},{"$f":"connected_load_plot+L97-D97","v":53},{"$f":"0","v":0}]
["2024-04-23T17:35:00",7,11,31,0,6,4,25,0,13,23,39,0,49,null,null,null,null,null,null,null,{"$f":"connected_load_plot+J98-B98","v":48},{"$f":"connected_load_plot+K98-C98","v":54},{"$f":"connected_load_plot+L98-D98","v":50},{"$f":"0","v":0}]
["2024-04-23T17:40:00",8,15,31,0,5,4,26,0,18,25,37,0,54,null,null,null,null,null,null,null,{"$f":"connected_load_plot+J99-B99","v":52},{"$f":"connected_load_plot+K99-C99","v":52},{"$f":"connected_load_plot+L99-D99","v":48},{"$f":"0","v":0}]
["2024-04-23T17:45:00",10,11,32,0,5,4,26,0,18,24,46,0,53,null,null,null,null,null,null,null,{"$f":"connected_load_plot+J100-B100","v":50},{"$f":"connected_load_plot+K100-C100","v":55},{"$f":"connected_load_plot+L100-D100","v":56},{"$f":"0","v":0}]
["2024-04-23T17:50:00",13,11,38,0,11,3,27,0,18,20,48,0,62,null,null,null,null,null,null,null,{"$f":"connected_load_plot+J101-B101","v":47},{"$f":"connected_load_plot+K101-C101","v":51},{"$f":"connected_load_plot+L101-D101","v":52},{"$f":"0","v":0}]
["2024-04-23T17:55:00",12,9,36,0,12,3,26,0,19,23,52,0,57,null,null,null,null,null,null,null,{"$f":"connected_load_plot+J102-B102","v":49},{"$f":"connected_load_plot+K102-C102","v":56},{"$f":"connected_load_plot+L102-D102","v":58},{"$f":"0","v":0}]
["2024-04-23T18:00:00",14,9,33,0,12,3,26,0,24,23,44,0,56,null,null,null,null,null,null,null,{"$f":"connected_load_plot+J103-B103","v":52},{"$f":"connected_load_plot+K103-C103","v":56},{"$f":"connected_load_plot+L103-D103","v":53},{"$f":"0","v":0}]
["2024-04-23T18:05:00",13,12,31,0,12,4,26,0,19,17,37,0,56,null,null,null,null,null,null,null,{"$f":"connected_load_plot+J104-B104","v":48},{"$f":"connected_load_plot+K104-C104","v":47},{"$f":"connected_load_plot+L104-D104","v":48},{"$f":"0","v":0}]
["2024-04-23T18:10:00",13,11,31,0,12,4,25,0,19,17,38,0,55,null,null,null,null,null,null,null,{"$f":"connected_load_plot+J105-B105","v":48},{"$f":"connected_load_plot+K105-C105","v":48},{"$f":"connected_load_plot+L105-D105","v":49},{"$f":"0","v":0}]
["2024-04-23T18:15:00",12,10,33,0,12,4,26,0,14,24,43,0,55,null,null,null,null,null,null,null,{"$f":"connected_load_plot+J106-B106","v":44},{"$f":"connected_load_plot+K106-C106","v":56},{"$f":"connected_load_plot+L106-D106","v":52},{"$f":"0","v":0}]
["2024-04-23T18:20:00",14,12,31,0,12,4,26,0,30,24,39,0,57,null,null,null,null,null,null,null,{"$f":"connected_load_plot+J107-B107","v":58},{"$f":"connected_load_plot+K107-C107","v":54},{"$f":"connected_load_plot+L107-D107","v":50},{"$f":"0","v":0}]
["2024-04-23T18:25:00",14,11,31,0,12,4,26,0,20,18,38,0,56,null,null,null,null,null,null,null,{"$f":"connected_load_plot+J108-B108","v":48},{"$f":"connected_load_plot+K108-C108","v":49},{"$f":"connected_load_plot+L108-D108","v":49},{"$f":"0","v":0}]
["2024-04-23T18:30:00",13,11,31,0,12,4,26,0,19,24,38,0,55,null,null,null,null,null,null,null,{"$f":"connected_load_plot+J109-B109","v":48},{"$f":"connected_load_plot+K109-C109","v":55},{"$f":"connected_load_plot+L109-D109","v":49},{"$f":"0","v":0}]
["2024-04-23T18:35:00",12,11,33,0,12,4,26,0,18,17,44,0,56,null,null,null,null,null,null,null,{"$f":"connected_load_plot+J110-B110","v":48},{"$f":"connected_load_plot+K110-C110","v":48},{"$f":"connected_load_plot+L110-D110","v":53},{"$f":"0","v":0}]
["2024-04-23T18:40:00",13,11,33,0,12,4,26,0,19,18,44,0,57,null,null,null,null,null,null,null,{"$f":"connected_load_plot+J111-B111","v":48},{"$f":"connected_load_plot+K111-C111","v":49},{"$f":"connected_load_plot+L111-D111","v":53},{"$f":"0","v":0}]
["2024-04-23T18:45:00",16,12,33,0,12,4,27,0,20,24,40,0,61,null,null,null,null,null,null,null,{"$f":"connected_load_plot+J112-B112","v":46},{"$f":"connected_load_plot+K112-C112","v":54},{"$f":"connected_load_plot+L112-D112","v":49},{"$f":"0","v":0}]
["2024-04-23T18:50:00",20,11,33,0,12,4,27,0,33,24,45,0,64,null,null,null,null,null,null,null,{"$f":"connected_load_plot+J113-B113","v":55},{"$f":"connected_load_plot+K113-C113","v":55},{"$f":"connected_load_plot+L113-D113","v":54},{"$f":"0","v":0}]
["2024-04-23T18:55:00",15,11,36,0,12,4,31,0,20,17,45,0,62,null,null,null,null,null,null,null,{"$f":"connected_load_plot+J114-B114","v":47},{"$f":"connected_load_plot+K114-C114","v":48},{"$f":"connected_load_plot+L114-D114","v":51},{"$f":"0","v":0}]
["2024-04-23T19:00:00",18,10,32,0,12,4,26,0,25,18,44,0,60,null,null,null,null,null,null,null,{"$f":"connected_load_plot+J115-B115","v":49},{"$f":"connected_load_plot+K115-C115","v":50},{"$f":"connected_load_plot+L115-D115","v":54},{"$f":"0","v":0}]
["2024-04-23T19:05:00",14,11,35,0,12,4,27,0,20,18,45,0,60,null,null,null,null,null,null,null,{"$f":"connected_load_plot+J116-B116","v":48},{"$f":"connected_load_plot+K116-C116","v":49},{"$f":"connected_load_plot+L116-D116","v":52},{"$f":"0","v":0}]
["2024-04-23T19:10:00",18,12,32,0,7,4,27,0,25,17,44,0,62,null,null,null,null,null,null,null,{"$f":"connected_load_plot+J117-B117","v":49},{"$f":"connected_load_plot+K117-C117","v":47},{"$f":"connected_load_plot+L117-D117","v":54},{"$f":"0","v":0}]
["2024-04-23T19:15:00",21,13,35,0,12,10,26,0,25,23,44,0,69,null,null,null,null,null,null,null,{"$f":"connected_load_plot+J118-B118","v":46},{"$f":"connected_load_plot+K118-C118","v":52},{"$f":"connected_load_plot+L118-D118","v":51},{"$f":"0","v":0}]
["2024-04-23T19:20:00",23,14,31,0,18,10,26,0,31,24,39,0,68,null,null,null,null,null,null,null,{"$f":"connected_load_plot+J119-B119","v":50},{"$f":"connected_load_plot+K119-C119","v":52},{"$f":"connected_load_plot+L119-D119","v":50},{"$f":"0","v":0}]
["2024-04-23T19:25:00",19,12,36,0,13,9,25,0,26,17,48,0,67,null,null,null,null,null,null,null,{"$f":"connected_load_plot+J120-B120","v":49},{"$f":"connected_load_plot+K120-C120","v":47},{"$f":"connected_load_plot+L120-D120","v":54},{"$f":"0","v":0}]
["2024-04-23T19:30:00",20,12,29,0,12,9,25,0,31,17,36,0,61,null,null,null,null,null,null,null,{"$f":"connected_load_plot+J121-B121","v":53},{"$f":"connected_load_plot+K121-C121","v":47},{"$f":"connected_load_plot+L121-D121","v":49},{"$f":"0","v":0}]
["2024-04-23T19:35:00",19,12,32,0,12,9,25,0,25,17,41,0,63,null,null,null,null,null,null,null,{"$f":"connected_load_plot+J122-B122","v":48},{"$f":"connected_load_plot+K122-C122","v":47},{"$f":"connected_load_plot+L122-D122","v":51},{"$f":"0","v":0}]
["2024-04-23T19:40:00",19,12,31,0,6,4,25,0,30,30,39,0,62,null,null,null,null,null,null,null,{"$f":"connected_load_plot+J123-B123","v":53},{"$f":"connected_load_plot+K123-C123","v":60},{"$f":"connected_load_plot+L123-D123","v":50},{"$f":"0","v":0}]
["2024-04-23T19:45:00",17,11,35,0,6,4,24,0,25,24,48,0,63,null,null,null,null,null,null,null,{"$f":"connected_load_plot+J124-B124","v":50},{"$f":"connected_load_plot+K124-C124","v":55},{"$f":"connected_load_plot+L124-D124","v":55},{"$f":"0","v":0}]
["2024-04-23T19:50:00",20,11,29,0,12,4,24,0,31,17,36,0,60,null,null,null,null,null,null,null,{"$f":"connected_load_plot+J125-B125","v":53},{"$f":"connected_load_plot+K125-C125","v":48},{"$f":"connected_load_plot+L125-D125","v":49},{"$f":"0","v":0}]
["2024-04-23T19:55:00",19,11,33,0,12,4,25,0,25,17,38,0,63,null,null,null,null,null,null,null,{"$f":"connected_load_plot+J126-B126","v":48},{"$f":"connected_load_plot+K126-C126","v":48},{"$f":"connected_load_plot+L126-D126","v":47},{"$f":"0","v":0}]
["2024-04-23T20:00:00",20,11,32,0,12,4,26,0,31,24,40,0,63,null,null,null,null,null,null,null,{"$f":"connected_load_plot+J127-B127","v":53},{"$f":"connected_load_plot+K127-C127","v":55},{"$f":"connected_load_plot+L127-D127","v":50},{"$f":"0","v":0}]
["2024-04-23T20:05:00",15,11,33,0,6,3,26,0,25,23,43,0,59,null,null,null,null,null,null,null,{"$f":"connected_load_plot+J128-B128","v":52},{"$f":"connected_load_plot+K128-C128","v":54},{"$f":"connected_load_plot+L128-D128","v":52},{"$f":"0","v":0}]
["2024-04-23T20:10:00",20,10,31,0,12,3,25,0,31,16,43,0,61,null,null,null,null,null,null,null,{"$f":"connected_load_plot+J129-B129","v":53},{"$f":"connected_load_plot+K129-C129","v":48},{"$f":"connected_load_plot+L129-D129","v":54},{"$f":"0","v":0}]
["2024-04-23T20:15:00",19,9,32,0,12,3,25,0,32,16,43,0,60,null,null,null,null,null,null,null,{"$f":"connected_load_plot+J130-B130","v":55},{"$f":"connected_load_plot+K130-C130","v":49},{"$f":"connected_load_plot+L130-D130","v":53},{"$f":"0","v":0}]
["2024-04-23T20:20:00",19,11,32,0,7,3,26,0,32,23,43,0,{"$f":"SUM(B131:D131)","v":62},null,null,null,null,null,null,null,{"$f":"connected_load_plot+J131-B131","v":55},{"$f":"connected_load_plot+K131-C131","v":54},{"$f":"connected_load_plot+L131-D131","v":53},{"$f":"0","v":0}]
["2024-04-23T20:25:00",17,10,31,0,7,3,25,0,27,21,37,0,58,null,null,null,null,null,null,null,{"$f":"connected_load_plot+J132-B132","v":52},{"$f":"connected_load_plot+K132-C132","v":53},{"$f":"connected_load_plot+L132-D132","v":48},{"$f":"0","v":0}]
["2024-04-23T20:30:00",15,11,32,0,7,3,26,0,25,17,41,0,58,null,null,null,null,null,null,null,{"$f":"connected_load_plot+J133-B133","v":52},{"$f":"connected_load_plot+K133-C133","v":48},{"$f":"connected_load_plot+L133-D133","v":51},{"$f":"0","v":0}]
["2024-04-23T20:35:00",14,10,36,0,7,4,27,0,20,18,52,0,60,null,null,null,null,null,null,null,{"$f":"connected_load_plot+J134-B134","v":48},{"$f":"connected_load_plot+K134-C134","v":50},{"$f":"connected_load_plot+L134-D134","v":58},{"$f":"0","v":0}]
["2024-04-23T20:40:00",13,12,34,0,7,4,27,0,26,24,52,0,59,null,null,null,null,null,null,null,{"$f":"connected_load_plot+J135-B135","v":55},{"$f":"connected_load_plot+K135-C135","v":54},{"$f":"connected_load_plot+L135-D135","v":60},{"$f":"0","v":0}]
["2024-04-23T20:45:00",14,12,33,0,8,4,26,0,21,23,44,0,59,null,null,null,null,null,null,null,{"$f":"connected_load_plot+J136-B136","v":49},{"$f":"connected_load_plot+K136-C136","v":53},{"$f":"connected_load_plot+L136-D136","v":53},{"$f":"0","v":0}]
["2024-04-23T20:50:00",15,10,34,0,7,4,26,0,25,17,44,0,59,null,null,null,null,null,null,null,{"$f":"connected_load_plot+J137-B137","v":52},{"$f":"connected_load_plot+K137-C137","v":49},{"$f":"connected_load_plot+L137-D137","v":52},{"$f":"0","v":0}]
["2024-04-23T20:55:00",16,10,33,0,7,4,26,0,26,17,43,0,59,null,null,null,null,null,null,null,{"$f":"connected_load_plot+J138-B138","v":52},{"$f":"connected_load_plot+K138-C138","v":49},{"$f":"connected_load_plot+L138-D138","v":52},{"$f":"0","v":0}]
["2024-04-23T21:00:00",20,12,31,0,13,4,26,0,26,23,39,0,63,null,null,null,null,null,null,null,{"$f":"connected_load_plot+J139-B139","v":48},{"$f":"connected_load_plot+K139-C139","v":53},{"$f":"connected_load_plot+L139-D139","v":50},{"$f":"0","v":0}]
["2024-04-23T21:05:00",19,14,32,0,13,4,26,0,26,31,44,0,65,null,null,null,null,null,null,null,{"$f":"connected_load_plot+J140-B140","v":49},{"$f":"connected_load_plot+K140-C140","v":59},{"$f":"connected_load_plot+L140-D140","v":54},{"$f":"0","v":0}]
["2024-04-23T21:10:00",18,11,32,0,12,4,26,0,31,17,43,0,61,null,null,null,null,null,null,null,{"$f":"connected_load_plot+J141-B141","v":55},{"$f":"connected_load_plot+K141-C141","v":48},{"$f":"connected_load_plot+L141-D141","v":53},{"$f":"0","v":0}]
["2024-04-23T21:15:00",16,12,33,0,7,4,26,0,25,17,43,0,61,null,null,null,null,null,null,null,{"$f":"connected_load_plot+J142-B142","v":51},{"$f":"connected_load_plot+K142-C142","v":47},{"$f":"connected_load_plot+L142-D142","v":52},{"$f":"0","v":0}]
["2024-04-23T21:20:00",14,10,33,0,6,4,26,0,25,18,44,0,57,null,null,null,null,null,null,null,{"$f":"connected_load_plot+J143-B143","v":53},{"$f":"connected_load_plot+K143-C143","v":50},{"$f":"connected_load_plot+L143-D143","v":53},{"$f":"0","v":0}]
["2024-04-23T21:25:00",12,13,33,0,7,4,26,0,19,24,44,0,58,null,null,null,null,null,null,null,{"$f":"connected_load_plot+J144-B144","v":49},{"$f":"connected_load_plot+K144-C144","v":53},{"$f":"connected_load_plot+L144-D144","v":53},{"$f":"0","v":0}]
["2024-04-23T21:30:00",15,13,33,0,7,4,26,0,25,25,43,0,61,null,null,null,null,null,null,null,{"$f":"connected_load_plot+J145-B145","v":52},{"$f":"connected_load_plot+K145-C145","v":54},{"$f":"connected_load_plot+L145-D145","v":52},{"$f":"0","v":0}]
["2024-04-23T21:35:00",12,11,32,0,6,4,26,0,19,24,47,0,55,null,null,null,null,null,null,null,{"$f":"connected_load_plot+J146-B146","v":49},{"$f":"connected_load_plot+K146-C146","v":55},{"$f":"connected_load_plot+L146-D146","v":57},{"$f":"0","v":0}]
["2024-04-23T21:40:00",13,11,32,0,7,4,26,0,25,18,40,0,56,null,null,null,null,null,null,null,{"$f":"connected_load_plot+J147-B147","v":54},{"$f":"connected_load_plot+K147-C147","v":49},{"$f":"connected_load_plot+L147-D147","v":50},{"$f":"0","v":0}]
["2024-04-23T21:45:00",14,14,31,0,6,4,25,0,25,24,38,0,59,null,null,null,null,null,null,null,{"$f":"connected_load_plot+J148-B148","v":53},{"$f":"connected_load_plot+K148-C148","v":52},{"$f":"connected_load_plot+L148-D148","v":49},{"$f":"0","v":0}]
["2024-04-23T21:50:00",13,11,31,0,6,4,24,0,19,24,38,0,55,null,null,null,null,null,null,null,{"$f":"connected_load_plot+J149-B149","v":48},{"$f":"connected_load_plot+K149-C149","v":55},{"$f":"connected_load_plot+L149-D149","v":49},{"$f":"0","v":0}]
["2024-04-23T21:55:00",18,11,31,0,7,4,24,0,35,17,41,0,60,null,null,null,null,null,null,null,{"$f":"connected_load_plot+J150-B150","v":59},{"$f":"connected_load_plot+K150-C150","v":48},{"$f":"connected_load_plot+L150-D150","v":52},{"$f":"0","v":0}]
["2024-04-23T22:00:00",16,12,31,0,7,3,24,0,29,23,41,0,59,null,null,null,null,null,null,null,{"$f":"connected_load_plot+J151-B151","v":55},{"$f":"connected_load_plot+K151-C151","v":53},{"$f":"connected_load_plot+L151-D151","v":52},{"$f":"0","v":0}]
["2024-04-23T22:05:00",14,11,35,0,8,3,29,0,26,23,47,0,60,null,null,null,null,null,null,null,{"$f":"connected_load_plot+J152-B152","v":54},{"$f":"connected_load_plot+K152-C152","v":54},{"$f":"connected_load_plot+L152-D152","v":54},{"$f":"0","v":0}]
["2024-04-23T22:10:00",13,9,35,0,8,3,28,0,21,16,47,0,57,null,null,null,null,null,null,null,{"$f":"connected_load_plot+J153-B153","v":50},{"$f":"connected_load_plot+K153-C153","v":49},{"$f":"connected_load_plot+L153-D153","v":54},{"$f":"0","v":0}]
["2024-04-23T22:15:00",16,10,35,0,8,3,24,0,26,16,50,0,61,null,null,null,null,null,null,null,{"$f":"connected_load_plot+J154-B154","v":52},{"$f":"connected_load_plot+K154-C154","v":48},{"$f":"connected_load_plot+L154-D154","v":57},{"$f":"0","v":0}]
["2024-04-23T22:20:00",13,10,35,0,8,3,25,0,21,22,52,0,58,null,null,null,null,null,null,null,{"$f":"connected_load_plot+J155-B155","v":50},{"$f":"connected_load_plot+K155-C155","v":54},{"$f":"connected_load_plot+L155-D155","v":59},{"$f":"0","v":0}]
["2024-04-23T22:25:00",14,10,36,0,7,3,26,0,27,23,49,0,60,null,null,null,null,null,null,null,{"$f":"connected_load_plot+J156-B156","v":55},{"$f":"connected_load_plot+K156-C156","v":55},{"$f":"connected_load_plot+L156-D156","v":55},{"$f":"0","v":0}]
["2024-04-23T22:30:00",14,12,36,0,7,3,26,0,26,22,49,0,62,null,null,null,null,null,null,null,{"$f":"connected_load_plot+J157-B157","v":54},{"$f":"connected_load_plot+K157-C157","v":52},{"$f":"connected_load_plot+L157-D157","v":55},{"$f":"0","v":0}]
["2024-04-23T22:35:00",13,15,37,0,7,4,27,0,20,23,46,0,65,null,null,null,null,null,null,null,{"$f":"connected_load_plot+J158-B158","v":49},{"$f":"connected_load_plot+K158-C158","v":50},{"$f":"connected_load_plot+L158-D158","v":51},{"$f":"0","v":0}]
["2024-04-23T22:40:00",14,16,39,0,7,9,33,0,26,30,51,0,69,null,null,null,null,null,null,null,{"$f":"connected_load_plot+J159-B159","v":54},{"$f":"connected_load_plot+K159-C159","v":56},{"$f":"connected_load_plot+L159-D159","v":54},{"$f":"0","v":0}]
["2024-04-23T22:45:00",14,19,36,0,7,10,27,0,20,29,45,0,69,null,null,null,null,null,null,null,{"$f":"connected_load_plot+J160-B160","v":48},{"$f":"connected_load_plot+K160-C160","v":52},{"$f":"connected_load_plot+L160-D160","v":51},{"$f":"0","v":0}]
["2024-04-23T22:50:00",12,17,34,0,6,9,27,0,25,30,44,0,63,null,null,null,null,null,null,null,{"$f":"connected_load_plot+J161-B161","v":55},{"$f":"connected_load_plot+K161-C161","v":55},{"$f":"connected_load_plot+L161-D161","v":52},{"$f":"0","v":0}]
["2024-04-23T22:55:00",12,16,38,0,7,10,33,0,19,23,51,0,66,null,null,null,null,null,null,null,{"$f":"connected_load_plot+J162-B162","v":49},{"$f":"connected_load_plot+K162-C162","v":49},{"$f":"connected_load_plot+L162-D162","v":55},{"$f":"0","v":0}]
["2024-04-23T23:00:00",14,18,38,0,7,9,27,0,25,29,50,0,70,null,null,null,null,null,null,null,{"$f":"connected_load_plot+J163-B163","v":53},{"$f":"connected_load_plot+K163-C163","v":53},{"$f":"connected_load_plot+L163-D163","v":54},{"$f":"0","v":0}]
["2024-04-23T23:05:00",12,18,37,0,7,10,27,0,20,30,45,0,67,null,null,null,null,null,null,null,{"$f":"connected_load_plot+J164-B164","v":50},{"$f":"connected_load_plot+K164-C164","v":54},{"$f":"connected_load_plot+L164-D164","v":50},{"$f":"0","v":0}]
["2024-04-23T23:10:00",18,16,37,0,7,9,27,0,33,29,51,0,71,null,null,null,null,null,null,null,{"$f":"connected_load_plot+J165-B165","v":57},{"$f":"connected_load_plot+K165-C165","v":55},{"$f":"connected_load_plot+L165-D165","v":56},{"$f":"0","v":0}]
["2024-04-23T23:15:00",9,18,35,0,7,10,27,0,14,24,44,0,62,null,null,null,null,null,null,null,{"$f":"connected_load_plot+J166-B166","v":47},{"$f":"connected_load_plot+K166-C166","v":48},{"$f":"connected_load_plot+L166-D166","v":51},{"$f":"0","v":0}]
["2024-04-23T23:20:00",9,18,35,0,6,10,27,0,19,30,44,0,62,null,null,null,null,null,null,null,{"$f":"connected_load_plot+J167-B167","v":52},{"$f":"connected_load_plot+K167-C167","v":54},{"$f":"connected_load_plot+L167-D167","v":51},{"$f":"0","v":0}]
["2024-04-23T23:25:00",9,17,37,0,6,10,27,0,14,30,51,0,63,null,null,null,null,null,null,null,{"$f":"connected_load_plot+J168-B168","v":47},{"$f":"connected_load_plot+K168-C168","v":55},{"$f":"connected_load_plot+L168-D168","v":56},{"$f":"0","v":0}]
["2024-04-23T23:30:00",10,17,36,0,7,10,27,0,20,30,45,0,63,null,null,null,null,null,null,null,{"$f":"connected_load_plot+J169-B169","v":52},{"$f":"connected_load_plot+K169-C169","v":55},{"$f":"connected_load_plot+L169-D169","v":51},{"$f":"0","v":0}]
["2024-04-23T23:35:00",9,16,38,0,6,10,27,0,14,23,50,0,63,null,null,null,null,null,null,null,{"$f":"connected_load_plot+J170-B170","v":47},{"$f":"connected_load_plot+K170-C170","v":49},{"$f":"connected_load_plot+L170-D170","v":54},{"$f":"0","v":0}]
["2024-04-23T23:40:00",11,14,36,0,6,9,26,0,18,18,49,0,61,null,null,null,null,null,null,null,{"$f":"connected_load_plot+J171-B171","v":49},{"$f":"connected_load_plot+K171-C171","v":46},{"$f":"connected_load_plot+L171-D171","v":55},{"$f":"0","v":0}]
["2024-04-23T23:45:00",10,15,32,0,6,9,26,0,18,23,45,0,57,null,null,null,null,null,null,null,{"$f":"connected_load_plot+J172-B172","v":50},{"$f":"connected_load_plot+K172-C172","v":50},{"$f":"connected_load_plot+L172-D172","v":55},{"$f":"0","v":0}]
["2024-04-23T23:50:00",10,12,34,0,6,8,26,0,21,23,43,0,56,null,null,null,null,null,null,null,{"$f":"connected_load_plot+J173-B173","v":53},{"$f":"connected_load_plot+K173-C173","v":53},{"$f":"connected_load_plot+L173-D173","v":51},{"$f":"0","v":0}]
["2024-04-23T23:55:00",10,12,41,0,6,8,26,0,25,22,54,0,63,null,null,null,null,null,null,null,{"$f":"connected_load_plot+J174-B174","v":57},{"$f":"connected_load_plot+K174-C174","v":52},{"$f":"connected_load_plot+L174-D174","v":55},{"$f":"0","v":0}]
["2024-04-24",10,12,40,0,6,8,27,0,14,15,51,0,62,null,null,null,null,null,null,null,{"$f":"connected_load_plot+J175-B175","v":46},{"$f":"connected_load_plot+K175-C175","v":45},{"$f":"connected_load_plot+L175-D175","v":53},{"$f":"0","v":0}]
["2024-04-24T00:05:00",10,13,35,0,6,8,25,0,19,22,44,0,58,null,null,null,null,null,null,null,{"$f":"connected_load_plot+J176-B176","v":51},{"$f":"connected_load_plot+K176-C176","v":51},{"$f":"connected_load_plot+L176-D176","v":51},{"$f":"0","v":0}]
["2024-04-24T00:10:00",8,12,37,0,6,8,26,0,13,21,48,0,57,null,null,null,null,null,null,null,{"$f":"connected_load_plot+J177-B177","v":47},{"$f":"connected_load_plot+K177-C177","v":51},{"$f":"connected_load_plot+L177-D177","v":53},{"$f":"0","v":0}]
["2024-04-24T00:15:00",9,7,34,0,6,3,25,0,18,15,45,0,50,null,null,null,null,null,null,null,{"$f":"connected_load_plot+J178-B178","v":51},{"$f":"connected_load_plot+K178-C178","v":50},{"$f":"connected_load_plot+L178-D178","v":53},{"$f":"0","v":0}]
["2024-04-24T00:20:00",8,7,36,0,5,3,25,0,13,10,49,0,51,null,null,null,null,null,null,null,{"$f":"connected_load_plot+J179-B179","v":47},{"$f":"connected_load_plot+K179-C179","v":45},{"$f":"connected_load_plot+L179-D179","v":55},{"$f":"0","v":0}]
["2024-04-24T00:25:00",11,8,33,0,6,3,25,0,20,16,43,0,52,null,null,null,null,null,null,null,{"$f":"connected_load_plot+J180-B180","v":51},{"$f":"connected_load_plot+K180-C180","v":50},{"$f":"connected_load_plot+L180-D180","v":52},{"$f":"0","v":0}]
["2024-04-24T00:30:00",11,8,38,0,6,3,30,0,18,16,49,0,57,null,null,null,null,null,null,null,{"$f":"connected_load_plot+J181-B181","v":49},{"$f":"connected_load_plot+K181-C181","v":50},{"$f":"connected_load_plot+L181-D181","v":53},{"$f":"0","v":0}]
["2024-04-24T00:35:00",8,7,37,0,6,3,26,0,18,10,50,0,52,null,null,null,null,null,null,null,{"$f":"connected_load_plot+J182-B182","v":52},{"$f":"connected_load_plot+K182-C182","v":45},{"$f":"connected_load_plot+L182-D182","v":55},{"$f":"0","v":0}]
["2024-04-24T00:40:00",9,7,38,0,5,3,30,0,18,10,50,0,54,null,null,null,null,null,null,null,{"$f":"connected_load_plot+J183-B183","v":51},{"$f":"connected_load_plot+K183-C183","v":45},{"$f":"connected_load_plot+L183-D183","v":54},{"$f":"0","v":0}]
["2024-04-24T00:45:00",9,8,34,0,6,3,26,0,18,16,49,0,51,null,null,null,null,null,null,null,{"$f":"connected_load_plot+J184-B184","v":51},{"$f":"connected_load_plot+K184-C184","v":50},{"$f":"connected_load_plot+L184-D184","v":57},{"$f":"0","v":0}]
["2024-04-24T00:50:00",10,9,38,0,6,3,27,0,19,16,51,0,57,null,null,null,null,null,null,null,{"$f":"connected_load_plot+J185-B185","v":51},{"$f":"connected_load_plot+K185-C185","v":49},{"$f":"connected_load_plot+L185-D185","v":55},{"$f":"0","v":0}]
["2024-04-24T00:55:00",9,7,37,0,6,3,27,0,13,10,51,0,53,null,null,null,null,null,null,null,{"$f":"connected_load_plot+J186-B186","v":46},{"$f":"connected_load_plot+K186-C186","v":45},{"$f":"connected_load_plot+L186-D186","v":56},{"$f":"0","v":0}]
["2024-04-24T01:00:00",8,7,38,0,5,3,27,0,16,10,51,0,53,null,null,null,null,null,null,null,{"$f":"connected_load_plot+J187-B187","v":50},{"$f":"connected_load_plot+K187-C187","v":45},{"$f":"connected_load_plot+L187-D187","v":55},{"$f":"0","v":0}]
["2024-04-24T01:05:00",9,8,36,0,5,3,27,0,12,16,47,0,53,null,null,null,null,null,null,null,{"$f":"connected_load_plot+J188-B188","v":45},{"$f":"connected_load_plot+K188-C188","v":50},{"$f":"connected_load_plot+L188-D188","v":53},{"$f":"0","v":0}]
["2024-04-24T01:10:00",10,9,39,0,5,3,26,0,18,17,49,0,58,null,null,null,null,null,null,null,{"$f":"connected_load_plot+J189-B189","v":50},{"$f":"connected_load_plot+K189-C189","v":50},{"$f":"connected_load_plot+L189-D189","v":52},{"$f":"0","v":0}]
["2024-04-24T01:15:00",8,8,37,0,5,3,27,0,13,16,50,0,53,null,null,null,null,null,null,null,{"$f":"connected_load_plot+J190-B190","v":47},{"$f":"connected_load_plot+K190-C190","v":50},{"$f":"connected_load_plot+L190-D190","v":55},{"$f":"0","v":0}]
["2024-04-24T01:20:00",9,8,40,0,5,3,33,0,18,16,55,0,57,null,null,null,null,null,null,null,{"$f":"connected_load_plot+J191-B191","v":51},{"$f":"connected_load_plot+K191-C191","v":50},{"$f":"connected_load_plot+L191-D191","v":57},{"$f":"0","v":0}]
["2024-04-24T01:25:00",16,7,35,0,6,2,26,0,22,11,48,0,58,null,null,null,null,null,null,null,{"$f":"connected_load_plot+J192-B192","v":48},{"$f":"connected_load_plot+K192-C192","v":46},{"$f":"connected_load_plot+L192-D192","v":55},{"$f":"0","v":0}]
["2024-04-24T01:30:00",10,8,37,0,6,2,27,0,21,15,44,0,55,null,null,null,null,null,null,null,{"$f":"connected_load_plot+J193-B193","v":53},{"$f":"connected_load_plot+K193-C193","v":49},{"$f":"connected_load_plot+L193-D193","v":49},{"$f":"0","v":0}]
["2024-04-24T01:35:00",10,7,34,0,6,2,26,0,18,15,45,0,51,null,null,null,null,null,null,null,{"$f":"connected_load_plot+J194-B194","v":50},{"$f":"connected_load_plot+K194-C194","v":50},{"$f":"connected_load_plot+L194-D194","v":53},{"$f":"0","v":0}]
["2024-04-24T01:40:00",10,7,38,0,6,2,25,0,18,15,49,0,{"$f":"SUM(B195:D195)","v":55},null,null,null,null,null,null,null,{"$f":"connected_load_plot+J195-B195","v":50},{"$f":"connected_load_plot+K195-C195","v":50},{"$f":"connected_load_plot+L195-D195","v":53},{"$f":"0","v":0}]
["2024-04-24T01:45:00",9,8,34,0,6,2,25,0,25,15,45,0,51,null,null,null,null,null,null,null,{"$f":"connected_load_plot+J196-B196","v":58},{"$f":"connected_load_plot+K196-C196","v":49},{"$f":"connected_load_plot+L196-D196","v":53},{"$f":"0","v":0}]
["2024-04-24T01:50:00",10,8,38,0,6,2,30,0,14,15,49,0,56,null,null,null,null,null,null,null,{"$f":"connected_load_plot+J197-B197","v":46},{"$f":"connected_load_plot+K197-C197","v":49},{"$f":"connected_load_plot+L197-D197","v":53},{"$f":"0","v":0}]
["2024-04-24T01:55:00",11,7,36,0,5,2,32,0,18,15,46,0,54,null,null,null,null,null,null,null,{"$f":"connected_load_plot+J198-B198","v":49},{"$f":"connected_load_plot+K198-C198","v":50},{"$f":"connected_load_plot+L198-D198","v":52},{"$f":"0","v":0}]
["2024-04-24T02:00:00",8,7,39,0,5,3,27,0,13,10,48,0,54,null,null,null,null,null,null,null,{"$f":"connected_load_plot+J199-B199","v":47},{"$f":"connected_load_plot+K199-C199","v":45},{"$f":"connected_load_plot+L199-D199","v":51},{"$f":"0","v":0}]
["2024-04-24T02:05:00",9,8,36,0,5,3,27,0,18,16,46,0,53,null,null,null,null,null,null,null,{"$f":"connected_load_plot+J200-B200","v":51},{"$f":"connected_load_plot+K200-C200","v":50},{"$f":"connected_load_plot+L200-D200","v":52},{"$f":"0","v":0}]
["2024-04-24T02:10:00",9,9,39,0,5,3,27,0,12,22,50,0,57,null,null,null,null,null,null,null,{"$f":"connected_load_plot+J201-B201","v":45},{"$f":"connected_load_plot+K201-C201","v":55},{"$f":"connected_load_plot+L201-D201","v":53},{"$f":"0","v":0}]
["2024-04-24T02:15:00",10,8,34,0,5,3,26,0,24,16,45,0,52,null,null,null,null,null,null,null,{"$f":"connected_load_plot+J202-B202","v":56},{"$f":"connected_load_plot+K202-C202","v":50},{"$f":"connected_load_plot+L202-D202","v":53},{"$f":"0","v":0}]
["2024-04-24T02:20:00",9,7,37,0,5,3,30,0,14,10,48,0,53,null,null,null,null,null,null,null,{"$f":"connected_load_plot+J203-B203","v":47},{"$f":"connected_load_plot+K203-C203","v":45},{"$f":"connected_load_plot+L203-D203","v":53},{"$f":"0","v":0}]
["2024-04-24T02:25:00",9,7,33,0,5,3,25,0,18,10,45,0,49,null,null,null,null,null,null,null,{"$f":"connected_load_plot+J204-B204","v":51},{"$f":"connected_load_plot+K204-C204","v":45},{"$f":"connected_load_plot+L204-D204","v":54},{"$f":"0","v":0}]
["2024-04-24T02:30:00",7,9,37,0,5,3,26,0,13,16,50,0,53,null,null,null,null,null,null,null,{"$f":"connected_load_plot+J205-B205","v":48},{"$f":"connected_load_plot+K205-C205","v":49},{"$f":"connected_load_plot+L205-D205","v":55},{"$f":"0","v":0}]
["2024-04-24T02:35:00",10,9,35,0,5,3,25,0,18,16,44,0,54,null,null,null,null,null,null,null,{"$f":"connected_load_plot+J206-B206","v":50},{"$f":"connected_load_plot+K206-C206","v":49},{"$f":"connected_load_plot+L206-D206","v":51},{"$f":"0","v":0}]
["2024-04-24T02:40:00",9,8,37,0,5,3,26,0,18,22,47,0,54,null,null,null,null,null,null,null,{"$f":"connected_load_plot+J207-B207","v":51},{"$f":"connected_load_plot+K207-C207","v":56},{"$f":"connected_load_plot+L207-D207","v":52},{"$f":"0","v":0}]
["2024-04-24T02:45:00",9,7,36,0,6,3,26,0,19,16,45,0,52,null,null,null,null,null,null,null,{"$f":"connected_load_plot+J208-B208","v":52},{"$f":"connected_load_plot+K208-C208","v":51},{"$f":"connected_load_plot+L208-D208","v":51},{"$f":"0","v":0}]
["2024-04-24T02:50:00",15,9,38,0,6,2,25,0,33,16,50,0,62,null,null,null,null,null,null,null,{"$f":"connected_load_plot+J209-B209","v":60},{"$f":"connected_load_plot+K209-C209","v":49},{"$f":"connected_load_plot+L209-D209","v":54},{"$f":"0","v":0}]
["2024-04-24T02:55:00",13,8,29,0,6,3,20,0,18,16,39,0,50,null,null,null,null,null,null,null,{"$f":"connected_load_plot+J210-B210","v":47},{"$f":"connected_load_plot+K210-C210","v":50},{"$f":"connected_load_plot+L210-D210","v":52},{"$f":"0","v":0}]
["2024-04-24T03:00:00",10,7,31,0,6,3,25,0,19,10,44,0,48,null,null,null,null,null,null,null,{"$f":"connected_load_plot+J211-B211","v":51},{"$f":"connected_load_plot+K211-C211","v":45},{"$f":"connected_load_plot+L211-D211","v":55},{"$f":"0","v":0}]
["2024-04-24T03:05:00",9,8,36,0,6,2,32,0,14,16,46,0,53,null,null,null,null,null,null,null,{"$f":"connected_load_plot+J212-B212","v":47},{"$f":"connected_load_plot+K212-C212","v":50},{"$f":"connected_load_plot+L212-D212","v":52},{"$f":"0","v":0}]
["2024-04-24T03:10:00",10,9,39,0,6,2,27,0,20,21,50,0,58,null,null,null,null,null,null,null,{"$f":"connected_load_plot+J213-B213","v":52},{"$f":"connected_load_plot+K213-C213","v":54},{"$f":"connected_load_plot+L213-D213","v":53},{"$f":"0","v":0}]
["2024-04-24T03:15:00",9,7,35,0,6,2,27,0,14,15,46,0,51,null,null,null,null,null,null,null,{"$f":"connected_load_plot+J214-B214","v":47},{"$f":"connected_load_plot+K214-C214","v":50},{"$f":"connected_load_plot+L214-D214","v":53},{"$f":"0","v":0}]
["2024-04-24T03:20:00",11,6,39,0,6,2,33,0,19,9,51,0,56,null,null,null,null,null,null,null,{"$f":"connected_load_plot+J215-B215","v":50},{"$f":"connected_load_plot+K215-C215","v":45},{"$f":"connected_load_plot+L215-D215","v":54},{"$f":"0","v":0}]
["2024-04-24T03:25:00",10,7,36,0,6,2,26,0,13,15,46,0,53,null,null,null,null,null,null,null,{"$f":"connected_load_plot+J216-B216","v":45},{"$f":"connected_load_plot+K216-C216","v":50},{"$f":"connected_load_plot+L216-D216","v":52},{"$f":"0","v":0}]
["2024-04-24T03:30:00",9,8,38,0,6,2,26,0,19,15,48,0,55,null,null,null,null,null,null,null,{"$f":"connected_load_plot+J217-B217","v":52},{"$f":"connected_load_plot+K217-C217","v":49},{"$f":"connected_load_plot+L217-D217","v":52},{"$f":"0","v":0}]
["2024-04-24T03:35:00",8,7,34,0,6,2,25,0,13,15,45,0,49,null,null,null,null,null,null,null,{"$f":"connected_load_plot+J218-B218","v":47},{"$f":"connected_load_plot+K218-C218","v":50},{"$f":"connected_load_plot+L218-D218","v":53},{"$f":"0","v":0}]
["2024-04-24T03:40:00",12,8,36,0,6,3,25,0,19,22,49,0,56,null,null,null,null,null,null,null,{"$f":"connected_load_plot+J219-B219","v":49},{"$f":"connected_load_plot+K219-C219","v":56},{"$f":"connected_load_plot+L219-D219","v":55},{"$f":"0","v":0}]
["2024-04-24T03:45:00",9,8,34,0,6,3,25,0,14,16,43,0,51,null,null,null,null,null,null,null,{"$f":"connected_load_plot+J220-B220","v":47},{"$f":"connected_load_plot+K220-C220","v":50},{"$f":"connected_load_plot+L220-D220","v":51},{"$f":"0","v":0}]
["2024-04-24T03:50:00",9,9,38,0,6,3,25,0,19,16,49,0,56,null,null,null,null,null,null,null,{"$f":"connected_load_plot+J221-B221","v":52},{"$f":"connected_load_plot+K221-C221","v":49},{"$f":"connected_load_plot+L221-D221","v":53},{"$f":"0","v":0}]
["2024-04-24T03:55:00",9,8,36,0,6,3,26,0,13,16,46,0,53,null,null,null,null,null,null,null,{"$f":"connected_load_plot+J222-B222","v":46},{"$f":"connected_load_plot+K222-C222","v":50},{"$f":"connected_load_plot+L222-D222","v":52},{"$f":"0","v":0}]
["2024-04-24T04:00:00",11,7,39,0,6,3,26,0,19,16,50,0,57,null,null,null,null,null,null,null,{"$f":"connected_load_plot+J223-B223","v":50},{"$f":"connected_load_plot+K223-C223","v":51},{"$f":"connected_load_plot+L223-D223","v":53},{"$f":"0","v":0}]
["2024-04-24T04:05:00",9,9,31,0,6,3,21,0,19,16,44,0,49,null,null,null,null,null,null,null,{"$f":"connected_load_plot+J224-B224","v":52},{"$f":"connected_load_plot+K224-C224","v":49},{"$f":"connected_load_plot+L224-D224","v":55},{"$f":"0","v":0}]
["2024-04-24T04:10:00",11,9,35,0,7,3,27,0,20,22,50,0,55,null,null,null,null,null,null,null,{"$f":"connected_load_plot+J225-B225","v":51},{"$f":"connected_load_plot+K225-C225","v":55},{"$f":"connected_load_plot+L225-D225","v":57},{"$f":"0","v":0}]
["2024-04-24T04:15:00",9,7,36,0,6,3,26,0,19,16,45,0,52,null,null,null,null,null,null,null,{"$f":"connected_load_plot+J226-B226","v":52},{"$f":"connected_load_plot+K226-C226","v":51},{"$f":"connected_load_plot+L226-D226","v":51},{"$f":"0","v":0}]
["2024-04-24T04:20:00",9,8,34,0,6,3,26,0,19,16,44,0,51,null,null,null,null,null,null,null,{"$f":"connected_load_plot+J227-B227","v":52},{"$f":"connected_load_plot+K227-C227","v":50},{"$f":"connected_load_plot+L227-D227","v":52},{"$f":"0","v":0}]
["2024-04-24T04:25:00",10,9,35,0,5,3,32,0,24,16,50,0,54,null,null,null,null,null,null,null,{"$f":"connected_load_plot+J228-B228","v":56},{"$f":"connected_load_plot+K228-C228","v":49},{"$f":"connected_load_plot+L228-D228","v":57},{"$f":"0","v":0}]
["2024-04-24T04:30:00",9,8,38,0,5,3,26,0,13,16,50,0,55,null,null,null,null,null,null,null,{"$f":"connected_load_plot+J229-B229","v":46},{"$f":"connected_load_plot+K229-C229","v":50},{"$f":"connected_load_plot+L229-D229","v":54},{"$f":"0","v":0}]
["2024-04-24T04:35:00",8,9,36,0,5,3,26,0,18,16,44,0,53,null,null,null,null,null,null,null,{"$f":"connected_load_plot+J230-B230","v":52},{"$f":"connected_load_plot+K230-C230","v":49},{"$f":"connected_load_plot+L230-D230","v":50},{"$f":"0","v":0}]
["2024-04-24T04:40:00",7,8,38,0,5,2,26,0,13,16,51,0,53,null,null,null,null,null,null,null,{"$f":"connected_load_plot+J231-B231","v":48},{"$f":"connected_load_plot+K231-C231","v":50},{"$f":"connected_load_plot+L231-D231","v":55},{"$f":"0","v":0}]
["2024-04-24T04:45:00",10,7,38,0,5,2,26,0,18,15,51,0,55,null,null,null,null,null,null,null,{"$f":"connected_load_plot+J232-B232","v":50},{"$f":"connected_load_plot+K232-C232","v":50},{"$f":"connected_load_plot+L232-D232","v":55},{"$f":"0","v":0}]
["2024-04-24T04:50:00",8,8,36,0,5,2,26,0,12,16,46,0,52,null,null,null,null,null,null,null,{"$f":"connected_load_plot+J233-B233","v":46},{"$f":"connected_load_plot+K233-C233","v":50},{"$f":"connected_load_plot+L233-D233","v":52},{"$f":"0","v":0}]
["2024-04-24T04:55:00",8,7,37,0,5,2,31,0,18,15,50,0,52,null,null,null,null,null,null,null,{"$f":"connected_load_plot+J234-B234","v":52},{"$f":"connected_load_plot+K234-C234","v":50},{"$f":"connected_load_plot+L234-D234","v":55},{"$f":"0","v":0}]
["2024-04-24T05:00:00",8,6,36,0,5,2,32,0,18,15,45,0,50,null,null,null,null,null,null,null,{"$f":"connected_load_plot+J235-B235","v":52},{"$f":"connected_load_plot+K235-C235","v":51},{"$f":"connected_load_plot+L235-D235","v":51},{"$f":"0","v":0}]
["2024-04-24T05:05:00",10,9,35,0,5,2,26,0,24,21,44,0,54,null,null,null,null,null,null,null,{"$f":"connected_load_plot+J236-B236","v":56},{"$f":"connected_load_plot+K236-C236","v":54},{"$f":"connected_load_plot+L236-D236","v":51},{"$f":"0","v":0}]
["2024-04-24T05:10:00",9,8,32,0,6,2,20,0,14,16,45,0,49,null,null,null,null,null,null,null,{"$f":"connected_load_plot+J237-B237","v":47},{"$f":"connected_load_plot+K237-C237","v":50},{"$f":"connected_load_plot+L237-D237","v":55},{"$f":"0","v":0}]
["2024-04-24T05:15:00",12,7,35,0,6,3,25,0,19,11,49,0,54,null,null,null,null,null,null,null,{"$f":"connected_load_plot+J238-B238","v":49},{"$f":"connected_load_plot+K238-C238","v":46},{"$f":"connected_load_plot+L238-D238","v":56},{"$f":"0","v":0}]
["2024-04-24T05:20:00",9,10,38,0,6,3,26,0,19,16,54,0,57,null,null,null,null,null,null,null,{"$f":"connected_load_plot+J239-B239","v":52},{"$f":"connected_load_plot+K239-C239","v":48},{"$f":"connected_load_plot+L239-D239","v":58},{"$f":"0","v":0}]
["2024-04-24T05:25:00",8,9,38,0,6,3,30,0,13,16,45,0,55,null,null,null,null,null,null,null,{"$f":"connected_load_plot+J240-B240","v":47},{"$f":"connected_load_plot+K240-C240","v":49},{"$f":"connected_load_plot+L240-D240","v":49},{"$f":"0","v":0}]
["2024-04-24T05:30:00",11,9,38,0,6,3,32,0,19,22,50,0,58,null,null,null,null,null,null,null,{"$f":"connected_load_plot+J241-B241","v":50},{"$f":"connected_load_plot+K241-C241","v":55},{"$f":"connected_load_plot+L241-D241","v":54},{"$f":"0","v":0}]
["2024-04-24T05:35:00",9,8,40,0,6,3,27,0,13,16,51,0,57,null,null,null,null,null,null,null,{"$f":"connected_load_plot+J242-B242","v":46},{"$f":"connected_load_plot+K242-C242","v":50},{"$f":"connected_load_plot+L242-D242","v":53},{"$f":"0","v":0}]
["2024-04-24T05:40:00",9,8,36,0,6,3,26,0,19,16,45,0,53,null,null,null,null,null,null,null,{"$f":"connected_load_plot+J243-B243","v":52},{"$f":"connected_load_plot+K243-C243","v":50},{"$f":"connected_load_plot+L243-D243","v":51},{"$f":"0","v":0}]
["2024-04-24T05:45:00",9,9,40,0,6,3,26,0,19,16,50,0,58,null,null,null,null,null,null,null,{"$f":"connected_load_plot+J244-B244","v":52},{"$f":"connected_load_plot+K244-C244","v":49},{"$f":"connected_load_plot+L244-D244","v":52},{"$f":"0","v":0}]
["2024-04-24T05:50:00",11,9,37,0,5,3,26,0,19,16,47,0,57,null,null,null,null,null,null,null,{"$f":"connected_load_plot+J245-B245","v":50},{"$f":"connected_load_plot+K245-C245","v":49},{"$f":"connected_load_plot+L245-D245","v":52},{"$f":"0","v":0}]
["2024-04-24T05:55:00",8,8,37,0,5,3,26,0,13,16,44,0,53,null,null,null,null,null,null,null,{"$f":"connected_load_plot+J246-B246","v":47},{"$f":"connected_load_plot+K246-C246","v":50},{"$f":"connected_load_plot+L246-D246","v":49},{"$f":"0","v":0}]
["2024-04-24T06:00:00",9,8,36,0,5,3,32,0,17,16,46,0,53,null,null,null,null,null,null,null,{"$f":"connected_load_plot+J247-B247","v":50},{"$f":"connected_load_plot+K247-C247","v":50},{"$f":"connected_load_plot+L247-D247","v":52},{"$f":"0","v":0}]
["2024-04-24T06:05:00",8,9,39,0,4,3,27,0,17,16,51,0,56,null,null,null,null,null,null,null,{"$f":"connected_load_plot+J248-B248","v":51},{"$f":"connected_load_plot+K248-C248","v":49},{"$f":"connected_load_plot+L248-D248","v":54},{"$f":"0","v":0}]
["2024-04-24T06:10:00",7,9,36,0,4,3,27,0,17,16,41,0,52,null,null,null,null,null,null,null,{"$f":"connected_load_plot+J249-B249","v":52},{"$f":"connected_load_plot+K249-C249","v":49},{"$f":"connected_load_plot+L249-D249","v":47},{"$f":"0","v":0}]
["2024-04-24T06:15:00",9,8,41,0,4,2,32,0,17,16,51,0,58,null,null,null,null,null,null,null,{"$f":"connected_load_plot+J250-B250","v":50},{"$f":"connected_load_plot+K250-C250","v":50},{"$f":"connected_load_plot+L250-D250","v":52},{"$f":"0","v":0}]
["2024-04-24T06:20:00",10,8,35,0,5,2,26,0,17,15,45,0,53,null,null,null,null,null,null,null,{"$f":"connected_load_plot+J251-B251","v":49},{"$f":"connected_load_plot+K251-C251","v":49},{"$f":"connected_load_plot+L251-D251","v":52},{"$f":"0","v":0}]
["2024-04-24T06:25:00",7,9,37,0,4,2,26,0,13,21,47,0,53,null,null,null,null,null,null,null,{"$f":"connected_load_plot+J252-B252","v":48},{"$f":"connected_load_plot+K252-C252","v":54},{"$f":"connected_load_plot+L252-D252","v":52},{"$f":"0","v":0}]
["2024-04-24T06:30:00",7,7,37,0,4,2,32,0,16,15,45,0,51,null,null,null,null,null,null,null,{"$f":"connected_load_plot+J253-B253","v":51},{"$f":"connected_load_plot+K253-C253","v":50},{"$f":"connected_load_plot+L253-D253","v":50},{"$f":"0","v":0}]
["2024-04-24T06:35:00",8,9,38,0,4,2,31,0,12,15,49,0,55,null,null,null,null,null,null,null,{"$f":"connected_load_plot+J254-B254","v":46},{"$f":"connected_load_plot+K254-C254","v":48},{"$f":"connected_load_plot+L254-D254","v":53},{"$f":"0","v":0}]
["2024-04-24T06:40:00",11,7,35,0,4,2,25,0,19,15,39,0,53,null,null,null,null,null,null,null,{"$f":"connected_load_plot+J255-B255","v":50},{"$f":"connected_load_plot+K255-C255","v":50},{"$f":"connected_load_plot+L255-D255","v":46},{"$f":"0","v":0}]
["2024-04-24T06:45:00",7,8,42,0,5,2,32,0,17,16,54,0,57,null,null,null,null,null,null,null,{"$f":"connected_load_plot+J256-B256","v":52},{"$f":"connected_load_plot+K256-C256","v":50},{"$f":"connected_load_plot+L256-D256","v":54},{"$f":"0","v":0}]
["2024-04-24T06:50:00",9,10,35,0,5,3,27,0,17,22,46,0,54,null,null,null,null,null,null,null,{"$f":"connected_load_plot+J257-B257","v":50},{"$f":"connected_load_plot+K257-C257","v":54},{"$f":"connected_load_plot+L257-D257","v":53},{"$f":"0","v":0}]
["2024-04-24T06:55:00",8,9,37,0,5,3,27,0,18,22,44,0,54,null,null,null,null,null,null,null,{"$f":"connected_load_plot+J258-B258","v":52},{"$f":"connected_load_plot+K258-C258","v":55},{"$f":"connected_load_plot+L258-D258","v":49},{"$f":"0","v":0}]
["2024-04-24T07:00:00",9,8,36,0,4,3,33,0,17,16,46,0,{"$f":"SUM(B259:D259)","v":53},null,null,null,null,null,null,null,{"$f":"connected_load_plot+J259-B259","v":50},{"$f":"connected_load_plot+K259-C259","v":50},{"$f":"connected_load_plot+L259-D259","v":52},{"$f":"0","v":0}]
["2024-04-24T07:05:00",11,9,40,0,4,3,33,0,24,16,56,0,60,null,null,null,null,null,null,null,{"$f":"connected_load_plot+J260-B260","v":55},{"$f":"connected_load_plot+K260-C260","v":49},{"$f":"connected_load_plot+L260-D260","v":58},{"$f":"0","v":0}]
["2024-04-24T07:10:00",13,9,37,0,11,3,27,0,19,16,45,0,59,null,null,null,null,null,null,null,{"$f":"connected_load_plot+J261-B261","v":48},{"$f":"connected_load_plot+K261-C261","v":49},{"$f":"connected_load_plot+L261-D261","v":50},{"$f":"0","v":0}]
["2024-04-24T07:15:00",12,8,38,0,5,3,27,0,24,16,52,0,58,null,null,null,null,null,null,null,{"$f":"connected_load_plot+J262-B262","v":54},{"$f":"connected_load_plot+K262-C262","v":50},{"$f":"connected_load_plot+L262-D262","v":56},{"$f":"0","v":0}]
["2024-04-24T07:20:00",8,9,33,0,4,2,25,0,17,16,39,0,50,null,null,null,null,null,null,null,{"$f":"connected_load_plot+J263-B263","v":51},{"$f":"connected_load_plot+K263-C263","v":49},{"$f":"connected_load_plot+L263-D263","v":48},{"$f":"0","v":0}]
["2024-04-24T07:25:00",9,9,34,0,4,3,25,0,16,21,45,0,52,null,null,null,null,null,null,null,{"$f":"connected_load_plot+J264-B264","v":49},{"$f":"connected_load_plot+K264-C264","v":54},{"$f":"connected_load_plot+L264-D264","v":53},{"$f":"0","v":0}]
["2024-04-24T07:30:00",7,8,33,0,4,3,29,0,11,15,41,0,48,null,null,null,null,null,null,null,{"$f":"connected_load_plot+J265-B265","v":46},{"$f":"connected_load_plot+K265-C265","v":49},{"$f":"connected_load_plot+L265-D265","v":50},{"$f":"0","v":0}]
["2024-04-24T07:35:00",7,9,37,0,4,3,31,0,17,16,45,0,53,null,null,null,null,null,null,null,{"$f":"connected_load_plot+J266-B266","v":52},{"$f":"connected_load_plot+K266-C266","v":49},{"$f":"connected_load_plot+L266-D266","v":50},{"$f":"0","v":0}]
["2024-04-24T07:40:00",11,8,33,0,4,2,26,0,20,16,39,0,52,null,null,null,null,null,null,null,{"$f":"connected_load_plot+J267-B267","v":51},{"$f":"connected_load_plot+K267-C267","v":50},{"$f":"connected_load_plot+L267-D267","v":48},{"$f":"0","v":0}]
["2024-04-24T07:45:00",12,8,34,0,5,3,26,0,20,16,42,0,54,null,null,null,null,null,null,null,{"$f":"connected_load_plot+J268-B268","v":50},{"$f":"connected_load_plot+K268-C268","v":50},{"$f":"connected_load_plot+L268-D268","v":50},{"$f":"0","v":0}]
["2024-04-24T07:50:00",10,9,33,0,5,3,26,0,24,16,40,0,52,null,null,null,null,null,null,null,{"$f":"connected_load_plot+J269-B269","v":56},{"$f":"connected_load_plot+K269-C269","v":49},{"$f":"connected_load_plot+L269-D269","v":49},{"$f":"0","v":0}]
["2024-04-24T07:55:00",7,9,36,0,5,3,31,0,12,21,45,0,52,null,null,null,null,null,null,null,{"$f":"connected_load_plot+J270-B270","v":47},{"$f":"connected_load_plot+K270-C270","v":54},{"$f":"connected_load_plot+L270-D270","v":51},{"$f":"0","v":0}]
["2024-04-24T08:00:00",14,10,31,0,5,2,25,0,29,22,44,0,55,null,null,null,null,null,null,null,{"$f":"connected_load_plot+J271-B271","v":57},{"$f":"connected_load_plot+K271-C271","v":54},{"$f":"connected_load_plot+L271-D271","v":55},{"$f":"0","v":0}]
["2024-04-24T08:05:00",13,9,34,0,10,2,25,0,29,22,46,0,56,null,null,null,null,null,null,null,{"$f":"connected_load_plot+J272-B272","v":58},{"$f":"connected_load_plot+K272-C272","v":55},{"$f":"connected_load_plot+L272-D272","v":54},{"$f":"0","v":0}]
["2024-04-24T08:10:00",14,8,33,0,10,2,26,0,23,15,44,0,55,null,null,null,null,null,null,null,{"$f":"connected_load_plot+J273-B273","v":51},{"$f":"connected_load_plot+K273-C273","v":49},{"$f":"connected_load_plot+L273-D273","v":53},{"$f":"0","v":0}]
["2024-04-24T08:15:00",12,8,34,0,5,2,26,0,18,15,45,0,54,null,null,null,null,null,null,null,{"$f":"connected_load_plot+J274-B274","v":48},{"$f":"connected_load_plot+K274-C274","v":49},{"$f":"connected_load_plot+L274-D274","v":53},{"$f":"0","v":0}]
["2024-04-24T08:20:00",9,8,31,0,5,2,26,0,17,15,39,0,48,null,null,null,null,null,null,null,{"$f":"connected_load_plot+J275-B275","v":50},{"$f":"connected_load_plot+K275-C275","v":49},{"$f":"connected_load_plot+L275-D275","v":50},{"$f":"0","v":0}]
["2024-04-24T08:25:00",7,9,35,0,4,2,26,0,12,24,48,0,51,null,null,null,null,null,null,null,{"$f":"connected_load_plot+J276-B276","v":47},{"$f":"connected_load_plot+K276-C276","v":57},{"$f":"connected_load_plot+L276-D276","v":55},{"$f":"0","v":0}]
["2024-04-24T08:30:00",8,8,34,0,4,3,25,0,16,17,44,0,50,null,null,null,null,null,null,null,{"$f":"connected_load_plot+J277-B277","v":50},{"$f":"connected_load_plot+K277-C277","v":51},{"$f":"connected_load_plot+L277-D277","v":52},{"$f":"0","v":0}]
["2024-04-24T08:35:00",6,14,31,0,4,3,25,0,16,23,41,0,51,null,null,null,null,null,null,null,{"$f":"connected_load_plot+J278-B278","v":52},{"$f":"connected_load_plot+K278-C278","v":51},{"$f":"connected_load_plot+L278-D278","v":52},{"$f":"0","v":0}]
["2024-04-24T08:40:00",7,12,33,0,4,3,26,0,17,31,44,0,52,null,null,null,null,null,null,null,{"$f":"connected_load_plot+J279-B279","v":52},{"$f":"connected_load_plot+K279-C279","v":61},{"$f":"connected_load_plot+L279-D279","v":53},{"$f":"0","v":0}]
["2024-04-24T08:45:00",7,9,35,0,4,3,27,0,11,23,45,0,51,null,null,null,null,null,null,null,{"$f":"connected_load_plot+J280-B280","v":46},{"$f":"connected_load_plot+K280-C280","v":56},{"$f":"connected_load_plot+L280-D280","v":52},{"$f":"0","v":0}]
["2024-04-24T08:50:00",8,9,34,0,4,4,27,0,17,17,43,0,51,null,null,null,null,null,null,null,{"$f":"connected_load_plot+J281-B281","v":51},{"$f":"connected_load_plot+K281-C281","v":50},{"$f":"connected_load_plot+L281-D281","v":51},{"$f":"0","v":0}]
["2024-04-24T08:55:00",6,9,39,0,4,4,27,0,11,17,49,0,54,null,null,null,null,null,null,null,{"$f":"connected_load_plot+J282-B282","v":47},{"$f":"connected_load_plot+K282-C282","v":50},{"$f":"connected_load_plot+L282-D282","v":52},{"$f":"0","v":0}]
["2024-04-24T09:00:00",6,9,34,0,4,4,25,0,17,17,44,0,49,null,null,null,null,null,null,null,{"$f":"connected_load_plot+J283-B283","v":53},{"$f":"connected_load_plot+K283-C283","v":50},{"$f":"connected_load_plot+L283-D283","v":52},{"$f":"0","v":0}]
["2024-04-24T09:05:00",6,8,31,0,4,3,25,0,11,16,42,0,45,null,null,null,null,null,null,null,{"$f":"connected_load_plot+J284-B284","v":47},{"$f":"connected_load_plot+K284-C284","v":50},{"$f":"connected_load_plot+L284-D284","v":53},{"$f":"0","v":0}]
["2024-04-24T09:10:00",9,8,30,0,4,3,25,0,18,10,38,0,47,null,null,null,null,null,null,null,{"$f":"connected_load_plot+J285-B285","v":51},{"$f":"connected_load_plot+K285-C285","v":44},{"$f":"connected_load_plot+L285-D285","v":50},{"$f":"0","v":0}]
["2024-04-24T09:15:00",13,9,32,0,4,3,25,0,20,17,44,0,54,null,null,null,null,null,null,null,{"$f":"connected_load_plot+J286-B286","v":49},{"$f":"connected_load_plot+K286-C286","v":50},{"$f":"connected_load_plot+L286-D286","v":54},{"$f":"0","v":0}]
["2024-04-24T09:20:00",9,8,35,0,4,3,26,0,17,17,44,0,52,null,null,null,null,null,null,null,{"$f":"connected_load_plot+J287-B287","v":50},{"$f":"connected_load_plot+K287-C287","v":51},{"$f":"connected_load_plot+L287-D287","v":51},{"$f":"0","v":0}]
["2024-04-24T09:25:00",8,6,31,0,4,2,26,0,16,9,44,0,45,null,null,null,null,null,null,null,{"$f":"connected_load_plot+J288-B288","v":50},{"$f":"connected_load_plot+K288-C288","v":45},{"$f":"connected_load_plot+L288-D288","v":55},{"$f":"0","v":0}]
["2024-04-24T09:30:00",7,6,32,0,4,2,25,0,12,14,42,0,45,null,null,null,null,null,null,null,{"$f":"connected_load_plot+J289-B289","v":47},{"$f":"connected_load_plot+K289-C289","v":50},{"$f":"connected_load_plot+L289-D289","v":52},{"$f":"0","v":0}]
["2024-04-24T09:35:00",9,7,31,0,4,2,25,0,16,15,42,0,47,null,null,null,null,null,null,null,{"$f":"connected_load_plot+J290-B290","v":49},{"$f":"connected_load_plot+K290-C290","v":50},{"$f":"connected_load_plot+L290-D290","v":53},{"$f":"0","v":0}]
["2024-04-24T09:40:00",9,6,33,0,4,2,26,0,12,15,42,0,48,null,null,null,null,null,null,null,{"$f":"connected_load_plot+J291-B291","v":45},{"$f":"connected_load_plot+K291-C291","v":51},{"$f":"connected_load_plot+L291-D291","v":51},{"$f":"0","v":0}]
["2024-04-24T09:45:00",10,6,32,0,4,2,26,0,17,9,44,0,48,null,null,null,null,null,null,null,{"$f":"connected_load_plot+J292-B292","v":49},{"$f":"connected_load_plot+K292-C292","v":45},{"$f":"connected_load_plot+L292-D292","v":54},{"$f":"0","v":0}]
["2024-04-24T09:50:00",10,6,35,0,4,2,26,0,20,10,44,0,51,null,null,null,null,null,null,null,{"$f":"connected_load_plot+J293-B293","v":52},{"$f":"connected_load_plot+K293-C293","v":46},{"$f":"connected_load_plot+L293-D293","v":51},{"$f":"0","v":0}]
["2024-04-24T09:55:00",10,8,26,0,5,2,20,0,20,16,40,0,44,null,null,null,null,null,null,null,{"$f":"connected_load_plot+J294-B294","v":52},{"$f":"connected_load_plot+K294-C294","v":50},{"$f":"connected_load_plot+L294-D294","v":56},{"$f":"0","v":0}]
["2024-04-24T10:00:00",17,7,28,0,12,2,19,0,25,16,38,0,52,null,null,null,null,null,null,null,{"$f":"connected_load_plot+J295-B295","v":50},{"$f":"connected_load_plot+K295-C295","v":51},{"$f":"connected_load_plot+L295-D295","v":52},{"$f":"0","v":0}]
["2024-04-24T10:05:00",18,7,23,0,12,2,19,0,26,15,35,0,48,null,null,null,null,null,null,null,{"$f":"connected_load_plot+J296-B296","v":50},{"$f":"connected_load_plot+K296-C296","v":50},{"$f":"connected_load_plot+L296-D296","v":54},{"$f":"0","v":0}]
["2024-04-24T10:10:00",13,8,28,0,4,3,19,0,19,16,37,0,49,null,null,null,null,null,null,null,{"$f":"connected_load_plot+J297-B297","v":48},{"$f":"connected_load_plot+K297-C297","v":50},{"$f":"connected_load_plot+L297-D297","v":51},{"$f":"0","v":0}]
["2024-04-24T10:15:00",10,9,25,0,4,3,19,0,17,16,41,0,44,null,null,null,null,null,null,null,{"$f":"connected_load_plot+J298-B298","v":49},{"$f":"connected_load_plot+K298-C298","v":49},{"$f":"connected_load_plot+L298-D298","v":58},{"$f":"0","v":0}]
["2024-04-24T10:20:00",16,9,24,0,5,3,19,0,24,22,36,0,49,null,null,null,null,null,null,null,{"$f":"connected_load_plot+J299-B299","v":50},{"$f":"connected_load_plot+K299-C299","v":55},{"$f":"connected_load_plot+L299-D299","v":54},{"$f":"0","v":0}]
["2024-04-24T10:25:00",14,10,23,0,5,3,19,0,24,16,31,0,47,null,null,null,null,null,null,null,{"$f":"connected_load_plot+J300-B300","v":52},{"$f":"connected_load_plot+K300-C300","v":48},{"$f":"connected_load_plot+L300-D300","v":50},{"$f":"0","v":0}]
["2024-04-24T10:30:00",8,11,28,0,4,4,20,0,17,16,33,0,47,null,null,null,null,null,null,null,{"$f":"connected_load_plot+J301-B301","v":51},{"$f":"connected_load_plot+K301-C301","v":47},{"$f":"connected_load_plot+L301-D301","v":47},{"$f":"0","v":0}]
["2024-04-24T10:35:00",8,10,25,0,4,8,20,0,18,16,33,0,43,null,null,null,null,null,null,null,{"$f":"connected_load_plot+J302-B302","v":52},{"$f":"connected_load_plot+K302-C302","v":48},{"$f":"connected_load_plot+L302-D302","v":50},{"$f":"0","v":0}]
["2024-04-24T10:40:00",17,10,28,0,11,8,20,0,25,16,42,0,55,null,null,null,null,null,null,null,{"$f":"connected_load_plot+J303-B303","v":50},{"$f":"connected_load_plot+K303-C303","v":48},{"$f":"connected_load_plot+L303-D303","v":56},{"$f":"0","v":0}]
["2024-04-24T10:45:00",16,9,25,0,11,8,20,0,19,16,38,0,50,null,null,null,null,null,null,null,{"$f":"connected_load_plot+J304-B304","v":45},{"$f":"connected_load_plot+K304-C304","v":49},{"$f":"connected_load_plot+L304-D304","v":55},{"$f":"0","v":0}]
["2024-04-24T10:50:00",11,9,28,0,4,8,20,0,19,16,38,0,48,null,null,null,null,null,null,null,{"$f":"connected_load_plot+J305-B305","v":50},{"$f":"connected_load_plot+K305-C305","v":49},{"$f":"connected_load_plot+L305-D305","v":52},{"$f":"0","v":0}]
["2024-04-24T10:55:00",8,10,24,0,4,8,20,0,17,17,28,0,42,null,null,null,null,null,null,null,{"$f":"connected_load_plot+J306-B306","v":51},{"$f":"connected_load_plot+K306-C306","v":49},{"$f":"connected_load_plot+L306-D306","v":46},{"$f":"0","v":0}]
["2024-04-24T11:00:00",11,11,29,0,4,8,20,0,18,16,38,0,51,null,null,null,null,null,null,null,{"$f":"connected_load_plot+J307-B307","v":49},{"$f":"connected_load_plot+K307-C307","v":47},{"$f":"connected_load_plot+L307-D307","v":51},{"$f":"0","v":0}]
["2024-04-24T11:05:00",9,10,27,0,4,8,20,0,12,16,40,0,46,null,null,null,null,null,null,null,{"$f":"connected_load_plot+J308-B308","v":45},{"$f":"connected_load_plot+K308-C308","v":48},{"$f":"connected_load_plot+L308-D308","v":55},{"$f":"0","v":0}]
["2024-04-24T11:10:00",9,11,31,0,4,8,20,0,16,16,41,0,51,null,null,null,null,null,null,null,{"$f":"connected_load_plot+J309-B309","v":49},{"$f":"connected_load_plot+K309-C309","v":47},{"$f":"connected_load_plot+L309-D309","v":52},{"$f":"0","v":0}]
["2024-04-24T11:15:00",7,14,27,0,4,8,20,0,16,22,36,0,48,null,null,null,null,null,null,null,{"$f":"connected_load_plot+J310-B310","v":51},{"$f":"connected_load_plot+K310-C310","v":50},{"$f":"connected_load_plot+L310-D310","v":51},{"$f":"0","v":0}]
["2024-04-24T11:20:00",9,11,29,0,4,8,20,0,17,16,39,0,49,null,null,null,null,null,null,null,{"$f":"connected_load_plot+J311-B311","v":50},{"$f":"connected_load_plot+K311-C311","v":47},{"$f":"connected_load_plot+L311-D311","v":52},{"$f":"0","v":0}]
["2024-04-24T11:25:00",10,11,25,0,4,8,19,0,17,16,34,0,46,null,null,null,null,null,null,null,{"$f":"connected_load_plot+J312-B312","v":49},{"$f":"connected_load_plot+K312-C312","v":47},{"$f":"connected_load_plot+L312-D312","v":51},{"$f":"0","v":0}]
["2024-04-24T11:30:00",8,11,28,0,4,8,19,0,12,16,37,0,47,null,null,null,null,null,null,null,{"$f":"connected_load_plot+J313-B313","v":46},{"$f":"connected_load_plot+K313-C313","v":47},{"$f":"connected_load_plot+L313-D313","v":51},{"$f":"0","v":0}]
["2024-04-24T11:35:00",8,11,23,0,3,8,19,0,16,16,32,0,42,null,null,null,null,null,null,null,{"$f":"connected_load_plot+J314-B314","v":50},{"$f":"connected_load_plot+K314-C314","v":47},{"$f":"connected_load_plot+L314-D314","v":51},{"$f":"0","v":0}]
["2024-04-24T11:40:00",7,11,27,0,4,3,19,0,11,16,37,0,45,null,null,null,null,null,null,null,{"$f":"connected_load_plot+J315-B315","v":46},{"$f":"connected_load_plot+K315-C315","v":47},{"$f":"connected_load_plot+L315-D315","v":52},{"$f":"0","v":0}]
["2024-04-24T11:45:00",10,9,24,0,4,2,19,0,16,16,27,0,43,null,null,null,null,null,null,null,{"$f":"connected_load_plot+J316-B316","v":48},{"$f":"connected_load_plot+K316-C316","v":49},{"$f":"connected_load_plot+L316-D316","v":45},{"$f":"0","v":0}]
["2024-04-24T11:50:00",7,10,28,0,4,2,20,0,12,16,41,0,45,null,null,null,null,null,null,null,{"$f":"connected_load_plot+J317-B317","v":47},{"$f":"connected_load_plot+K317-C317","v":48},{"$f":"connected_load_plot+L317-D317","v":55},{"$f":"0","v":0}]
["2024-04-24T11:55:00",7,10,25,0,4,2,20,0,17,16,33,0,42,null,null,null,null,null,null,null,{"$f":"connected_load_plot+J318-B318","v":52},{"$f":"connected_load_plot+K318-C318","v":48},{"$f":"connected_load_plot+L318-D318","v":50},{"$f":"0","v":0}]
["2024-04-24T12:00:00",6,13,27,0,3,8,20,0,11,16,38,0,46,null,null,null,null,null,null,null,{"$f":"connected_load_plot+J319-B319","v":47},{"$f":"connected_load_plot+K319-C319","v":45},{"$f":"connected_load_plot+L319-D319","v":53},{"$f":"0","v":0}]
["2024-04-24T12:05:00",8,12,27,0,3,2,20,0,17,22,37,0,47,null,null,null,null,null,null,null,{"$f":"connected_load_plot+J320-B320","v":51},{"$f":"connected_load_plot+K320-C320","v":52},{"$f":"connected_load_plot+L320-D320","v":52},{"$f":"0","v":0}]
["2024-04-24T12:10:00",6,6,28,0,3,2,20,0,11,9,42,0,40,null,null,null,null,null,null,null,{"$f":"connected_load_plot+J321-B321","v":47},{"$f":"connected_load_plot+K321-C321","v":45},{"$f":"connected_load_plot+L321-D321","v":56},{"$f":"0","v":0}]
["2024-04-24T12:15:00",8,5,25,0,3,2,20,0,16,8,33,0,38,null,null,null,null,null,null,null,{"$f":"connected_load_plot+J322-B322","v":50},{"$f":"connected_load_plot+K322-C322","v":45},{"$f":"connected_load_plot+L322-D322","v":50},{"$f":"0","v":0}]
["2024-04-24T12:20:00",6,7,27,0,4,2,20,0,17,14,38,0,{"$f":"SUM(B323:D323)","v":40},null,null,null,null,null,null,null,{"$f":"connected_load_plot+J323-B323","v":53},{"$f":"connected_load_plot+K323-C323","v":49},{"$f":"connected_load_plot+L323-D323","v":53},{"$f":"0","v":0}]
["2024-04-24T12:25:00",6,5,25,0,3,2,20,0,16,8,37,0,36,null,null,null,null,null,null,null,{"$f":"connected_load_plot+J324-B324","v":52},{"$f":"connected_load_plot+K324-C324","v":45},{"$f":"connected_load_plot+L324-D324","v":54},{"$f":"0","v":0}]
["2024-04-24T12:30:00",7,5,29,0,3,2,20,0,11,8,38,0,41,null,null,null,null,null,null,null,{"$f":"connected_load_plot+J325-B325","v":46},{"$f":"connected_load_plot+K325-C325","v":45},{"$f":"connected_load_plot+L325-D325","v":51},{"$f":"0","v":0}]
["2024-04-24T12:35:00",11,5,25,0,3,2,20,0,21,8,37,0,41,null,null,null,null,null,null,null,{"$f":"connected_load_plot+J326-B326","v":52},{"$f":"connected_load_plot+K326-C326","v":45},{"$f":"connected_load_plot+L326-D326","v":54},{"$f":"0","v":0}]
["2024-04-24T12:40:00",9,5,25,0,3,1,19,0,15,8,36,0,39,null,null,null,null,null,null,null,{"$f":"connected_load_plot+J327-B327","v":48},{"$f":"connected_load_plot+K327-C327","v":45},{"$f":"connected_load_plot+L327-D327","v":53},{"$f":"0","v":0}]
["2024-04-24T12:45:00",6,6,25,0,3,2,19,0,15,13,32,0,37,null,null,null,null,null,null,null,{"$f":"connected_load_plot+J328-B328","v":51},{"$f":"connected_load_plot+K328-C328","v":49},{"$f":"connected_load_plot+L328-D328","v":49},{"$f":"0","v":0}]
["2024-04-24T12:50:00",8,6,27,0,3,2,20,0,11,13,35,0,41,null,null,null,null,null,null,null,{"$f":"connected_load_plot+J329-B329","v":45},{"$f":"connected_load_plot+K329-C329","v":49},{"$f":"connected_load_plot+L329-D329","v":50},{"$f":"0","v":0}]
["2024-04-24T12:55:00",7,5,27,0,3,2,20,0,16,8,36,0,39,null,null,null,null,null,null,null,{"$f":"connected_load_plot+J330-B330","v":51},{"$f":"connected_load_plot+K330-C330","v":45},{"$f":"connected_load_plot+L330-D330","v":51},{"$f":"0","v":0}]
["2024-04-24T13:00:00",8,5,28,0,3,2,20,0,16,9,38,0,41,null,null,null,null,null,null,null,{"$f":"connected_load_plot+J331-B331","v":50},{"$f":"connected_load_plot+K331-C331","v":46},{"$f":"connected_load_plot+L331-D331","v":52},{"$f":"0","v":0}]
["2024-04-24T13:05:00",6,6,28,0,3,2,20,0,10,14,42,0,40,null,null,null,null,null,null,null,{"$f":"connected_load_plot+J332-B332","v":46},{"$f":"connected_load_plot+K332-C332","v":50},{"$f":"connected_load_plot+L332-D332","v":56},{"$f":"0","v":0}]
["2024-04-24T13:10:00",6,6,27,0,3,2,20,0,15,14,40,0,39,null,null,null,null,null,null,null,{"$f":"connected_load_plot+J333-B333","v":51},{"$f":"connected_load_plot+K333-C333","v":50},{"$f":"connected_load_plot+L333-D333","v":55},{"$f":"0","v":0}]
["2024-04-24T13:15:00",7,5,23,0,3,2,19,0,16,8,34,0,35,null,null,null,null,null,null,null,{"$f":"connected_load_plot+J334-B334","v":51},{"$f":"connected_load_plot+K334-C334","v":45},{"$f":"connected_load_plot+L334-D334","v":53},{"$f":"0","v":0}]
["2024-04-24T13:20:00",9,5,25,0,3,2,19,0,16,8,34,0,39,null,null,null,null,null,null,null,{"$f":"connected_load_plot+J335-B335","v":49},{"$f":"connected_load_plot+K335-C335","v":45},{"$f":"connected_load_plot+L335-D335","v":51},{"$f":"0","v":0}]
["2024-04-24T13:25:00",6,6,28,0,3,2,19,0,11,13,36,0,40,null,null,null,null,null,null,null,{"$f":"connected_load_plot+J336-B336","v":47},{"$f":"connected_load_plot+K336-C336","v":49},{"$f":"connected_load_plot+L336-D336","v":50},{"$f":"0","v":0}]
["2024-04-24T13:30:00",6,6,29,0,2,2,19,0,15,14,38,0,41,null,null,null,null,null,null,null,{"$f":"connected_load_plot+J337-B337","v":51},{"$f":"connected_load_plot+K337-C337","v":50},{"$f":"connected_load_plot+L337-D337","v":51},{"$f":"0","v":0}]
["2024-04-24T13:35:00",6,5,26,0,2,2,20,0,16,8,42,0,37,null,null,null,null,null,null,null,{"$f":"connected_load_plot+J338-B338","v":52},{"$f":"connected_load_plot+K338-C338","v":45},{"$f":"connected_load_plot+L338-D338","v":58},{"$f":"0","v":0}]
["2024-04-24T13:40:00",11,5,24,0,3,2,20,0,18,8,35,0,40,null,null,null,null,null,null,null,{"$f":"connected_load_plot+J339-B339","v":49},{"$f":"connected_load_plot+K339-C339","v":45},{"$f":"connected_load_plot+L339-D339","v":53},{"$f":"0","v":0}]
["2024-04-24T13:45:00",7,5,27,0,3,2,20,0,15,8,36,0,39,null,null,null,null,null,null,null,{"$f":"connected_load_plot+J340-B340","v":50},{"$f":"connected_load_plot+K340-C340","v":45},{"$f":"connected_load_plot+L340-D340","v":51},{"$f":"0","v":0}]
["2024-04-24T13:50:00",6,6,27,0,2,2,20,0,10,14,38,0,39,null,null,null,null,null,null,null,{"$f":"connected_load_plot+J341-B341","v":46},{"$f":"connected_load_plot+K341-C341","v":50},{"$f":"connected_load_plot+L341-D341","v":53},{"$f":"0","v":0}]
["2024-04-24T13:55:00",7,7,27,0,2,2,20,0,15,14,37,0,41,null,null,null,null,null,null,null,{"$f":"connected_load_plot+J342-B342","v":50},{"$f":"connected_load_plot+K342-C342","v":49},{"$f":"connected_load_plot+L342-D342","v":52},{"$f":"0","v":0}]
["2024-04-24T14:00:00",4,5,26,0,2,1,20,0,9,8,37,0,35,null,null,null,null,null,null,null,{"$f":"connected_load_plot+J343-B343","v":47},{"$f":"connected_load_plot+K343-C343","v":45},{"$f":"connected_load_plot+L343-D343","v":53},{"$f":"0","v":0}]
["2024-04-24T14:05:00",6,5,28,0,2,2,20,0,15,10,38,0,39,null,null,null,null,null,null,null,{"$f":"connected_load_plot+J344-B344","v":51},{"$f":"connected_load_plot+K344-C344","v":47},{"$f":"connected_load_plot+L344-D344","v":52},{"$f":"0","v":0}]
["2024-04-24T14:10:00",6,6,26,0,2,2,19,0,11,14,35,0,38,null,null,null,null,null,null,null,{"$f":"connected_load_plot+J345-B345","v":47},{"$f":"connected_load_plot+K345-C345","v":50},{"$f":"connected_load_plot+L345-D345","v":51},{"$f":"0","v":0}]
["2024-04-24T14:15:00",7,6,25,0,2,2,19,0,15,14,37,0,38,null,null,null,null,null,null,null,{"$f":"connected_load_plot+J346-B346","v":50},{"$f":"connected_load_plot+K346-C346","v":50},{"$f":"connected_load_plot+L346-D346","v":54},{"$f":"0","v":0}]
["2024-04-24T14:20:00",4,5,26,0,2,2,19,0,9,14,41,0,35,null,null,null,null,null,null,null,{"$f":"connected_load_plot+J347-B347","v":47},{"$f":"connected_load_plot+K347-C347","v":51},{"$f":"connected_load_plot+L347-D347","v":57},{"$f":"0","v":0}]
["2024-04-24T14:25:00",5,5,28,0,2,1,19,0,15,8,41,0,38,null,null,null,null,null,null,null,{"$f":"connected_load_plot+J348-B348","v":52},{"$f":"connected_load_plot+K348-C348","v":45},{"$f":"connected_load_plot+L348-D348","v":55},{"$f":"0","v":0}]
["2024-04-24T14:30:00",5,9,27,0,2,2,19,0,11,13,43,0,41,null,null,null,null,null,null,null,{"$f":"connected_load_plot+J349-B349","v":48},{"$f":"connected_load_plot+K349-C349","v":46},{"$f":"connected_load_plot+L349-D349","v":58},{"$f":"0","v":0}]
["2024-04-24T14:35:00",7,15,38,0,3,6,29,0,15,26,50,0,60,null,null,null,null,null,null,null,{"$f":"connected_load_plot+J350-B350","v":50},{"$f":"connected_load_plot+K350-C350","v":53},{"$f":"connected_load_plot+L350-D350","v":54},{"$f":"0","v":0}]
["2024-04-24T14:40:00",5,14,34,0,2,11,25,0,11,25,44,0,53,null,null,null,null,null,null,null,{"$f":"connected_load_plot+J351-B351","v":48},{"$f":"connected_load_plot+K351-C351","v":53},{"$f":"connected_load_plot+L351-D351","v":52},{"$f":"0","v":0}]
["2024-04-24T14:45:00",5,14,31,0,2,11,19,0,15,19,42,0,50,null,null,null,null,null,null,null,{"$f":"connected_load_plot+J352-B352","v":52},{"$f":"connected_load_plot+K352-C352","v":47},{"$f":"connected_load_plot+L352-D352","v":53},{"$f":"0","v":0}]
["2024-04-24T14:50:00",6,13,25,0,2,12,19,0,10,19,39,0,44,null,null,null,null,null,null,null,{"$f":"connected_load_plot+J353-B353","v":46},{"$f":"connected_load_plot+K353-C353","v":48},{"$f":"connected_load_plot+L353-D353","v":56},{"$f":"0","v":0}]
["2024-04-24T14:55:00",7,14,33,0,3,6,19,0,15,20,44,0,54,null,null,null,null,null,null,null,{"$f":"connected_load_plot+J354-B354","v":50},{"$f":"connected_load_plot+K354-C354","v":48},{"$f":"connected_load_plot+L354-D354","v":53},{"$f":"0","v":0}]
["2024-04-24T15:00:00",6,12,30,0,3,6,19,0,16,19,45,0,48,null,null,null,null,null,null,null,{"$f":"connected_load_plot+J355-B355","v":52},{"$f":"connected_load_plot+K355-C355","v":49},{"$f":"connected_load_plot+L355-D355","v":57},{"$f":"0","v":0}]
["2024-04-24T15:05:00",6,11,32,0,3,6,20,0,21,20,44,0,49,null,null,null,null,null,null,null,{"$f":"connected_load_plot+J356-B356","v":57},{"$f":"connected_load_plot+K356-C356","v":51},{"$f":"connected_load_plot+L356-D356","v":54},{"$f":"0","v":0}]
["2024-04-24T15:10:00",6,7,26,0,3,6,19,0,15,13,39,0,39,null,null,null,null,null,null,null,{"$f":"connected_load_plot+J357-B357","v":51},{"$f":"connected_load_plot+K357-C357","v":48},{"$f":"connected_load_plot+L357-D357","v":55},{"$f":"0","v":0}]
["2024-04-24T15:15:00",6,7,32,0,3,6,20,0,10,13,48,0,45,null,null,null,null,null,null,null,{"$f":"connected_load_plot+J358-B358","v":46},{"$f":"connected_load_plot+K358-C358","v":48},{"$f":"connected_load_plot+L358-D358","v":58},{"$f":"0","v":0}]
["2024-04-24T15:20:00",9,10,27,0,2,6,19,0,22,21,37,0,46,null,null,null,null,null,null,null,{"$f":"connected_load_plot+J359-B359","v":55},{"$f":"connected_load_plot+K359-C359","v":53},{"$f":"connected_load_plot+L359-D359","v":52},{"$f":"0","v":0}]
["2024-04-24T15:25:00",13,9,32,0,9,6,20,0,17,21,44,0,54,null,null,null,null,null,null,null,{"$f":"connected_load_plot+J360-B360","v":46},{"$f":"connected_load_plot+K360-C360","v":54},{"$f":"connected_load_plot+L360-D360","v":54},{"$f":"0","v":0}]
["2024-04-24T15:30:00",11,8,30,0,3,6,19,0,22,14,43,0,49,null,null,null,null,null,null,null,{"$f":"connected_load_plot+J361-B361","v":53},{"$f":"connected_load_plot+K361-C361","v":48},{"$f":"connected_load_plot+L361-D361","v":55},{"$f":"0","v":0}]
["2024-04-24T15:35:00",5,7,31,0,3,6,19,0,10,13,47,0,43,null,null,null,null,null,null,null,{"$f":"connected_load_plot+J362-B362","v":47},{"$f":"connected_load_plot+K362-C362","v":48},{"$f":"connected_load_plot+L362-D362","v":58},{"$f":"0","v":0}]
["2024-04-24T15:40:00",7,8,27,0,3,6,19,0,15,15,32,0,42,null,null,null,null,null,null,null,{"$f":"connected_load_plot+J363-B363","v":50},{"$f":"connected_load_plot+K363-C363","v":49},{"$f":"connected_load_plot+L363-D363","v":47},{"$f":"0","v":0}]
["2024-04-24T15:45:00",6,9,29,0,2,7,19,0,10,22,36,0,44,null,null,null,null,null,null,null,{"$f":"connected_load_plot+J364-B364","v":46},{"$f":"connected_load_plot+K364-C364","v":55},{"$f":"connected_load_plot+L364-D364","v":49},{"$f":"0","v":0}]
["2024-04-24T15:50:00",6,13,26,0,3,7,19,0,14,22,42,0,45,null,null,null,null,null,null,null,{"$f":"connected_load_plot+J365-B365","v":50},{"$f":"connected_load_plot+K365-C365","v":51},{"$f":"connected_load_plot+L365-D365","v":58},{"$f":"0","v":0}]
["2024-04-24T15:55:00",5,10,32,0,3,7,23,0,14,14,42,0,47,null,null,null,null,null,null,null,{"$f":"connected_load_plot+J366-B366","v":51},{"$f":"connected_load_plot+K366-C366","v":46},{"$f":"connected_load_plot+L366-D366","v":52},{"$f":"0","v":0}]
["2024-04-24T16:00:00",6,10,28,0,3,7,19,0,15,15,39,0,44,null,null,null,null,null,null,null,{"$f":"connected_load_plot+J367-B367","v":51},{"$f":"connected_load_plot+K367-C367","v":47},{"$f":"connected_load_plot+L367-D367","v":53},{"$f":"0","v":0}]
["2024-04-24T16:05:00",7,9,32,0,3,7,19,0,15,15,44,0,48,null,null,null,null,null,null,null,{"$f":"connected_load_plot+J368-B368","v":50},{"$f":"connected_load_plot+K368-C368","v":48},{"$f":"connected_load_plot+L368-D368","v":54},{"$f":"0","v":0}]
["2024-04-24T16:10:00",5,9,29,0,3,8,25,0,10,15,41,0,43,null,null,null,null,null,null,null,{"$f":"connected_load_plot+J369-B369","v":47},{"$f":"connected_load_plot+K369-C369","v":48},{"$f":"connected_load_plot+L369-D369","v":54},{"$f":"0","v":0}]
["2024-04-24T16:15:00",6,10,30,0,2,8,19,0,14,15,39,0,46,null,null,null,null,null,null,null,{"$f":"connected_load_plot+J370-B370","v":50},{"$f":"connected_load_plot+K370-C370","v":47},{"$f":"connected_load_plot+L370-D370","v":51},{"$f":"0","v":0}]
["2024-04-24T16:20:00",10,9,26,0,2,7,19,0,17,15,37,0,45,null,null,null,null,null,null,null,{"$f":"connected_load_plot+J371-B371","v":49},{"$f":"connected_load_plot+K371-C371","v":48},{"$f":"connected_load_plot+L371-D371","v":53},{"$f":"0","v":0}]
["2024-04-24T16:25:00",14,9,31,0,9,7,19,0,23,15,46,0,54,null,null,null,null,null,null,null,{"$f":"connected_load_plot+J372-B372","v":51},{"$f":"connected_load_plot+K372-C372","v":48},{"$f":"connected_load_plot+L372-D372","v":57},{"$f":"0","v":0}]
["2024-04-24T16:30:00",13,11,30,0,10,7,19,0,17,21,43,0,54,null,null,null,null,null,null,null,{"$f":"connected_load_plot+J373-B373","v":46},{"$f":"connected_load_plot+K373-C373","v":52},{"$f":"connected_load_plot+L373-D373","v":55},{"$f":"0","v":0}]
["2024-04-24T16:35:00",6,15,31,0,2,14,19,0,17,21,44,0,52,null,null,null,null,null,null,null,{"$f":"connected_load_plot+J374-B374","v":53},{"$f":"connected_load_plot+K374-C374","v":48},{"$f":"connected_load_plot+L374-D374","v":55},{"$f":"0","v":0}]
["2024-04-24T16:40:00",5,19,28,0,2,13,19,0,10,27,43,0,52,null,null,null,null,null,null,null,{"$f":"connected_load_plot+J375-B375","v":47},{"$f":"connected_load_plot+K375-C375","v":50},{"$f":"connected_load_plot+L375-D375","v":57},{"$f":"0","v":0}]
["2024-04-24T16:45:00",7,19,27,0,2,13,20,0,15,27,38,0,53,null,null,null,null,null,null,null,{"$f":"connected_load_plot+J376-B376","v":50},{"$f":"connected_load_plot+K376-C376","v":50},{"$f":"connected_load_plot+L376-D376","v":53},{"$f":"0","v":0}]
["2024-04-24T16:50:00",6,15,29,0,2,7,19,0,15,27,37,0,50,null,null,null,null,null,null,null,{"$f":"connected_load_plot+J377-B377","v":51},{"$f":"connected_load_plot+K377-C377","v":54},{"$f":"connected_load_plot+L377-D377","v":50},{"$f":"0","v":0}]
["2024-04-24T16:55:00",4,16,29,0,2,8,19,0,10,27,37,0,49,null,null,null,null,null,null,null,{"$f":"connected_load_plot+J378-B378","v":48},{"$f":"connected_load_plot+K378-C378","v":53},{"$f":"connected_load_plot+L378-D378","v":50},{"$f":"0","v":0}]
["2024-04-24T17:00:00",6,15,30,0,2,8,19,0,15,27,48,0,51,null,null,null,null,null,null,null,{"$f":"connected_load_plot+J379-B379","v":51},{"$f":"connected_load_plot+K379-C379","v":54},{"$f":"connected_load_plot+L379-D379","v":60},{"$f":"0","v":0}]
["2024-04-24T17:05:00",6,16,25,0,2,8,15,0,10,27,39,0,47,null,null,null,null,null,null,null,{"$f":"connected_load_plot+J380-B380","v":46},{"$f":"connected_load_plot+K380-C380","v":53},{"$f":"connected_load_plot+L380-D380","v":56},{"$f":"0","v":0}]
["2024-04-24T17:10:00",6,17,27,0,2,8,15,0,15,27,39,0,50,null,null,null,null,null,null,null,{"$f":"connected_load_plot+J381-B381","v":51},{"$f":"connected_load_plot+K381-C381","v":52},{"$f":"connected_load_plot+L381-D381","v":54},{"$f":"0","v":0}]
["2024-04-24T17:15:00",5,16,27,0,2,7,15,0,10,27,38,0,48,null,null,null,null,null,null,null,{"$f":"connected_load_plot+J382-B382","v":47},{"$f":"connected_load_plot+K382-C382","v":53},{"$f":"connected_load_plot+L382-D382","v":53},{"$f":"0","v":0}]
["2024-04-24T17:20:00",5,13,29,0,2,7,19,0,15,27,48,0,47,null,null,null,null,null,null,null,{"$f":"connected_load_plot+J383-B383","v":52},{"$f":"connected_load_plot+K383-C383","v":56},{"$f":"connected_load_plot+L383-D383","v":61},{"$f":"0","v":0}]
["2024-04-24T17:25:00",6,15,26,0,2,7,19,0,10,26,36,0,47,null,null,null,null,null,null,null,{"$f":"connected_load_plot+J384-B384","v":46},{"$f":"connected_load_plot+K384-C384","v":53},{"$f":"connected_load_plot+L384-D384","v":52},{"$f":"0","v":0}]
["2024-04-24T17:30:00",6,15,31,0,3,7,19,0,15,26,39,0,52,null,null,null,null,null,null,null,{"$f":"connected_load_plot+J385-B385","v":51},{"$f":"connected_load_plot+K385-C385","v":53},{"$f":"connected_load_plot+L385-D385","v":50},{"$f":"0","v":0}]
["2024-04-24T17:35:00",6,15,30,0,2,7,19,0,14,31,42,0,51,null,null,null,null,null,null,null,{"$f":"connected_load_plot+J386-B386","v":50},{"$f":"connected_load_plot+K386-C386","v":58},{"$f":"connected_load_plot+L386-D386","v":54},{"$f":"0","v":0}]
["2024-04-24T17:40:00",8,15,31,0,3,3,20,0,16,34,43,0,{"$f":"SUM(B387:D387)","v":54},null,null,null,null,null,null,null,{"$f":"connected_load_plot+J387-B387","v":50},{"$f":"connected_load_plot+K387-C387","v":61},{"$f":"connected_load_plot+L387-D387","v":54},{"$f":"0","v":0}]
["2024-04-24T17:45:00",9,14,29,0,3,3,19,0,17,27,45,0,52,null,null,null,null,null,null,null,{"$f":"connected_load_plot+J388-B388","v":50},{"$f":"connected_load_plot+K388-C388","v":55},{"$f":"connected_load_plot+L388-D388","v":58},{"$f":"0","v":0}]
["2024-04-24T17:50:00",6,16,34,0,3,8,20,0,10,28,49,0,56,null,null,null,null,null,null,null,{"$f":"connected_load_plot+J389-B389","v":46},{"$f":"connected_load_plot+K389-C389","v":54},{"$f":"connected_load_plot+L389-D389","v":57},{"$f":"0","v":0}]
["2024-04-24T17:55:00",7,19,29,0,3,10,20,0,17,28,39,0,55,null,null,null,null,null,null,null,{"$f":"connected_load_plot+J390-B390","v":52},{"$f":"connected_load_plot+K390-C390","v":51},{"$f":"connected_load_plot+L390-D390","v":52},{"$f":"0","v":0}]
["2024-04-24T18:00:00",10,20,30,0,3,10,20,0,16,28,43,0,60,null,null,null,null,null,null,null,{"$f":"connected_load_plot+J391-B391","v":48},{"$f":"connected_load_plot+K391-C391","v":50},{"$f":"connected_load_plot+L391-D391","v":55},{"$f":"0","v":0}]
["2024-04-24T18:05:00",11,18,29,0,8,10,20,0,21,28,38,0,58,null,null,null,null,null,null,null,{"$f":"connected_load_plot+J392-B392","v":52},{"$f":"connected_load_plot+K392-C392","v":52},{"$f":"connected_load_plot+L392-D392","v":51},{"$f":"0","v":0}]
["2024-04-24T18:10:00",12,18,34,0,8,10,20,0,21,28,43,0,64,null,null,null,null,null,null,null,{"$f":"connected_load_plot+J393-B393","v":51},{"$f":"connected_load_plot+K393-C393","v":52},{"$f":"connected_load_plot+L393-D393","v":51},{"$f":"0","v":0}]
["2024-04-24T18:15:00",12,20,32,0,9,16,20,0,22,29,40,0,64,null,null,null,null,null,null,null,{"$f":"connected_load_plot+J394-B394","v":52},{"$f":"connected_load_plot+K394-C394","v":51},{"$f":"connected_load_plot+L394-D394","v":50},{"$f":"0","v":0}]
["2024-04-24T18:20:00",13,17,32,0,9,10,21,0,22,29,43,0,62,null,null,null,null,null,null,null,{"$f":"connected_load_plot+J395-B395","v":51},{"$f":"connected_load_plot+K395-C395","v":54},{"$f":"connected_load_plot+L395-D395","v":53},{"$f":"0","v":0}]
["2024-04-24T18:25:00",10,11,26,0,9,8,21,0,16,22,34,0,47,null,null,null,null,null,null,null,{"$f":"connected_load_plot+J396-B396","v":48},{"$f":"connected_load_plot+K396-C396","v":53},{"$f":"connected_load_plot+L396-D396","v":50},{"$f":"0","v":0}]
["2024-04-24T18:30:00",12,14,31,0,8,8,20,0,21,21,39,0,57,null,null,null,null,null,null,null,{"$f":"connected_load_plot+J397-B397","v":51},{"$f":"connected_load_plot+K397-C397","v":49},{"$f":"connected_load_plot+L397-D397","v":50},{"$f":"0","v":0}]
["2024-04-24T18:35:00",9,12,30,0,4,8,20,0,16,21,42,0,51,null,null,null,null,null,null,null,{"$f":"connected_load_plot+J398-B398","v":49},{"$f":"connected_load_plot+K398-C398","v":51},{"$f":"connected_load_plot+L398-D398","v":54},{"$f":"0","v":0}]
["2024-04-24T18:40:00",7,13,30,0,3,8,20,0,15,21,42,0,50,null,null,null,null,null,null,null,{"$f":"connected_load_plot+J399-B399","v":50},{"$f":"connected_load_plot+K399-C399","v":50},{"$f":"connected_load_plot+L399-D399","v":54},{"$f":"0","v":0}]
["2024-04-24T18:45:00",6,14,29,0,3,8,20,0,11,21,44,0,49,null,null,null,null,null,null,null,{"$f":"connected_load_plot+J400-B400","v":47},{"$f":"connected_load_plot+K400-C400","v":49},{"$f":"connected_load_plot+L400-D400","v":57},{"$f":"0","v":0}]
["2024-04-24T18:50:00",7,13,31,0,3,8,20,0,15,20,43,0,51,null,null,null,null,null,null,null,{"$f":"connected_load_plot+J401-B401","v":50},{"$f":"connected_load_plot+K401-C401","v":49},{"$f":"connected_load_plot+L401-D401","v":54},{"$f":"0","v":0}]
["2024-04-24T18:55:00",5,13,29,0,3,8,20,0,10,21,40,0,47,null,null,null,null,null,null,null,{"$f":"connected_load_plot+J402-B402","v":47},{"$f":"connected_load_plot+K402-C402","v":50},{"$f":"connected_load_plot+L402-D402","v":53},{"$f":"0","v":0}]
["2024-04-24T19:00:00",7,13,29,0,3,8,20,0,15,22,38,0,49,null,null,null,null,null,null,null,{"$f":"connected_load_plot+J403-B403","v":50},{"$f":"connected_load_plot+K403-C403","v":51},{"$f":"connected_load_plot+L403-D403","v":51},{"$f":"0","v":0}]
["2024-04-24T19:05:00",6,12,24,0,3,8,20,0,15,21,34,0,42,null,null,null,null,null,null,null,{"$f":"connected_load_plot+J404-B404","v":51},{"$f":"connected_load_plot+K404-C404","v":51},{"$f":"connected_load_plot+L404-D404","v":52},{"$f":"0","v":0}]
["2024-04-24T19:10:00",5,12,29,0,3,7,20,0,10,21,40,0,46,null,null,null,null,null,null,null,{"$f":"connected_load_plot+J405-B405","v":47},{"$f":"connected_load_plot+K405-C405","v":51},{"$f":"connected_load_plot+L405-D405","v":53},{"$f":"0","v":0}]
["2024-04-24T19:15:00",9,13,27,0,3,8,20,0,16,22,40,0,49,null,null,null,null,null,null,null,{"$f":"connected_load_plot+J406-B406","v":49},{"$f":"connected_load_plot+K406-C406","v":51},{"$f":"connected_load_plot+L406-D406","v":55},{"$f":"0","v":0}]
["2024-04-24T19:20:00",6,13,30,0,3,8,20,0,11,21,38,0,49,null,null,null,null,null,null,null,{"$f":"connected_load_plot+J407-B407","v":47},{"$f":"connected_load_plot+K407-C407","v":50},{"$f":"connected_load_plot+L407-D407","v":50},{"$f":"0","v":0}]
["2024-04-24T19:25:00",7,13,27,0,3,8,20,0,16,28,38,0,47,null,null,null,null,null,null,null,{"$f":"connected_load_plot+J408-B408","v":51},{"$f":"connected_load_plot+K408-C408","v":57},{"$f":"connected_load_plot+L408-D408","v":53},{"$f":"0","v":0}]
["2024-04-24T19:30:00",4,12,29,0,3,8,20,0,11,22,38,0,45,null,null,null,null,null,null,null,{"$f":"connected_load_plot+J409-B409","v":49},{"$f":"connected_load_plot+K409-C409","v":52},{"$f":"connected_load_plot+L409-D409","v":51},{"$f":"0","v":0}]
["2024-04-24T19:35:00",7,12,25,0,3,8,20,0,15,21,34,0,44,null,null,null,null,null,null,null,{"$f":"connected_load_plot+J410-B410","v":50},{"$f":"connected_load_plot+K410-C410","v":51},{"$f":"connected_load_plot+L410-D410","v":51},{"$f":"0","v":0}]
["2024-04-24T19:40:00",6,13,29,0,3,8,20,0,16,21,42,0,48,null,null,null,null,null,null,null,{"$f":"connected_load_plot+J411-B411","v":52},{"$f":"connected_load_plot+K411-C411","v":50},{"$f":"connected_load_plot+L411-D411","v":55},{"$f":"0","v":0}]
["2024-04-24T19:45:00",7,11,26,0,3,7,20,0,15,20,33,0,44,null,null,null,null,null,null,null,{"$f":"connected_load_plot+J412-B412","v":50},{"$f":"connected_load_plot+K412-C412","v":51},{"$f":"connected_load_plot+L412-D412","v":49},{"$f":"0","v":0}]
["2024-04-24T19:50:00",5,12,31,0,3,7,20,0,10,20,43,0,48,null,null,null,null,null,null,null,{"$f":"connected_load_plot+J413-B413","v":47},{"$f":"connected_load_plot+K413-C413","v":50},{"$f":"connected_load_plot+L413-D413","v":54},{"$f":"0","v":0}]
["2024-04-24T19:55:00",6,14,27,0,3,7,20,0,14,20,39,0,47,null,null,null,null,null,null,null,{"$f":"connected_load_plot+J414-B414","v":50},{"$f":"connected_load_plot+K414-C414","v":48},{"$f":"connected_load_plot+L414-D414","v":54},{"$f":"0","v":0}]
["2024-04-24T20:00:00",7,13,28,0,3,7,20,0,15,26,40,0,48,null,null,null,null,null,null,null,{"$f":"connected_load_plot+J415-B415","v":50},{"$f":"connected_load_plot+K415-C415","v":55},{"$f":"connected_load_plot+L415-D415","v":54},{"$f":"0","v":0}]
["2024-04-24T20:05:00",11,12,25,0,3,7,20,0,15,20,32,0,48,null,null,null,null,null,null,null,{"$f":"connected_load_plot+J416-B416","v":46},{"$f":"connected_load_plot+K416-C416","v":50},{"$f":"connected_load_plot+L416-D416","v":49},{"$f":"0","v":0}]
["2024-04-24T20:10:00",12,11,30,0,8,7,20,0,20,20,37,0,53,null,null,null,null,null,null,null,{"$f":"connected_load_plot+J417-B417","v":50},{"$f":"connected_load_plot+K417-C417","v":51},{"$f":"connected_load_plot+L417-D417","v":49},{"$f":"0","v":0}]
["2024-04-24T20:15:00",7,12,26,0,3,7,20,0,15,20,37,0,45,null,null,null,null,null,null,null,{"$f":"connected_load_plot+J418-B418","v":50},{"$f":"connected_load_plot+K418-C418","v":50},{"$f":"connected_load_plot+L418-D418","v":53},{"$f":"0","v":0}]
["2024-04-24T20:20:00",7,13,29,0,3,7,20,0,15,26,45,0,49,null,null,null,null,null,null,null,{"$f":"connected_load_plot+J419-B419","v":50},{"$f":"connected_load_plot+K419-C419","v":55},{"$f":"connected_load_plot+L419-D419","v":58},{"$f":"0","v":0}]
["2024-04-24T20:25:00",6,13,35,0,3,7,20,0,10,26,47,0,54,null,null,null,null,null,null,null,{"$f":"connected_load_plot+J420-B420","v":46},{"$f":"connected_load_plot+K420-C420","v":55},{"$f":"connected_load_plot+L420-D420","v":54},{"$f":"0","v":0}]
["2024-04-24T20:30:00",7,12,31,0,3,8,21,0,16,21,39,0,50,null,null,null,null,null,null,null,{"$f":"connected_load_plot+J421-B421","v":51},{"$f":"connected_load_plot+K421-C421","v":51},{"$f":"connected_load_plot+L421-D421","v":50},{"$f":"0","v":0}]
["2024-04-24T20:35:00",6,12,25,0,4,8,21,0,17,21,38,0,43,null,null,null,null,null,null,null,{"$f":"connected_load_plot+J422-B422","v":53},{"$f":"connected_load_plot+K422-C422","v":51},{"$f":"connected_load_plot+L422-D422","v":55},{"$f":"0","v":0}]
["2024-04-24T20:40:00",6,13,29,0,3,8,21,0,16,21,39,0,48,null,null,null,null,null,null,null,{"$f":"connected_load_plot+J423-B423","v":52},{"$f":"connected_load_plot+K423-C423","v":50},{"$f":"connected_load_plot+L423-D423","v":52},{"$f":"0","v":0}]
["2024-04-24T20:45:00",7,13,29,0,4,8,21,0,16,27,39,0,49,null,null,null,null,null,null,null,{"$f":"connected_load_plot+J424-B424","v":51},{"$f":"connected_load_plot+K424-C424","v":56},{"$f":"connected_load_plot+L424-D424","v":52},{"$f":"0","v":0}]
["2024-04-24T20:50:00",8,13,28,0,4,8,21,0,17,27,39,0,49,null,null,null,null,null,null,null,{"$f":"connected_load_plot+J425-B425","v":51},{"$f":"connected_load_plot+K425-C425","v":56},{"$f":"connected_load_plot+L425-D425","v":53},{"$f":"0","v":0}]
["2024-04-24T20:55:00",8,11,25,0,4,8,21,0,17,21,34,0,44,null,null,null,null,null,null,null,{"$f":"connected_load_plot+J426-B426","v":51},{"$f":"connected_load_plot+K426-C426","v":52},{"$f":"connected_load_plot+L426-D426","v":51},{"$f":"0","v":0}]
["2024-04-24T21:00:00",6,13,34,0,4,8,21,0,12,21,46,0,53,null,null,null,null,null,null,null,{"$f":"connected_load_plot+J427-B427","v":48},{"$f":"connected_load_plot+K427-C427","v":50},{"$f":"connected_load_plot+L427-D427","v":54},{"$f":"0","v":0}]
["2024-04-24T21:05:00",8,12,31,0,4,8,21,0,18,21,45,0,51,null,null,null,null,null,null,null,{"$f":"connected_load_plot+J428-B428","v":52},{"$f":"connected_load_plot+K428-C428","v":51},{"$f":"connected_load_plot+L428-D428","v":56},{"$f":"0","v":0}]
["2024-04-24T21:10:00",7,13,30,0,4,8,21,0,12,26,41,0,50,null,null,null,null,null,null,null,{"$f":"connected_load_plot+J429-B429","v":47},{"$f":"connected_load_plot+K429-C429","v":55},{"$f":"connected_load_plot+L429-D429","v":53},{"$f":"0","v":0}]
["2024-04-24T21:15:00",8,13,29,0,4,7,21,0,16,27,42,0,50,null,null,null,null,null,null,null,{"$f":"connected_load_plot+J430-B430","v":50},{"$f":"connected_load_plot+K430-C430","v":56},{"$f":"connected_load_plot+L430-D430","v":55},{"$f":"0","v":0}]
["2024-04-24T21:20:00",7,11,27,0,4,7,20,0,11,20,38,0,45,null,null,null,null,null,null,null,{"$f":"connected_load_plot+J431-B431","v":46},{"$f":"connected_load_plot+K431-C431","v":51},{"$f":"connected_load_plot+L431-D431","v":53},{"$f":"0","v":0}]
["2024-04-24T21:25:00",7,11,30,0,4,7,21,0,16,20,43,0,48,null,null,null,null,null,null,null,{"$f":"connected_load_plot+J432-B432","v":51},{"$f":"connected_load_plot+K432-C432","v":51},{"$f":"connected_load_plot+L432-D432","v":55},{"$f":"0","v":0}]
["2024-04-24T21:30:00",8,10,33,0,5,9,21,0,18,16,49,0,51,null,null,null,null,null,null,null,{"$f":"connected_load_plot+J433-B433","v":52},{"$f":"connected_load_plot+K433-C433","v":48},{"$f":"connected_load_plot+L433-D433","v":58},{"$f":"0","v":0}]
["2024-04-24T21:35:00",9,11,30,0,5,9,21,0,18,23,45,0,50,null,null,null,null,null,null,null,{"$f":"connected_load_plot+J434-B434","v":51},{"$f":"connected_load_plot+K434-C434","v":54},{"$f":"connected_load_plot+L434-D434","v":57},{"$f":"0","v":0}]
["2024-04-24T21:40:00",8,12,30,0,5,9,21,0,13,23,40,0,50,null,null,null,null,null,null,null,{"$f":"connected_load_plot+J435-B435","v":47},{"$f":"connected_load_plot+K435-C435","v":53},{"$f":"connected_load_plot+L435-D435","v":52},{"$f":"0","v":0}]
["2024-04-24T21:45:00",8,12,31,0,5,9,22,0,18,22,44,0,51,null,null,null,null,null,null,null,{"$f":"connected_load_plot+J436-B436","v":52},{"$f":"connected_load_plot+K436-C436","v":52},{"$f":"connected_load_plot+L436-D436","v":55},{"$f":"0","v":0}]
["2024-04-24T21:50:00",9,11,29,0,5,8,23,0,18,16,44,0,49,null,null,null,null,null,null,null,{"$f":"connected_load_plot+J437-B437","v":51},{"$f":"connected_load_plot+K437-C437","v":47},{"$f":"connected_load_plot+L437-D437","v":57},{"$f":"0","v":0}]
["2024-04-24T21:55:00",9,11,31,0,5,8,23,0,18,16,41,0,51,null,null,null,null,null,null,null,{"$f":"connected_load_plot+J438-B438","v":51},{"$f":"connected_load_plot+K438-C438","v":47},{"$f":"connected_load_plot+L438-D438","v":52},{"$f":"0","v":0}]
["2024-04-24T22:00:00",10,13,33,0,6,8,23,0,18,22,43,0,56,null,null,null,null,null,null,null,{"$f":"connected_load_plot+J439-B439","v":50},{"$f":"connected_load_plot+K439-C439","v":51},{"$f":"connected_load_plot+L439-D439","v":52},{"$f":"0","v":0}]
["2024-04-24T22:05:00",7,12,32,0,5,3,23,0,13,22,41,0,51,null,null,null,null,null,null,null,{"$f":"connected_load_plot+J440-B440","v":48},{"$f":"connected_load_plot+K440-C440","v":52},{"$f":"connected_load_plot+L440-D440","v":51},{"$f":"0","v":0}]
["2024-04-24T22:10:00",9,11,34,0,5,8,23,0,18,21,53,0,54,null,null,null,null,null,null,null,{"$f":"connected_load_plot+J441-B441","v":51},{"$f":"connected_load_plot+K441-C441","v":52},{"$f":"connected_load_plot+L441-D441","v":61},{"$f":"0","v":0}]
["2024-04-24T22:15:00",9,12,31,0,5,3,22,0,13,22,49,0,52,null,null,null,null,null,null,null,{"$f":"connected_load_plot+J442-B442","v":46},{"$f":"connected_load_plot+K442-C442","v":52},{"$f":"connected_load_plot+L442-D442","v":60},{"$f":"0","v":0}]
["2024-04-24T22:20:00",10,12,23,0,6,3,16,0,18,23,34,0,45,null,null,null,null,null,null,null,{"$f":"connected_load_plot+J443-B443","v":50},{"$f":"connected_load_plot+K443-C443","v":53},{"$f":"connected_load_plot+L443-D443","v":53},{"$f":"0","v":0}]
["2024-04-24T22:25:00",7,11,25,0,6,9,16,0,13,22,35,0,43,null,null,null,null,null,null,null,{"$f":"connected_load_plot+J444-B444","v":48},{"$f":"connected_load_plot+K444-C444","v":53},{"$f":"connected_load_plot+L444-D444","v":52},{"$f":"0","v":0}]
["2024-04-24T22:30:00",9,10,30,0,6,9,21,0,18,16,39,0,49,null,null,null,null,null,null,null,{"$f":"connected_load_plot+J445-B445","v":51},{"$f":"connected_load_plot+K445-C445","v":48},{"$f":"connected_load_plot+L445-D445","v":51},{"$f":"0","v":0}]
["2024-04-24T22:35:00",9,12,30,0,6,8,21,0,19,22,40,0,51,null,null,null,null,null,null,null,{"$f":"connected_load_plot+J446-B446","v":52},{"$f":"connected_load_plot+K446-C446","v":52},{"$f":"connected_load_plot+L446-D446","v":52},{"$f":"0","v":0}]
["2024-04-24T22:40:00",9,10,31,0,5,3,20,0,23,21,44,0,50,null,null,null,null,null,null,null,{"$f":"connected_load_plot+J447-B447","v":56},{"$f":"connected_load_plot+K447-C447","v":53},{"$f":"connected_load_plot+L447-D447","v":55},{"$f":"0","v":0}]
["2024-04-24T22:45:00",8,9,32,0,5,3,21,0,17,15,44,0,49,null,null,null,null,null,null,null,{"$f":"connected_load_plot+J448-B448","v":51},{"$f":"connected_load_plot+K448-C448","v":48},{"$f":"connected_load_plot+L448-D448","v":54},{"$f":"0","v":0}]
["2024-04-24T22:50:00",9,7,29,0,5,3,21,0,19,10,41,0,45,null,null,null,null,null,null,null,{"$f":"connected_load_plot+J449-B449","v":52},{"$f":"connected_load_plot+K449-C449","v":45},{"$f":"connected_load_plot+L449-D449","v":54},{"$f":"0","v":0}]
["2024-04-24T22:55:00",10,7,35,0,6,3,21,0,18,10,47,0,52,null,null,null,null,null,null,null,{"$f":"connected_load_plot+J450-B450","v":50},{"$f":"connected_load_plot+K450-C450","v":45},{"$f":"connected_load_plot+L450-D450","v":54},{"$f":"0","v":0}]
["2024-04-24T23:00:00",9,9,31,0,5,3,22,0,14,16,46,0,{"$f":"SUM(B451:D451)","v":49},null,null,null,null,null,null,null,{"$f":"connected_load_plot+J451-B451","v":47},{"$f":"connected_load_plot+K451-C451","v":49},{"$f":"connected_load_plot+L451-D451","v":57},{"$f":"0","v":0}]
["2024-04-24T23:05:00",8,9,33,0,5,3,22,0,17,16,46,0,50,null,null,null,null,null,null,null,{"$f":"connected_load_plot+J452-B452","v":51},{"$f":"connected_load_plot+K452-C452","v":49},{"$f":"connected_load_plot+L452-D452","v":55},{"$f":"0","v":0}]
["2024-04-24T23:10:00",7,10,32,0,5,4,22,0,18,23,40,0,49,null,null,null,null,null,null,null,{"$f":"connected_load_plot+J453-B453","v":53},{"$f":"connected_load_plot+K453-C453","v":55},{"$f":"connected_load_plot+L453-D453","v":50},{"$f":"0","v":0}]
["2024-04-24T23:15:00",9,10,30,0,5,4,22,0,23,17,42,0,49,null,null,null,null,null,null,null,{"$f":"connected_load_plot+J454-B454","v":56},{"$f":"connected_load_plot+K454-C454","v":49},{"$f":"connected_load_plot+L454-D454","v":54},{"$f":"0","v":0}]
["2024-04-24T23:20:00",8,10,30,0,5,4,22,0,13,17,46,0,48,null,null,null,null,null,null,null,{"$f":"connected_load_plot+J455-B455","v":47},{"$f":"connected_load_plot+K455-C455","v":49},{"$f":"connected_load_plot+L455-D455","v":58},{"$f":"0","v":0}]
["2024-04-24T23:25:00",8,8,31,0,5,3,22,0,17,16,46,0,47,null,null,null,null,null,null,null,{"$f":"connected_load_plot+J456-B456","v":51},{"$f":"connected_load_plot+K456-C456","v":50},{"$f":"connected_load_plot+L456-D456","v":57},{"$f":"0","v":0}]
["2024-04-24T23:30:00",6,8,28,0,5,3,22,0,12,11,40,0,42,null,null,null,null,null,null,null,{"$f":"connected_load_plot+J457-B457","v":48},{"$f":"connected_load_plot+K457-C457","v":45},{"$f":"connected_load_plot+L457-D457","v":54},{"$f":"0","v":0}]
["2024-04-24T23:35:00",9,8,33,0,5,3,22,0,18,16,45,0,50,null,null,null,null,null,null,null,{"$f":"connected_load_plot+J458-B458","v":51},{"$f":"connected_load_plot+K458-C458","v":50},{"$f":"connected_load_plot+L458-D458","v":54},{"$f":"0","v":0}]
["2024-04-24T23:40:00",8,10,33,0,5,3,22,0,17,22,54,0,51,null,null,null,null,null,null,null,{"$f":"connected_load_plot+J459-B459","v":51},{"$f":"connected_load_plot+K459-C459","v":54},{"$f":"connected_load_plot+L459-D459","v":63},{"$f":"0","v":0}]
["2024-04-24T23:45:00",8,9,32,0,5,3,22,0,18,16,46,0,49,null,null,null,null,null,null,null,{"$f":"connected_load_plot+J460-B460","v":52},{"$f":"connected_load_plot+K460-C460","v":49},{"$f":"connected_load_plot+L460-D460","v":56},{"$f":"0","v":0}]
["2024-04-24T23:50:00",8,8,27,0,5,3,21,0,18,11,37,0,43,null,null,null,null,null,null,null,{"$f":"connected_load_plot+J461-B461","v":52},{"$f":"connected_load_plot+K461-C461","v":45},{"$f":"connected_load_plot+L461-D461","v":52},{"$f":"0","v":0}]
["2024-04-24T23:55:00",7,8,30,0,4,3,21,0,12,11,43,0,45,null,null,null,null,null,null,null,{"$f":"connected_load_plot+J462-B462","v":47},{"$f":"connected_load_plot+K462-C462","v":45},{"$f":"connected_load_plot+L462-D462","v":55},{"$f":"0","v":0}]
["2024-04-25",9,9,30,0,4,3,21,0,18,16,46,0,48,null,null,null,null,null,null,null,{"$f":"connected_load_plot+J463-B463","v":51},{"$f":"connected_load_plot+K463-C463","v":49},{"$f":"connected_load_plot+L463-D463","v":58},{"$f":"0","v":0}]
["2024-04-25T00:05:00",7,10,32,0,4,3,20,0,12,17,46,0,49,null,null,null,null,null,null,null,{"$f":"connected_load_plot+J464-B464","v":47},{"$f":"connected_load_plot+K464-C464","v":49},{"$f":"connected_load_plot+L464-D464","v":56},{"$f":"0","v":0}]
["2024-04-25T00:10:00",7,8,27,0,4,3,20,0,17,16,38,0,42,null,null,null,null,null,null,null,{"$f":"connected_load_plot+J465-B465","v":52},{"$f":"connected_load_plot+K465-C465","v":50},{"$f":"connected_load_plot+L465-D465","v":53},{"$f":"0","v":0}]
["2024-04-25T00:15:00",7,8,32,0,4,3,20,0,16,16,48,0,47,null,null,null,null,null,null,null,{"$f":"connected_load_plot+J466-B466","v":51},{"$f":"connected_load_plot+K466-C466","v":50},{"$f":"connected_load_plot+L466-D466","v":58},{"$f":"0","v":0}]
["2024-04-25T00:20:00",9,9,28,0,5,3,19,0,17,16,40,0,46,null,null,null,null,null,null,null,{"$f":"connected_load_plot+J467-B467","v":50},{"$f":"connected_load_plot+K467-C467","v":49},{"$f":"connected_load_plot+L467-D467","v":54},{"$f":"0","v":0}]
["2024-04-25T00:25:00",7,9,28,0,4,3,19,0,12,16,43,0,44,null,null,null,null,null,null,null,{"$f":"connected_load_plot+J468-B468","v":47},{"$f":"connected_load_plot+K468-C468","v":49},{"$f":"connected_load_plot+L468-D468","v":57},{"$f":"0","v":0}]
["2024-04-25T00:30:00",7,8,24,0,4,3,19,0,17,16,33,0,39,null,null,null,null,null,null,null,{"$f":"connected_load_plot+J469-B469","v":52},{"$f":"connected_load_plot+K469-C469","v":50},{"$f":"connected_load_plot+L469-D469","v":51},{"$f":"0","v":0}]
["2024-04-25T00:35:00",7,8,32,0,4,2,19,0,12,16,48,0,47,null,null,null,null,null,null,null,{"$f":"connected_load_plot+J470-B470","v":47},{"$f":"connected_load_plot+K470-C470","v":50},{"$f":"connected_load_plot+L470-D470","v":58},{"$f":"0","v":0}]
["2024-04-25T00:40:00",7,8,29,0,4,2,19,0,11,15,43,0,44,null,null,null,null,null,null,null,{"$f":"connected_load_plot+J471-B471","v":46},{"$f":"connected_load_plot+K471-C471","v":49},{"$f":"connected_load_plot+L471-D471","v":56},{"$f":"0","v":0}]
["2024-04-25T00:45:00",7,9,29,0,4,2,20,0,12,15,38,0,45,null,null,null,null,null,null,null,{"$f":"connected_load_plot+J472-B472","v":47},{"$f":"connected_load_plot+K472-C472","v":48},{"$f":"connected_load_plot+L472-D472","v":51},{"$f":"0","v":0}]
["2024-04-25T00:50:00",7,7,29,0,4,2,20,0,13,15,40,0,43,null,null,null,null,null,null,null,{"$f":"connected_load_plot+J473-B473","v":48},{"$f":"connected_load_plot+K473-C473","v":50},{"$f":"connected_load_plot+L473-D473","v":53},{"$f":"0","v":0}]
["2024-04-25T00:55:00",6,8,30,0,4,2,19,0,11,15,44,0,44,null,null,null,null,null,null,null,{"$f":"connected_load_plot+J474-B474","v":47},{"$f":"connected_load_plot+K474-C474","v":49},{"$f":"connected_load_plot+L474-D474","v":56},{"$f":"0","v":0}]
["2024-04-25T01:00:00",7,9,25,0,4,3,19,0,17,16,38,0,41,null,null,null,null,null,null,null,{"$f":"connected_load_plot+J475-B475","v":52},{"$f":"connected_load_plot+K475-C475","v":49},{"$f":"connected_load_plot+L475-D475","v":55},{"$f":"0","v":0}]
["2024-04-25T01:05:00",7,9,29,0,4,3,19,0,12,16,41,0,45,null,null,null,null,null,null,null,{"$f":"connected_load_plot+J476-B476","v":47},{"$f":"connected_load_plot+K476-C476","v":49},{"$f":"connected_load_plot+L476-D476","v":54},{"$f":"0","v":0}]
["2024-04-25T01:10:00",7,8,29,0,4,3,19,0,17,16,43,0,44,null,null,null,null,null,null,null,{"$f":"connected_load_plot+J477-B477","v":52},{"$f":"connected_load_plot+K477-C477","v":50},{"$f":"connected_load_plot+L477-D477","v":56},{"$f":"0","v":0}]
["2024-04-25T01:15:00",7,10,31,0,4,3,19,0,12,16,43,0,48,null,null,null,null,null,null,null,{"$f":"connected_load_plot+J478-B478","v":47},{"$f":"connected_load_plot+K478-C478","v":48},{"$f":"connected_load_plot+L478-D478","v":54},{"$f":"0","v":0}]
["2024-04-25T01:20:00",7,9,25,0,4,3,19,0,12,16,37,0,41,null,null,null,null,null,null,null,{"$f":"connected_load_plot+J479-B479","v":47},{"$f":"connected_load_plot+K479-C479","v":49},{"$f":"connected_load_plot+L479-D479","v":54},{"$f":"0","v":0}]
["2024-04-25T01:25:00",7,9,31,0,4,3,20,0,17,16,42,0,47,null,null,null,null,null,null,null,{"$f":"connected_load_plot+J480-B480","v":52},{"$f":"connected_load_plot+K480-C480","v":49},{"$f":"connected_load_plot+L480-D480","v":53},{"$f":"0","v":0}]
["2024-04-25T01:30:00",7,8,29,0,4,3,20,0,12,16,40,0,44,null,null,null,null,null,null,null,{"$f":"connected_load_plot+J481-B481","v":47},{"$f":"connected_load_plot+K481-C481","v":50},{"$f":"connected_load_plot+L481-D481","v":53},{"$f":"0","v":0}]
["2024-04-25T01:35:00",8,8,24,0,5,3,15,0,12,16,33,0,40,null,null,null,null,null,null,null,{"$f":"connected_load_plot+J482-B482","v":46},{"$f":"connected_load_plot+K482-C482","v":50},{"$f":"connected_load_plot+L482-D482","v":51},{"$f":"0","v":0}]
["2024-04-25T01:40:00",7,10,25,0,5,3,15,0,13,16,38,0,42,null,null,null,null,null,null,null,{"$f":"connected_load_plot+J483-B483","v":48},{"$f":"connected_load_plot+K483-C483","v":48},{"$f":"connected_load_plot+L483-D483","v":55},{"$f":"0","v":0}]
["2024-04-25T01:45:00",8,10,32,0,5,3,20,0,18,16,45,0,50,null,null,null,null,null,null,null,{"$f":"connected_load_plot+J484-B484","v":52},{"$f":"connected_load_plot+K484-C484","v":48},{"$f":"connected_load_plot+L484-D484","v":55},{"$f":"0","v":0}]
["2024-04-25T01:50:00",8,9,28,0,5,3,20,0,12,16,40,0,45,null,null,null,null,null,null,null,{"$f":"connected_load_plot+J485-B485","v":46},{"$f":"connected_load_plot+K485-C485","v":49},{"$f":"connected_load_plot+L485-D485","v":54},{"$f":"0","v":0}]
["2024-04-25T01:55:00",8,8,31,0,5,3,20,0,12,10,40,0,47,null,null,null,null,null,null,null,{"$f":"connected_load_plot+J486-B486","v":46},{"$f":"connected_load_plot+K486-C486","v":44},{"$f":"connected_load_plot+L486-D486","v":51},{"$f":"0","v":0}]
["2024-04-25T02:00:00",8,9,28,0,5,3,19,0,12,16,38,0,45,null,null,null,null,null,null,null,{"$f":"connected_load_plot+J487-B487","v":46},{"$f":"connected_load_plot+K487-C487","v":49},{"$f":"connected_load_plot+L487-D487","v":52},{"$f":"0","v":0}]
["2024-04-25T02:05:00",8,10,30,0,5,3,19,0,18,16,43,0,48,null,null,null,null,null,null,null,{"$f":"connected_load_plot+J488-B488","v":52},{"$f":"connected_load_plot+K488-C488","v":48},{"$f":"connected_load_plot+L488-D488","v":55},{"$f":"0","v":0}]
["2024-04-25T02:10:00",8,10,26,0,5,3,19,0,19,16,37,0,44,null,null,null,null,null,null,null,{"$f":"connected_load_plot+J489-B489","v":53},{"$f":"connected_load_plot+K489-C489","v":48},{"$f":"connected_load_plot+L489-D489","v":53},{"$f":"0","v":0}]
["2024-04-25T02:15:00",8,8,30,0,5,3,19,0,13,16,41,0,46,null,null,null,null,null,null,null,{"$f":"connected_load_plot+J490-B490","v":47},{"$f":"connected_load_plot+K490-C490","v":50},{"$f":"connected_load_plot+L490-D490","v":53},{"$f":"0","v":0}]
["2024-04-25T02:20:00",8,9,26,0,5,3,18,0,12,16,38,0,43,null,null,null,null,null,null,null,{"$f":"connected_load_plot+J491-B491","v":46},{"$f":"connected_load_plot+K491-C491","v":49},{"$f":"connected_load_plot+L491-D491","v":54},{"$f":"0","v":0}]
["2024-04-25T02:25:00",7,9,30,0,5,3,18,0,12,16,43,0,46,null,null,null,null,null,null,null,{"$f":"connected_load_plot+J492-B492","v":47},{"$f":"connected_load_plot+K492-C492","v":49},{"$f":"connected_load_plot+L492-D492","v":55},{"$f":"0","v":0}]
["2024-04-25T02:30:00",8,10,28,0,5,3,18,0,18,16,38,0,46,null,null,null,null,null,null,null,{"$f":"connected_load_plot+J493-B493","v":52},{"$f":"connected_load_plot+K493-C493","v":48},{"$f":"connected_load_plot+L493-D493","v":52},{"$f":"0","v":0}]
["2024-04-25T02:35:00",8,9,30,0,5,3,19,0,12,16,37,0,47,null,null,null,null,null,null,null,{"$f":"connected_load_plot+J494-B494","v":46},{"$f":"connected_load_plot+K494-C494","v":49},{"$f":"connected_load_plot+L494-D494","v":49},{"$f":"0","v":0}]
["2024-04-25T02:40:00",8,8,28,0,5,2,19,0,12,16,39,0,44,null,null,null,null,null,null,null,{"$f":"connected_load_plot+J495-B495","v":46},{"$f":"connected_load_plot+K495-C495","v":50},{"$f":"connected_load_plot+L495-D495","v":53},{"$f":"0","v":0}]
["2024-04-25T02:45:00",8,9,29,0,5,2,20,0,18,16,42,0,46,null,null,null,null,null,null,null,{"$f":"connected_load_plot+J496-B496","v":52},{"$f":"connected_load_plot+K496-C496","v":49},{"$f":"connected_load_plot+L496-D496","v":55},{"$f":"0","v":0}]
["2024-04-25T02:50:00",7,8,26,0,5,2,20,0,13,15,40,0,41,null,null,null,null,null,null,null,{"$f":"connected_load_plot+J497-B497","v":48},{"$f":"connected_load_plot+K497-C497","v":49},{"$f":"connected_load_plot+L497-D497","v":56},{"$f":"0","v":0}]
["2024-04-25T02:55:00",8,9,27,0,5,2,15,0,13,15,37,0,44,null,null,null,null,null,null,null,{"$f":"connected_load_plot+J498-B498","v":47},{"$f":"connected_load_plot+K498-C498","v":48},{"$f":"connected_load_plot+L498-D498","v":52},{"$f":"0","v":0}]
["2024-04-25T03:00:00",8,7,26,0,5,2,15,0,12,15,40,0,41,null,null,null,null,null,null,null,{"$f":"connected_load_plot+J499-B499","v":46},{"$f":"connected_load_plot+K499-C499","v":50},{"$f":"connected_load_plot+L499-D499","v":56},{"$f":"0","v":0}]
["2024-04-25T03:05:00",9,8,30,0,5,2,20,0,18,15,45,0,47,null,null,null,null,null,null,null,{"$f":"connected_load_plot+J500-B500","v":51},{"$f":"connected_load_plot+K500-C500","v":49},{"$f":"connected_load_plot+L500-D500","v":57},{"$f":"0","v":0}]
["2024-04-25T03:10:00",7,9,27,0,5,3,20,0,12,16,38,0,43,null,null,null,null,null,null,null,{"$f":"connected_load_plot+J501-B501","v":47},{"$f":"connected_load_plot+K501-C501","v":49},{"$f":"connected_load_plot+L501-D501","v":53},{"$f":"0","v":0}]
["2024-04-25T03:15:00",7,10,29,0,5,3,20,0,12,16,38,0,46,null,null,null,null,null,null,null,{"$f":"connected_load_plot+J502-B502","v":47},{"$f":"connected_load_plot+K502-C502","v":48},{"$f":"connected_load_plot+L502-D502","v":51},{"$f":"0","v":0}]
["2024-04-25T03:20:00",8,9,28,0,5,3,20,0,12,22,40,0,45,null,null,null,null,null,null,null,{"$f":"connected_load_plot+J503-B503","v":46},{"$f":"connected_load_plot+K503-C503","v":55},{"$f":"connected_load_plot+L503-D503","v":54},{"$f":"0","v":0}]
["2024-04-25T03:25:00",7,9,33,0,5,3,20,0,16,16,48,0,49,null,null,null,null,null,null,null,{"$f":"connected_load_plot+J504-B504","v":51},{"$f":"connected_load_plot+K504-C504","v":49},{"$f":"connected_load_plot+L504-D504","v":57},{"$f":"0","v":0}]
["2024-04-25T03:30:00",8,9,28,0,5,3,20,0,18,16,40,0,45,null,null,null,null,null,null,null,{"$f":"connected_load_plot+J505-B505","v":52},{"$f":"connected_load_plot+K505-C505","v":49},{"$f":"connected_load_plot+L505-D505","v":54},{"$f":"0","v":0}]
["2024-04-25T03:35:00",7,9,29,0,5,3,20,0,12,16,38,0,45,null,null,null,null,null,null,null,{"$f":"connected_load_plot+J506-B506","v":47},{"$f":"connected_load_plot+K506-C506","v":49},{"$f":"connected_load_plot+L506-D506","v":51},{"$f":"0","v":0}]
["2024-04-25T03:40:00",7,10,29,0,5,3,20,0,16,22,39,0,46,null,null,null,null,null,null,null,{"$f":"connected_load_plot+J507-B507","v":51},{"$f":"connected_load_plot+K507-C507","v":54},{"$f":"connected_load_plot+L507-D507","v":52},{"$f":"0","v":0}]
["2024-04-25T03:45:00",8,10,30,0,5,3,20,0,12,22,39,0,48,null,null,null,null,null,null,null,{"$f":"connected_load_plot+J508-B508","v":46},{"$f":"connected_load_plot+K508-C508","v":54},{"$f":"connected_load_plot+L508-D508","v":51},{"$f":"0","v":0}]
["2024-04-25T03:50:00",8,9,25,0,5,3,19,0,18,16,36,0,42,null,null,null,null,null,null,null,{"$f":"connected_load_plot+J509-B509","v":52},{"$f":"connected_load_plot+K509-C509","v":49},{"$f":"connected_load_plot+L509-D509","v":53},{"$f":"0","v":0}]
["2024-04-25T03:55:00",7,9,30,0,5,3,19,0,12,16,37,0,46,null,null,null,null,null,null,null,{"$f":"connected_load_plot+J510-B510","v":47},{"$f":"connected_load_plot+K510-C510","v":49},{"$f":"connected_load_plot+L510-D510","v":49},{"$f":"0","v":0}]
["2024-04-25T04:00:00",8,9,28,0,5,3,19,0,14,16,43,0,45,null,null,null,null,null,null,null,{"$f":"connected_load_plot+J511-B511","v":48},{"$f":"connected_load_plot+K511-C511","v":49},{"$f":"connected_load_plot+L511-D511","v":57},{"$f":"0","v":0}]
["2024-04-25T04:05:00",8,9,26,0,5,3,18,0,12,16,39,0,43,null,null,null,null,null,null,null,{"$f":"connected_load_plot+J512-B512","v":46},{"$f":"connected_load_plot+K512-C512","v":49},{"$f":"connected_load_plot+L512-D512","v":55},{"$f":"0","v":0}]
["2024-04-25T04:10:00",8,11,22,0,5,3,14,0,17,22,36,0,41,null,null,null,null,null,null,null,{"$f":"connected_load_plot+J513-B513","v":51},{"$f":"connected_load_plot+K513-C513","v":53},{"$f":"connected_load_plot+L513-D513","v":56},{"$f":"0","v":0}]
["2024-04-25T04:15:00",8,10,28,0,5,3,19,0,18,16,42,0,46,null,null,null,null,null,null,null,{"$f":"connected_load_plot+J514-B514","v":52},{"$f":"connected_load_plot+K514-C514","v":48},{"$f":"connected_load_plot+L514-D514","v":56},{"$f":"0","v":0}]
["2024-04-25T04:20:00",7,9,28,0,5,3,18,0,12,16,40,0,{"$f":"SUM(B515:D515)","v":44},null,null,null,null,null,null,null,{"$f":"connected_load_plot+J515-B515","v":47},{"$f":"connected_load_plot+K515-C515","v":49},{"$f":"connected_load_plot+L515-D515","v":54},{"$f":"0","v":0}]
["2024-04-25T04:25:00",7,8,29,0,5,3,19,0,12,16,39,0,44,null,null,null,null,null,null,null,{"$f":"connected_load_plot+J516-B516","v":47},{"$f":"connected_load_plot+K516-C516","v":50},{"$f":"connected_load_plot+L516-D516","v":52},{"$f":"0","v":0}]
["2024-04-25T04:30:00",8,9,23,0,5,3,19,0,18,16,37,0,40,null,null,null,null,null,null,null,{"$f":"connected_load_plot+J517-B517","v":52},{"$f":"connected_load_plot+K517-C517","v":49},{"$f":"connected_load_plot+L517-D517","v":56},{"$f":"0","v":0}]
["2024-04-25T04:35:00",8,9,28,0,5,3,19,0,18,16,43,0,45,null,null,null,null,null,null,null,{"$f":"connected_load_plot+J518-B518","v":52},{"$f":"connected_load_plot+K518-C518","v":49},{"$f":"connected_load_plot+L518-D518","v":57},{"$f":"0","v":0}]
["2024-04-25T04:40:00",6,10,31,0,5,3,19,0,12,16,46,0,47,null,null,null,null,null,null,null,{"$f":"connected_load_plot+J519-B519","v":48},{"$f":"connected_load_plot+K519-C519","v":48},{"$f":"connected_load_plot+L519-D519","v":57},{"$f":"0","v":0}]
["2024-04-25T04:45:00",7,9,29,0,5,3,20,0,12,16,38,0,45,null,null,null,null,null,null,null,{"$f":"connected_load_plot+J520-B520","v":47},{"$f":"connected_load_plot+K520-C520","v":49},{"$f":"connected_load_plot+L520-D520","v":51},{"$f":"0","v":0}]
["2024-04-25T04:50:00",8,9,28,0,5,3,20,0,12,16,38,0,45,null,null,null,null,null,null,null,{"$f":"connected_load_plot+J521-B521","v":46},{"$f":"connected_load_plot+K521-C521","v":49},{"$f":"connected_load_plot+L521-D521","v":52},{"$f":"0","v":0}]
["2024-04-25T04:55:00",8,10,30,0,5,3,20,0,18,16,40,0,48,null,null,null,null,null,null,null,{"$f":"connected_load_plot+J522-B522","v":52},{"$f":"connected_load_plot+K522-C522","v":48},{"$f":"connected_load_plot+L522-D522","v":52},{"$f":"0","v":0}]
["2024-04-25T05:00:00",6,7,28,0,5,3,20,0,13,16,44,0,41,null,null,null,null,null,null,null,{"$f":"connected_load_plot+J523-B523","v":49},{"$f":"connected_load_plot+K523-C523","v":51},{"$f":"connected_load_plot+L523-D523","v":58},{"$f":"0","v":0}]
["2024-04-25T05:05:00",7,9,26,0,5,3,20,0,12,16,38,0,42,null,null,null,null,null,null,null,{"$f":"connected_load_plot+J524-B524","v":47},{"$f":"connected_load_plot+K524-C524","v":49},{"$f":"connected_load_plot+L524-D524","v":54},{"$f":"0","v":0}]
["2024-04-25T05:10:00",8,10,30,0,5,3,20,0,18,16,38,0,48,null,null,null,null,null,null,null,{"$f":"connected_load_plot+J525-B525","v":52},{"$f":"connected_load_plot+K525-C525","v":48},{"$f":"connected_load_plot+L525-D525","v":50},{"$f":"0","v":0}]
["2024-04-25T05:15:00",9,10,31,0,5,3,20,0,18,16,44,0,50,null,null,null,null,null,null,null,{"$f":"connected_load_plot+J526-B526","v":51},{"$f":"connected_load_plot+K526-C526","v":48},{"$f":"connected_load_plot+L526-D526","v":55},{"$f":"0","v":0}]
["2024-04-25T05:20:00",7,10,29,0,5,3,20,0,12,16,39,0,46,null,null,null,null,null,null,null,{"$f":"connected_load_plot+J527-B527","v":47},{"$f":"connected_load_plot+K527-C527","v":48},{"$f":"connected_load_plot+L527-D527","v":52},{"$f":"0","v":0}]
["2024-04-25T05:25:00",6,8,29,0,5,3,20,0,13,16,38,0,43,null,null,null,null,null,null,null,{"$f":"connected_load_plot+J528-B528","v":49},{"$f":"connected_load_plot+K528-C528","v":50},{"$f":"connected_load_plot+L528-D528","v":51},{"$f":"0","v":0}]
["2024-04-25T05:30:00",8,8,30,0,5,3,19,0,18,16,41,0,46,null,null,null,null,null,null,null,{"$f":"connected_load_plot+J529-B529","v":52},{"$f":"connected_load_plot+K529-C529","v":50},{"$f":"connected_load_plot+L529-D529","v":53},{"$f":"0","v":0}]
["2024-04-25T05:35:00",8,8,26,0,5,3,18,0,17,16,38,0,42,null,null,null,null,null,null,null,{"$f":"connected_load_plot+J530-B530","v":51},{"$f":"connected_load_plot+K530-C530","v":50},{"$f":"connected_load_plot+L530-D530","v":54},{"$f":"0","v":0}]
["2024-04-25T05:40:00",8,11,29,0,5,3,18,0,17,22,40,0,48,null,null,null,null,null,null,null,{"$f":"connected_load_plot+J531-B531","v":51},{"$f":"connected_load_plot+K531-C531","v":53},{"$f":"connected_load_plot+L531-D531","v":53},{"$f":"0","v":0}]
["2024-04-25T05:45:00",6,9,26,0,4,3,18,0,12,15,37,0,41,null,null,null,null,null,null,null,{"$f":"connected_load_plot+J532-B532","v":48},{"$f":"connected_load_plot+K532-C532","v":48},{"$f":"connected_load_plot+L532-D532","v":53},{"$f":"0","v":0}]
["2024-04-25T05:50:00",8,9,29,0,5,3,18,0,17,15,42,0,46,null,null,null,null,null,null,null,{"$f":"connected_load_plot+J533-B533","v":51},{"$f":"connected_load_plot+K533-C533","v":48},{"$f":"connected_load_plot+L533-D533","v":55},{"$f":"0","v":0}]
["2024-04-25T05:55:00",8,9,27,0,4,3,19,0,18,16,38,0,44,null,null,null,null,null,null,null,{"$f":"connected_load_plot+J534-B534","v":52},{"$f":"connected_load_plot+K534-C534","v":49},{"$f":"connected_load_plot+L534-D534","v":53},{"$f":"0","v":0}]
["2024-04-25T06:00:00",6,9,28,0,3,3,20,0,11,16,40,0,43,null,null,null,null,null,null,null,{"$f":"connected_load_plot+J535-B535","v":47},{"$f":"connected_load_plot+K535-C535","v":49},{"$f":"connected_load_plot+L535-D535","v":54},{"$f":"0","v":0}]
["2024-04-25T06:05:00",6,11,28,0,3,3,20,0,11,23,44,0,45,null,null,null,null,null,null,null,{"$f":"connected_load_plot+J536-B536","v":47},{"$f":"connected_load_plot+K536-C536","v":54},{"$f":"connected_load_plot+L536-D536","v":58},{"$f":"0","v":0}]
["2024-04-25T06:10:00",5,8,32,0,3,3,20,0,11,16,44,0,45,null,null,null,null,null,null,null,{"$f":"connected_load_plot+J537-B537","v":48},{"$f":"connected_load_plot+K537-C537","v":50},{"$f":"connected_load_plot+L537-D537","v":54},{"$f":"0","v":0}]
["2024-04-25T06:15:00",6,9,30,0,3,3,20,0,16,16,41,0,45,null,null,null,null,null,null,null,{"$f":"connected_load_plot+J538-B538","v":52},{"$f":"connected_load_plot+K538-C538","v":49},{"$f":"connected_load_plot+L538-D538","v":53},{"$f":"0","v":0}]
["2024-04-25T06:20:00",6,9,28,0,3,3,19,0,11,16,40,0,43,null,null,null,null,null,null,null,{"$f":"connected_load_plot+J539-B539","v":47},{"$f":"connected_load_plot+K539-C539","v":49},{"$f":"connected_load_plot+L539-D539","v":54},{"$f":"0","v":0}]
["2024-04-25T06:25:00",6,15,28,0,3,3,19,0,11,28,38,0,49,null,null,null,null,null,null,null,{"$f":"connected_load_plot+J540-B540","v":47},{"$f":"connected_load_plot+K540-C540","v":55},{"$f":"connected_load_plot+L540-D540","v":52},{"$f":"0","v":0}]
["2024-04-25T06:30:00",7,19,33,0,3,9,20,0,16,29,44,0,59,null,null,null,null,null,null,null,{"$f":"connected_load_plot+J541-B541","v":51},{"$f":"connected_load_plot+K541-C541","v":52},{"$f":"connected_load_plot+L541-D541","v":53},{"$f":"0","v":0}]
["2024-04-25T06:35:00",6,15,28,0,3,9,20,0,16,23,39,0,49,null,null,null,null,null,null,null,{"$f":"connected_load_plot+J542-B542","v":52},{"$f":"connected_load_plot+K542-C542","v":50},{"$f":"connected_load_plot+L542-D542","v":53},{"$f":"0","v":0}]
["2024-04-25T06:40:00",4,12,28,0,2,9,20,0,11,17,42,0,44,null,null,null,null,null,null,null,{"$f":"connected_load_plot+J543-B543","v":49},{"$f":"connected_load_plot+K543-C543","v":47},{"$f":"connected_load_plot+L543-D543","v":56},{"$f":"0","v":0}]
["2024-04-25T06:45:00",6,12,30,0,3,9,20,0,16,23,40,0,48,null,null,null,null,null,null,null,{"$f":"connected_load_plot+J544-B544","v":52},{"$f":"connected_load_plot+K544-C544","v":53},{"$f":"connected_load_plot+L544-D544","v":52},{"$f":"0","v":0}]
["2024-04-25T06:50:00",6,14,32,0,3,9,20,0,11,23,48,0,52,null,null,null,null,null,null,null,{"$f":"connected_load_plot+J545-B545","v":47},{"$f":"connected_load_plot+K545-C545","v":51},{"$f":"connected_load_plot+L545-D545","v":58},{"$f":"0","v":0}]
["2024-04-25T06:55:00",6,13,28,0,3,9,20,0,15,23,38,0,47,null,null,null,null,null,null,null,{"$f":"connected_load_plot+J546-B546","v":51},{"$f":"connected_load_plot+K546-C546","v":52},{"$f":"connected_load_plot+L546-D546","v":52},{"$f":"0","v":0}]
["2024-04-25T07:00:00",5,12,33,0,3,9,20,0,10,23,44,0,50,null,null,null,null,null,null,null,{"$f":"connected_load_plot+J547-B547","v":47},{"$f":"connected_load_plot+K547-C547","v":53},{"$f":"connected_load_plot+L547-D547","v":53},{"$f":"0","v":0}]
["2024-04-25T07:05:00",8,12,30,0,3,8,19,0,18,22,47,0,50,null,null,null,null,null,null,null,{"$f":"connected_load_plot+J548-B548","v":52},{"$f":"connected_load_plot+K548-C548","v":52},{"$f":"connected_load_plot+L548-D548","v":59},{"$f":"0","v":0}]
["2024-04-25T07:10:00",7,12,29,0,3,8,19,0,17,22,37,0,48,null,null,null,null,null,null,null,{"$f":"connected_load_plot+J549-B549","v":52},{"$f":"connected_load_plot+K549-C549","v":52},{"$f":"connected_load_plot+L549-D549","v":50},{"$f":"0","v":0}]
["2024-04-25T07:15:00",6,14,25,0,3,8,19,0,16,21,36,0,45,null,null,null,null,null,null,null,{"$f":"connected_load_plot+J550-B550","v":52},{"$f":"connected_load_plot+K550-C550","v":49},{"$f":"connected_load_plot+L550-D550","v":53},{"$f":"0","v":0}]
["2024-04-25T07:20:00",7,11,31,0,3,8,19,0,16,21,42,0,49,null,null,null,null,null,null,null,{"$f":"connected_load_plot+J551-B551","v":51},{"$f":"connected_load_plot+K551-C551","v":52},{"$f":"connected_load_plot+L551-D551","v":53},{"$f":"0","v":0}]
["2024-04-25T07:25:00",8,11,29,0,3,8,20,0,16,21,39,0,48,null,null,null,null,null,null,null,{"$f":"connected_load_plot+J552-B552","v":50},{"$f":"connected_load_plot+K552-C552","v":52},{"$f":"connected_load_plot+L552-D552","v":52},{"$f":"0","v":0}]
["2024-04-25T07:30:00",6,14,31,0,3,9,21,0,11,23,41,0,51,null,null,null,null,null,null,null,{"$f":"connected_load_plot+J553-B553","v":47},{"$f":"connected_load_plot+K553-C553","v":51},{"$f":"connected_load_plot+L553-D553","v":52},{"$f":"0","v":0}]
["2024-04-25T07:35:00",6,13,27,0,3,9,21,0,11,22,40,0,46,null,null,null,null,null,null,null,{"$f":"connected_load_plot+J554-B554","v":47},{"$f":"connected_load_plot+K554-C554","v":51},{"$f":"connected_load_plot+L554-D554","v":55},{"$f":"0","v":0}]
["2024-04-25T07:40:00",8,13,34,0,3,9,21,0,22,22,45,0,55,null,null,null,null,null,null,null,{"$f":"connected_load_plot+J555-B555","v":56},{"$f":"connected_load_plot+K555-C555","v":51},{"$f":"connected_load_plot+L555-D555","v":53},{"$f":"0","v":0}]
["2024-04-25T07:45:00",11,13,30,0,9,9,21,0,22,23,40,0,54,null,null,null,null,null,null,null,{"$f":"connected_load_plot+J556-B556","v":53},{"$f":"connected_load_plot+K556-C556","v":52},{"$f":"connected_load_plot+L556-D556","v":52},{"$f":"0","v":0}]
["2024-04-25T07:50:00",12,16,30,0,9,9,21,0,16,29,43,0,58,null,null,null,null,null,null,null,{"$f":"connected_load_plot+J557-B557","v":46},{"$f":"connected_load_plot+K557-C557","v":55},{"$f":"connected_load_plot+L557-D557","v":55},{"$f":"0","v":0}]
["2024-04-25T07:55:00",11,17,29,0,9,15,20,0,16,23,38,0,57,null,null,null,null,null,null,null,{"$f":"connected_load_plot+J558-B558","v":47},{"$f":"connected_load_plot+K558-C558","v":48},{"$f":"connected_load_plot+L558-D558","v":51},{"$f":"0","v":0}]
["2024-04-25T08:00:00",12,20,30,0,8,15,20,0,17,29,42,0,62,null,null,null,null,null,null,null,{"$f":"connected_load_plot+J559-B559","v":47},{"$f":"connected_load_plot+K559-C559","v":51},{"$f":"connected_load_plot+L559-D559","v":54},{"$f":"0","v":0}]
["2024-04-25T08:05:00",11,20,25,0,8,15,20,0,16,29,33,0,56,null,null,null,null,null,null,null,{"$f":"connected_load_plot+J560-B560","v":47},{"$f":"connected_load_plot+K560-C560","v":51},{"$f":"connected_load_plot+L560-D560","v":50},{"$f":"0","v":0}]
["2024-04-25T08:10:00",11,18,31,0,8,9,20,0,22,29,46,0,60,null,null,null,null,null,null,null,{"$f":"connected_load_plot+J561-B561","v":53},{"$f":"connected_load_plot+K561-C561","v":53},{"$f":"connected_load_plot+L561-D561","v":57},{"$f":"0","v":0}]
["2024-04-25T08:15:00",12,14,30,0,8,3,19,0,16,23,46,0,56,null,null,null,null,null,null,null,{"$f":"connected_load_plot+J562-B562","v":46},{"$f":"connected_load_plot+K562-C562","v":51},{"$f":"connected_load_plot+L562-D562","v":58},{"$f":"0","v":0}]
["2024-04-25T08:20:00",11,14,29,0,8,3,19,0,16,22,40,0,54,null,null,null,null,null,null,null,{"$f":"connected_load_plot+J563-B563","v":47},{"$f":"connected_load_plot+K563-C563","v":50},{"$f":"connected_load_plot+L563-D563","v":53},{"$f":"0","v":0}]
["2024-04-25T08:25:00",11,15,26,0,8,3,18,0,15,22,36,0,52,null,null,null,null,null,null,null,{"$f":"connected_load_plot+J564-B564","v":46},{"$f":"connected_load_plot+K564-C564","v":49},{"$f":"connected_load_plot+L564-D564","v":52},{"$f":"0","v":0}]
["2024-04-25T08:30:00",13,14,31,0,8,3,19,0,23,23,42,0,58,null,null,null,null,null,null,null,{"$f":"connected_load_plot+J565-B565","v":52},{"$f":"connected_load_plot+K565-C565","v":51},{"$f":"connected_load_plot+L565-D565","v":53},{"$f":"0","v":0}]
["2024-04-25T08:35:00",11,10,28,0,8,2,19,0,16,16,38,0,49,null,null,null,null,null,null,null,{"$f":"connected_load_plot+J566-B566","v":47},{"$f":"connected_load_plot+K566-C566","v":48},{"$f":"connected_load_plot+L566-D566","v":52},{"$f":"0","v":0}]
["2024-04-25T08:40:00",11,7,28,0,8,2,19,0,22,15,40,0,46,null,null,null,null,null,null,null,{"$f":"connected_load_plot+J567-B567","v":53},{"$f":"connected_load_plot+K567-C567","v":50},{"$f":"connected_load_plot+L567-D567","v":54},{"$f":"0","v":0}]
["2024-04-25T08:45:00",12,9,25,0,8,2,19,0,21,15,32,0,46,null,null,null,null,null,null,null,{"$f":"connected_load_plot+J568-B568","v":51},{"$f":"connected_load_plot+K568-C568","v":48},{"$f":"connected_load_plot+L568-D568","v":49},{"$f":"0","v":0}]
["2024-04-25T08:50:00",11,8,29,0,8,2,19,0,16,21,43,0,48,null,null,null,null,null,null,null,{"$f":"connected_load_plot+J569-B569","v":47},{"$f":"connected_load_plot+K569-C569","v":55},{"$f":"connected_load_plot+L569-D569","v":56},{"$f":"0","v":0}]
["2024-04-25T08:55:00",10,7,28,0,8,2,19,0,15,15,39,0,45,null,null,null,null,null,null,null,{"$f":"connected_load_plot+J570-B570","v":47},{"$f":"connected_load_plot+K570-C570","v":50},{"$f":"connected_load_plot+L570-D570","v":53},{"$f":"0","v":0}]
["2024-04-25T09:00:00",14,8,36,0,8,2,23,0,22,21,49,0,58,null,null,null,null,null,null,null,{"$f":"connected_load_plot+J571-B571","v":50},{"$f":"connected_load_plot+K571-C571","v":55},{"$f":"connected_load_plot+L571-D571","v":55},{"$f":"0","v":0}]
["2024-04-25T09:05:00",18,9,25,0,15,2,19,0,23,21,36,0,52,null,null,null,null,null,null,null,{"$f":"connected_load_plot+J572-B572","v":47},{"$f":"connected_load_plot+K572-C572","v":54},{"$f":"connected_load_plot+L572-D572","v":53},{"$f":"0","v":0}]
["2024-04-25T09:10:00",24,10,28,0,15,2,19,0,38,21,41,0,62,null,null,null,null,null,null,null,{"$f":"connected_load_plot+J573-B573","v":56},{"$f":"connected_load_plot+K573-C573","v":53},{"$f":"connected_load_plot+L573-D573","v":55},{"$f":"0","v":0}]
["2024-04-25T09:15:00",17,8,26,0,9,2,19,0,23,15,38,0,51,null,null,null,null,null,null,null,{"$f":"connected_load_plot+J574-B574","v":48},{"$f":"connected_load_plot+K574-C574","v":49},{"$f":"connected_load_plot+L574-D574","v":54},{"$f":"0","v":0}]
["2024-04-25T09:20:00",11,7,29,0,4,2,19,0,17,16,41,0,47,null,null,null,null,null,null,null,{"$f":"connected_load_plot+J575-B575","v":48},{"$f":"connected_load_plot+K575-C575","v":51},{"$f":"connected_load_plot+L575-D575","v":54},{"$f":"0","v":0}]
["2024-04-25T09:25:00",7,7,28,0,4,2,19,0,11,15,38,0,42,null,null,null,null,null,null,null,{"$f":"connected_load_plot+J576-B576","v":46},{"$f":"connected_load_plot+K576-C576","v":50},{"$f":"connected_load_plot+L576-D576","v":52},{"$f":"0","v":0}]
["2024-04-25T09:30:00",7,10,28,0,4,2,19,0,11,23,42,0,45,null,null,null,null,null,null,null,{"$f":"connected_load_plot+J577-B577","v":46},{"$f":"connected_load_plot+K577-C577","v":55},{"$f":"connected_load_plot+L577-D577","v":56},{"$f":"0","v":0}]
["2024-04-25T09:35:00",7,11,26,0,4,2,19,0,17,23,37,0,44,null,null,null,null,null,null,null,{"$f":"connected_load_plot+J578-B578","v":52},{"$f":"connected_load_plot+K578-C578","v":54},{"$f":"connected_load_plot+L578-D578","v":53},{"$f":"0","v":0}]
["2024-04-25T09:40:00",7,7,31,0,4,2,19,0,17,16,42,0,{"$f":"SUM(B579:D579)","v":45},null,null,null,null,null,null,null,{"$f":"connected_load_plot+J579-B579","v":52},{"$f":"connected_load_plot+K579-C579","v":51},{"$f":"connected_load_plot+L579-D579","v":53},{"$f":"0","v":0}]
["2024-04-25T09:45:00",6,9,28,0,4,3,20,0,11,22,39,0,43,null,null,null,null,null,null,null,{"$f":"connected_load_plot+J580-B580","v":47},{"$f":"connected_load_plot+K580-C580","v":55},{"$f":"connected_load_plot+L580-D580","v":53},{"$f":"0","v":0}]
["2024-04-25T09:50:00",8,9,28,0,4,3,20,0,17,16,42,0,45,null,null,null,null,null,null,null,{"$f":"connected_load_plot+J581-B581","v":51},{"$f":"connected_load_plot+K581-C581","v":49},{"$f":"connected_load_plot+L581-D581","v":56},{"$f":"0","v":0}]
["2024-04-25T09:55:00",7,8,24,0,4,3,20,0,11,16,33,0,39,null,null,null,null,null,null,null,{"$f":"connected_load_plot+J582-B582","v":46},{"$f":"connected_load_plot+K582-C582","v":50},{"$f":"connected_load_plot+L582-D582","v":51},{"$f":"0","v":0}]
["2024-04-25T10:00:00",8,7,30,0,4,3,20,0,17,10,39,0,45,null,null,null,null,null,null,null,{"$f":"connected_load_plot+J583-B583","v":51},{"$f":"connected_load_plot+K583-C583","v":45},{"$f":"connected_load_plot+L583-D583","v":51},{"$f":"0","v":0}]
["2024-04-25T10:05:00",6,8,29,0,4,3,20,0,12,16,40,0,43,null,null,null,null,null,null,null,{"$f":"connected_load_plot+J584-B584","v":48},{"$f":"connected_load_plot+K584-C584","v":50},{"$f":"connected_load_plot+L584-D584","v":53},{"$f":"0","v":0}]
["2024-04-25T10:10:00",6,10,33,0,4,3,20,0,17,22,44,0,49,null,null,null,null,null,null,null,{"$f":"connected_load_plot+J585-B585","v":53},{"$f":"connected_load_plot+K585-C585","v":54},{"$f":"connected_load_plot+L585-D585","v":53},{"$f":"0","v":0}]
["2024-04-25T10:15:00",7,7,28,0,4,3,20,0,11,15,44,0,42,null,null,null,null,null,null,null,{"$f":"connected_load_plot+J586-B586","v":46},{"$f":"connected_load_plot+K586-C586","v":50},{"$f":"connected_load_plot+L586-D586","v":58},{"$f":"0","v":0}]
["2024-04-25T10:20:00",8,7,30,0,4,3,20,0,17,15,44,0,45,null,null,null,null,null,null,null,{"$f":"connected_load_plot+J587-B587","v":51},{"$f":"connected_load_plot+K587-C587","v":50},{"$f":"connected_load_plot+L587-D587","v":56},{"$f":"0","v":0}]
["2024-04-25T10:25:00",6,8,33,0,4,3,20,0,12,16,48,0,47,null,null,null,null,null,null,null,{"$f":"connected_load_plot+J588-B588","v":48},{"$f":"connected_load_plot+K588-C588","v":50},{"$f":"connected_load_plot+L588-D588","v":57},{"$f":"0","v":0}]
["2024-04-25T10:30:00",7,8,29,0,4,3,20,0,17,15,48,0,44,null,null,null,null,null,null,null,{"$f":"connected_load_plot+J589-B589","v":52},{"$f":"connected_load_plot+K589-C589","v":49},{"$f":"connected_load_plot+L589-D589","v":61},{"$f":"0","v":0}]
["2024-04-25T10:35:00",7,7,27,0,4,3,20,0,12,10,33,0,41,null,null,null,null,null,null,null,{"$f":"connected_load_plot+J590-B590","v":47},{"$f":"connected_load_plot+K590-C590","v":45},{"$f":"connected_load_plot+L590-D590","v":48},{"$f":"0","v":0}]
["2024-04-25T10:40:00",7,9,28,0,4,3,20,0,17,16,35,0,44,null,null,null,null,null,null,null,{"$f":"connected_load_plot+J591-B591","v":52},{"$f":"connected_load_plot+K591-C591","v":49},{"$f":"connected_load_plot+L591-D591","v":49},{"$f":"0","v":0}]
["2024-04-25T10:45:00",7,9,26,0,4,3,20,0,12,16,33,0,42,null,null,null,null,null,null,null,{"$f":"connected_load_plot+J592-B592","v":47},{"$f":"connected_load_plot+K592-C592","v":49},{"$f":"connected_load_plot+L592-D592","v":49},{"$f":"0","v":0}]
["2024-04-25T10:50:00",6,7,30,0,4,3,20,0,11,10,44,0,43,null,null,null,null,null,null,null,{"$f":"connected_load_plot+J593-B593","v":47},{"$f":"connected_load_plot+K593-C593","v":45},{"$f":"connected_load_plot+L593-D593","v":56},{"$f":"0","v":0}]
["2024-04-25T10:55:00",6,8,28,0,4,3,20,0,12,11,41,0,42,null,null,null,null,null,null,null,{"$f":"connected_load_plot+J594-B594","v":48},{"$f":"connected_load_plot+K594-C594","v":45},{"$f":"connected_load_plot+L594-D594","v":55},{"$f":"0","v":0}]
["2024-04-25T11:00:00",8,8,29,0,4,3,20,0,12,16,37,0,45,null,null,null,null,null,null,null,{"$f":"connected_load_plot+J595-B595","v":46},{"$f":"connected_load_plot+K595-C595","v":50},{"$f":"connected_load_plot+L595-D595","v":50},{"$f":"0","v":0}]
["2024-04-25T11:05:00",7,8,23,0,4,3,20,0,12,16,31,0,38,null,null,null,null,null,null,null,{"$f":"connected_load_plot+J596-B596","v":47},{"$f":"connected_load_plot+K596-C596","v":50},{"$f":"connected_load_plot+L596-D596","v":50},{"$f":"0","v":0}]
["2024-04-25T11:10:00",6,7,28,0,4,3,20,0,12,10,36,0,41,null,null,null,null,null,null,null,{"$f":"connected_load_plot+J597-B597","v":48},{"$f":"connected_load_plot+K597-C597","v":45},{"$f":"connected_load_plot+L597-D597","v":50},{"$f":"0","v":0}]
["2024-04-25T11:15:00",7,7,27,0,4,3,19,0,12,10,37,0,41,null,null,null,null,null,null,null,{"$f":"connected_load_plot+J598-B598","v":47},{"$f":"connected_load_plot+K598-C598","v":45},{"$f":"connected_load_plot+L598-D598","v":52},{"$f":"0","v":0}]
["2024-04-25T11:20:00",6,8,28,0,4,3,20,0,11,16,43,0,42,null,null,null,null,null,null,null,{"$f":"connected_load_plot+J599-B599","v":47},{"$f":"connected_load_plot+K599-C599","v":50},{"$f":"connected_load_plot+L599-D599","v":57},{"$f":"0","v":0}]
["2024-04-25T11:25:00",6,9,26,0,4,3,20,0,11,16,37,0,41,null,null,null,null,null,null,null,{"$f":"connected_load_plot+J600-B600","v":47},{"$f":"connected_load_plot+K600-C600","v":49},{"$f":"connected_load_plot+L600-D600","v":53},{"$f":"0","v":0}]
["2024-04-25T11:30:00",7,7,27,0,4,3,19,0,11,16,35,0,41,null,null,null,null,null,null,null,{"$f":"connected_load_plot+J601-B601","v":46},{"$f":"connected_load_plot+K601-C601","v":51},{"$f":"connected_load_plot+L601-D601","v":50},{"$f":"0","v":0}]
["2024-04-25T11:35:00",7,7,25,0,4,3,19,0,11,10,37,0,39,null,null,null,null,null,null,null,{"$f":"connected_load_plot+J602-B602","v":46},{"$f":"connected_load_plot+K602-C602","v":45},{"$f":"connected_load_plot+L602-D602","v":54},{"$f":"0","v":0}]
["2024-04-25T11:40:00",6,8,29,0,4,3,19,0,11,16,43,0,43,null,null,null,null,null,null,null,{"$f":"connected_load_plot+J603-B603","v":47},{"$f":"connected_load_plot+K603-C603","v":50},{"$f":"connected_load_plot+L603-D603","v":56},{"$f":"0","v":0}]
["2024-04-25T11:45:00",6,9,26,0,4,3,19,0,12,16,39,0,41,null,null,null,null,null,null,null,{"$f":"connected_load_plot+J604-B604","v":48},{"$f":"connected_load_plot+K604-C604","v":49},{"$f":"connected_load_plot+L604-D604","v":55},{"$f":"0","v":0}]
["2024-04-25T11:50:00",7,9,26,0,4,3,19,0,17,16,35,0,42,null,null,null,null,null,null,null,{"$f":"connected_load_plot+J605-B605","v":52},{"$f":"connected_load_plot+K605-C605","v":49},{"$f":"connected_load_plot+L605-D605","v":51},{"$f":"0","v":0}]
["2024-04-25T11:55:00",6,9,25,0,4,3,19,0,12,16,36,0,40,null,null,null,null,null,null,null,{"$f":"connected_load_plot+J606-B606","v":48},{"$f":"connected_load_plot+K606-C606","v":49},{"$f":"connected_load_plot+L606-D606","v":53},{"$f":"0","v":0}]
["2024-04-25T12:00:00",7,9,29,0,4,3,19,0,12,16,43,0,45,null,null,null,null,null,null,null,{"$f":"connected_load_plot+J607-B607","v":47},{"$f":"connected_load_plot+K607-C607","v":49},{"$f":"connected_load_plot+L607-D607","v":56},{"$f":"0","v":0}]
["2024-04-25T12:05:00",6,8,27,0,3,3,19,0,11,16,38,0,41,null,null,null,null,null,null,null,{"$f":"connected_load_plot+J608-B608","v":47},{"$f":"connected_load_plot+K608-C608","v":50},{"$f":"connected_load_plot+L608-D608","v":53},{"$f":"0","v":0}]
["2024-04-25T12:10:00",6,7,31,0,3,3,19,0,11,11,47,0,44,null,null,null,null,null,null,null,{"$f":"connected_load_plot+J609-B609","v":47},{"$f":"connected_load_plot+K609-C609","v":46},{"$f":"connected_load_plot+L609-D609","v":58},{"$f":"0","v":0}]
["2024-04-25T12:15:00",6,8,26,0,3,3,19,0,11,16,38,0,40,null,null,null,null,null,null,null,{"$f":"connected_load_plot+J610-B610","v":47},{"$f":"connected_load_plot+K610-C610","v":50},{"$f":"connected_load_plot+L610-D610","v":54},{"$f":"0","v":0}]
["2024-04-25T12:20:00",7,9,28,0,3,3,19,0,12,16,40,0,44,null,null,null,null,null,null,null,{"$f":"connected_load_plot+J611-B611","v":47},{"$f":"connected_load_plot+K611-C611","v":49},{"$f":"connected_load_plot+L611-D611","v":54},{"$f":"0","v":0}]
["2024-04-25T12:25:00",6,8,26,0,4,3,19,0,12,16,41,0,40,null,null,null,null,null,null,null,{"$f":"connected_load_plot+J612-B612","v":48},{"$f":"connected_load_plot+K612-C612","v":50},{"$f":"connected_load_plot+L612-D612","v":57},{"$f":"0","v":0}]
["2024-04-25T12:30:00",6,7,33,0,3,3,22,0,11,10,50,0,46,null,null,null,null,null,null,null,{"$f":"connected_load_plot+J613-B613","v":47},{"$f":"connected_load_plot+K613-C613","v":45},{"$f":"connected_load_plot+L613-D613","v":59},{"$f":"0","v":0}]
["2024-04-25T12:35:00",6,8,27,0,4,3,19,0,17,16,41,0,41,null,null,null,null,null,null,null,{"$f":"connected_load_plot+J614-B614","v":53},{"$f":"connected_load_plot+K614-C614","v":50},{"$f":"connected_load_plot+L614-D614","v":56},{"$f":"0","v":0}]
["2024-04-25T12:40:00",6,8,29,0,3,3,22,0,11,16,37,0,43,null,null,null,null,null,null,null,{"$f":"connected_load_plot+J615-B615","v":47},{"$f":"connected_load_plot+K615-C615","v":50},{"$f":"connected_load_plot+L615-D615","v":50},{"$f":"0","v":0}]
["2024-04-25T12:45:00",6,8,28,0,3,3,22,0,12,16,37,0,42,null,null,null,null,null,null,null,{"$f":"connected_load_plot+J616-B616","v":48},{"$f":"connected_load_plot+K616-C616","v":50},{"$f":"connected_load_plot+L616-D616","v":51},{"$f":"0","v":0}]
["2024-04-25T12:50:00",9,7,30,0,4,3,22,0,17,10,43,0,46,null,null,null,null,null,null,null,{"$f":"connected_load_plot+J617-B617","v":50},{"$f":"connected_load_plot+K617-C617","v":45},{"$f":"connected_load_plot+L617-D617","v":55},{"$f":"0","v":0}]
["2024-04-25T12:55:00",9,7,27,0,3,3,19,0,16,10,39,0,43,null,null,null,null,null,null,null,{"$f":"connected_load_plot+J618-B618","v":49},{"$f":"connected_load_plot+K618-C618","v":45},{"$f":"connected_load_plot+L618-D618","v":54},{"$f":"0","v":0}]
["2024-04-25T13:00:00",8,7,29,0,3,3,19,0,15,16,43,0,44,null,null,null,null,null,null,null,{"$f":"connected_load_plot+J619-B619","v":49},{"$f":"connected_load_plot+K619-C619","v":51},{"$f":"connected_load_plot+L619-D619","v":56},{"$f":"0","v":0}]
["2024-04-25T13:05:00",6,8,25,0,3,3,19,0,10,16,33,0,39,null,null,null,null,null,null,null,{"$f":"connected_load_plot+J620-B620","v":46},{"$f":"connected_load_plot+K620-C620","v":50},{"$f":"connected_load_plot+L620-D620","v":50},{"$f":"0","v":0}]
["2024-04-25T13:10:00",6,7,28,0,3,3,19,0,10,15,36,0,41,null,null,null,null,null,null,null,{"$f":"connected_load_plot+J621-B621","v":46},{"$f":"connected_load_plot+K621-C621","v":50},{"$f":"connected_load_plot+L621-D621","v":50},{"$f":"0","v":0}]
["2024-04-25T13:15:00",6,7,28,0,3,3,20,0,11,10,43,0,41,null,null,null,null,null,null,null,{"$f":"connected_load_plot+J622-B622","v":47},{"$f":"connected_load_plot+K622-C622","v":45},{"$f":"connected_load_plot+L622-D622","v":57},{"$f":"0","v":0}]
["2024-04-25T13:20:00",5,8,29,0,3,3,20,0,11,16,44,0,42,null,null,null,null,null,null,null,{"$f":"connected_load_plot+J623-B623","v":48},{"$f":"connected_load_plot+K623-C623","v":50},{"$f":"connected_load_plot+L623-D623","v":57},{"$f":"0","v":0}]
["2024-04-25T13:25:00",6,9,29,0,3,3,20,0,11,16,43,0,44,null,null,null,null,null,null,null,{"$f":"connected_load_plot+J624-B624","v":47},{"$f":"connected_load_plot+K624-C624","v":49},{"$f":"connected_load_plot+L624-D624","v":56},{"$f":"0","v":0}]
["2024-04-25T13:30:00",6,7,28,0,3,3,22,0,11,16,37,0,41,null,null,null,null,null,null,null,{"$f":"connected_load_plot+J625-B625","v":47},{"$f":"connected_load_plot+K625-C625","v":51},{"$f":"connected_load_plot+L625-D625","v":51},{"$f":"0","v":0}]
["2024-04-25T13:35:00",7,7,26,0,3,3,19,0,11,10,37,0,40,null,null,null,null,null,null,null,{"$f":"connected_load_plot+J626-B626","v":46},{"$f":"connected_load_plot+K626-C626","v":45},{"$f":"connected_load_plot+L626-D626","v":53},{"$f":"0","v":0}]
["2024-04-25T13:40:00",5,7,29,0,3,3,19,0,11,16,42,0,41,null,null,null,null,null,null,null,{"$f":"connected_load_plot+J627-B627","v":48},{"$f":"connected_load_plot+K627-C627","v":51},{"$f":"connected_load_plot+L627-D627","v":55},{"$f":"0","v":0}]
["2024-04-25T13:45:00",6,7,26,0,3,2,19,0,11,15,42,0,39,null,null,null,null,null,null,null,{"$f":"connected_load_plot+J628-B628","v":47},{"$f":"connected_load_plot+K628-C628","v":50},{"$f":"connected_load_plot+L628-D628","v":58},{"$f":"0","v":0}]
["2024-04-25T13:50:00",7,5,27,0,3,2,20,0,11,9,38,0,39,null,null,null,null,null,null,null,{"$f":"connected_load_plot+J629-B629","v":46},{"$f":"connected_load_plot+K629-C629","v":46},{"$f":"connected_load_plot+L629-D629","v":53},{"$f":"0","v":0}]
["2024-04-25T13:55:00",6,6,25,0,3,2,19,0,11,9,33,0,37,null,null,null,null,null,null,null,{"$f":"connected_load_plot+J630-B630","v":47},{"$f":"connected_load_plot+K630-C630","v":45},{"$f":"connected_load_plot+L630-D630","v":50},{"$f":"0","v":0}]
["2024-04-25T14:00:00",6,6,30,0,3,2,19,0,11,14,44,0,42,null,null,null,null,null,null,null,{"$f":"connected_load_plot+J631-B631","v":47},{"$f":"connected_load_plot+K631-C631","v":50},{"$f":"connected_load_plot+L631-D631","v":56},{"$f":"0","v":0}]
["2024-04-25T14:05:00",5,7,26,0,3,2,19,0,10,15,44,0,38,null,null,null,null,null,null,null,{"$f":"connected_load_plot+J632-B632","v":47},{"$f":"connected_load_plot+K632-C632","v":50},{"$f":"connected_load_plot+L632-D632","v":60},{"$f":"0","v":0}]
["2024-04-25T14:10:00",6,6,26,0,3,2,19,0,11,15,35,0,38,null,null,null,null,null,null,null,{"$f":"connected_load_plot+J633-B633","v":47},{"$f":"connected_load_plot+K633-C633","v":51},{"$f":"connected_load_plot+L633-D633","v":51},{"$f":"0","v":0}]
["2024-04-25T14:15:00",7,5,25,0,4,2,19,0,12,9,36,0,37,null,null,null,null,null,null,null,{"$f":"connected_load_plot+J634-B634","v":47},{"$f":"connected_load_plot+K634-C634","v":46},{"$f":"connected_load_plot+L634-D634","v":53},{"$f":"0","v":0}]
["2024-04-25T14:20:00",7,3,27,0,4,2,18,0,12,10,42,0,37,null,null,null,null,null,null,null,{"$f":"connected_load_plot+J635-B635","v":47},{"$f":"connected_load_plot+K635-C635","v":49},{"$f":"connected_load_plot+L635-D635","v":57},{"$f":"0","v":0}]
["2024-04-25T14:25:00",6,4,25,0,3,2,18,0,17,9,37,0,35,null,null,null,null,null,null,null,{"$f":"connected_load_plot+J636-B636","v":53},{"$f":"connected_load_plot+K636-C636","v":47},{"$f":"connected_load_plot+L636-D636","v":54},{"$f":"0","v":0}]
["2024-04-25T14:30:00",8,3,24,0,3,2,18,0,17,9,31,0,35,null,null,null,null,null,null,null,{"$f":"connected_load_plot+J637-B637","v":51},{"$f":"connected_load_plot+K637-C637","v":48},{"$f":"connected_load_plot+L637-D637","v":49},{"$f":"0","v":0}]
["2024-04-25T14:35:00",10,2,27,0,3,2,20,0,17,6,32,0,39,null,null,null,null,null,null,null,{"$f":"connected_load_plot+J638-B638","v":49},{"$f":"connected_load_plot+K638-C638","v":46},{"$f":"connected_load_plot+L638-D638","v":47},{"$f":"0","v":0}]
["2024-04-25T14:40:00",7,2,30,0,3,2,18,0,17,9,42,0,39,null,null,null,null,null,null,null,{"$f":"connected_load_plot+J639-B639","v":52},{"$f":"connected_load_plot+K639-C639","v":49},{"$f":"connected_load_plot+L639-D639","v":54},{"$f":"0","v":0}]
["2024-04-25T14:45:00",6,4,19,0,3,2,11,0,11,9,42,0,29,null,null,null,null,null,null,null,{"$f":"connected_load_plot+J640-B640","v":47},{"$f":"connected_load_plot+K640-C640","v":47},{"$f":"connected_load_plot+L640-D640","v":65},{"$f":"0","v":0}]
["2024-04-25T14:50:00",6,3,15,0,3,1,11,0,16,9,22,0,24,null,null,null,null,null,null,null,{"$f":"connected_load_plot+J641-B641","v":52},{"$f":"connected_load_plot+K641-C641","v":48},{"$f":"connected_load_plot+L641-D641","v":49},{"$f":"0","v":0}]
["2024-04-25T14:55:00",13,2,12,0,3,1,11,0,24,8,20,0,27,null,null,null,null,null,null,null,{"$f":"connected_load_plot+J642-B642","v":53},{"$f":"connected_load_plot+K642-C642","v":48},{"$f":"connected_load_plot+L642-D642","v":50},{"$f":"0","v":0}]
["2024-04-25T15:00:00",14,2,15,0,9,1,10,0,24,8,22,0,{"$f":"SUM(B643:D643)","v":31},null,null,null,null,null,null,null,{"$f":"connected_load_plot+J643-B643","v":52},{"$f":"connected_load_plot+K643-C643","v":48},{"$f":"connected_load_plot+L643-D643","v":49},{"$f":"0","v":0}]
["2024-04-25T15:05:00",7,3,13,0,3,1,10,0,16,9,21,0,23,null,null,null,null,null,null,null,{"$f":"connected_load_plot+J644-B644","v":51},{"$f":"connected_load_plot+K644-C644","v":48},{"$f":"connected_load_plot+L644-D644","v":50},{"$f":"0","v":0}]
["2024-04-25T15:10:00",9,3,11,0,3,1,10,0,24,9,17,0,23,null,null,null,null,null,null,null,{"$f":"connected_load_plot+J645-B645","v":57},{"$f":"connected_load_plot+K645-C645","v":48},{"$f":"connected_load_plot+L645-D645","v":48},{"$f":"0","v":0}]
["2024-04-25T15:15:00",14,3,13,0,10,1,10,0,24,9,21,0,30,null,null,null,null,null,null,null,{"$f":"connected_load_plot+J646-B646","v":52},{"$f":"connected_load_plot+K646-C646","v":48},{"$f":"connected_load_plot+L646-D646","v":50},{"$f":"0","v":0}]
["2024-04-25T15:20:00",15,2,13,0,10,1,10,0,23,5,21,0,30,null,null,null,null,null,null,null,{"$f":"connected_load_plot+J647-B647","v":50},{"$f":"connected_load_plot+K647-C647","v":45},{"$f":"connected_load_plot+L647-D647","v":50},{"$f":"0","v":0}]
["2024-04-25T15:25:00",11,4,12,0,3,1,10,0,23,10,21,0,27,null,null,null,null,null,null,null,{"$f":"connected_load_plot+J648-B648","v":54},{"$f":"connected_load_plot+K648-C648","v":48},{"$f":"connected_load_plot+L648-D648","v":51},{"$f":"0","v":0}]
["2024-04-25T15:30:00",7,3,11,0,3,1,10,0,16,9,21,0,21,null,null,null,null,null,null,null,{"$f":"connected_load_plot+J649-B649","v":51},{"$f":"connected_load_plot+K649-C649","v":48},{"$f":"connected_load_plot+L649-D649","v":52},{"$f":"0","v":0}]
["2024-04-25T15:35:00",5,2,8,0,3,1,5,0,11,8,15,0,15,null,null,null,null,null,null,null,{"$f":"connected_load_plot+J650-B650","v":48},{"$f":"connected_load_plot+K650-C650","v":48},{"$f":"connected_load_plot+L650-D650","v":49},{"$f":"0","v":0}]
["2024-04-25T15:40:00",7,2,8,0,3,1,5,0,16,6,15,0,17,null,null,null,null,null,null,null,{"$f":"connected_load_plot+J651-B651","v":51},{"$f":"connected_load_plot+K651-C651","v":46},{"$f":"connected_load_plot+L651-D651","v":49},{"$f":"0","v":0}]
["2024-04-25T15:45:00",7,3,8,0,3,1,5,0,16,9,15,0,18,null,null,null,null,null,null,null,{"$f":"connected_load_plot+J652-B652","v":51},{"$f":"connected_load_plot+K652-C652","v":48},{"$f":"connected_load_plot+L652-D652","v":49},{"$f":"0","v":0}]
["2024-04-25T15:50:00",7,4,8,0,3,1,5,0,20,9,15,0,19,null,null,null,null,null,null,null,{"$f":"connected_load_plot+J653-B653","v":55},{"$f":"connected_load_plot+K653-C653","v":47},{"$f":"connected_load_plot+L653-D653","v":49},{"$f":"0","v":0}]
["2024-04-25T15:55:00",7,3,7,0,3,1,5,0,16,8,13,0,17,null,null,null,null,null,null,null,{"$f":"connected_load_plot+J654-B654","v":51},{"$f":"connected_load_plot+K654-C654","v":47},{"$f":"connected_load_plot+L654-D654","v":48},{"$f":"0","v":0}]
["2024-04-25T16:00:00",6,2,9,0,3,1,5,0,16,8,16,0,17,null,null,null,null,null,null,null,{"$f":"connected_load_plot+J655-B655","v":52},{"$f":"connected_load_plot+K655-C655","v":48},{"$f":"connected_load_plot+L655-D655","v":49},{"$f":"0","v":0}]
["2024-04-25T16:05:00",8,3,7,0,3,1,5,0,16,8,12,0,18,null,null,null,null,null,null,null,{"$f":"connected_load_plot+J656-B656","v":50},{"$f":"connected_load_plot+K656-C656","v":47},{"$f":"connected_load_plot+L656-D656","v":47},{"$f":"0","v":0}]
["2024-04-25T16:10:00",7,4,8,0,3,1,5,0,16,9,15,0,19,null,null,null,null,null,null,null,{"$f":"connected_load_plot+J657-B657","v":51},{"$f":"connected_load_plot+K657-C657","v":47},{"$f":"connected_load_plot+L657-D657","v":49},{"$f":"0","v":0}]
["2024-04-25T16:15:00",11,3,7,0,3,1,5,0,22,9,10,0,21,null,null,null,null,null,null,null,{"$f":"connected_load_plot+J658-B658","v":53},{"$f":"connected_load_plot+K658-C658","v":48},{"$f":"connected_load_plot+L658-D658","v":45},{"$f":"0","v":0}]
["2024-04-25T16:20:00",14,2,9,0,10,1,5,0,23,8,16,0,25,null,null,null,null,null,null,null,{"$f":"connected_load_plot+J659-B659","v":51},{"$f":"connected_load_plot+K659-C659","v":48},{"$f":"connected_load_plot+L659-D659","v":49},{"$f":"0","v":0}]
["2024-04-25T16:25:00",13,2,9,0,10,1,5,0,23,8,16,0,24,null,null,null,null,null,null,null,{"$f":"connected_load_plot+J660-B660","v":52},{"$f":"connected_load_plot+K660-C660","v":48},{"$f":"connected_load_plot+L660-D660","v":49},{"$f":"0","v":0}]
["2024-04-25T16:30:00",17,3,8,0,10,1,6,0,31,9,16,0,28,null,null,null,null,null,null,null,{"$f":"connected_load_plot+J661-B661","v":56},{"$f":"connected_load_plot+K661-C661","v":48},{"$f":"connected_load_plot+L661-D661","v":50},{"$f":"0","v":0}]
["2024-04-25T16:35:00",18,3,8,0,10,1,6,0,31,8,10,0,29,null,null,null,null,null,null,null,{"$f":"connected_load_plot+J662-B662","v":55},{"$f":"connected_load_plot+K662-C662","v":47},{"$f":"connected_load_plot+L662-D662","v":44},{"$f":"0","v":0}]
["2024-04-25T16:40:00",13,6,10,0,4,1,9,0,23,15,16,0,29,null,null,null,null,null,null,null,{"$f":"connected_load_plot+J663-B663","v":52},{"$f":"connected_load_plot+K663-C663","v":51},{"$f":"connected_load_plot+L663-D663","v":48},{"$f":"0","v":0}]
["2024-04-25T16:45:00",12,10,9,0,4,7,6,0,22,15,16,0,31,null,null,null,null,null,null,null,{"$f":"connected_load_plot+J664-B664","v":52},{"$f":"connected_load_plot+K664-C664","v":47},{"$f":"connected_load_plot+L664-D664","v":49},{"$f":"0","v":0}]
["2024-04-25T16:50:00",11,15,7,0,4,7,5,0,23,23,16,0,33,null,null,null,null,null,null,null,{"$f":"connected_load_plot+J665-B665","v":54},{"$f":"connected_load_plot+K665-C665","v":50},{"$f":"connected_load_plot+L665-D665","v":51},{"$f":"0","v":0}]
["2024-04-25T16:55:00",11,8,8,0,4,7,5,0,17,23,16,0,27,null,null,null,null,null,null,null,{"$f":"connected_load_plot+J666-B666","v":48},{"$f":"connected_load_plot+K666-C666","v":57},{"$f":"connected_load_plot+L666-D666","v":50},{"$f":"0","v":0}]
["2024-04-25T17:00:00",8,10,8,0,4,7,5,0,17,15,16,0,26,null,null,null,null,null,null,null,{"$f":"connected_load_plot+J667-B667","v":51},{"$f":"connected_load_plot+K667-C667","v":47},{"$f":"connected_load_plot+L667-D667","v":50},{"$f":"0","v":0}]
["2024-04-25T17:05:00",8,9,8,0,4,7,5,0,17,15,16,0,25,null,null,null,null,null,null,null,{"$f":"connected_load_plot+J668-B668","v":51},{"$f":"connected_load_plot+K668-C668","v":48},{"$f":"connected_load_plot+L668-D668","v":50},{"$f":"0","v":0}]
["2024-04-25T17:10:00",8,7,7,0,4,7,5,0,16,9,15,0,22,null,null,null,null,null,null,null,{"$f":"connected_load_plot+J669-B669","v":50},{"$f":"connected_load_plot+K669-C669","v":44},{"$f":"connected_load_plot+L669-D669","v":50},{"$f":"0","v":0}]
["2024-04-25T17:15:00",7,9,7,0,4,7,5,0,17,15,16,0,23,null,null,null,null,null,null,null,{"$f":"connected_load_plot+J670-B670","v":52},{"$f":"connected_load_plot+K670-C670","v":48},{"$f":"connected_load_plot+L670-D670","v":51},{"$f":"0","v":0}]
["2024-04-25T17:20:00",8,8,7,0,4,2,5,0,17,15,10,0,23,null,null,null,null,null,null,null,{"$f":"connected_load_plot+J671-B671","v":51},{"$f":"connected_load_plot+K671-C671","v":49},{"$f":"connected_load_plot+L671-D671","v":45},{"$f":"0","v":0}]
["2024-04-25T17:25:00",9,8,8,0,4,2,5,0,18,15,16,0,25,null,null,null,null,null,null,null,{"$f":"connected_load_plot+J672-B672","v":51},{"$f":"connected_load_plot+K672-C672","v":49},{"$f":"connected_load_plot+L672-D672","v":50},{"$f":"0","v":0}]
["2024-04-25T17:30:00",9,8,8,0,5,2,6,0,19,14,16,0,25,null,null,null,null,null,null,null,{"$f":"connected_load_plot+J673-B673","v":52},{"$f":"connected_load_plot+K673-C673","v":48},{"$f":"connected_load_plot+L673-D673","v":50},{"$f":"0","v":0}]
["2024-04-25T17:35:00",9,8,8,0,5,2,5,0,19,15,16,0,25,null,null,null,null,null,null,null,{"$f":"connected_load_plot+J674-B674","v":52},{"$f":"connected_load_plot+K674-C674","v":49},{"$f":"connected_load_plot+L674-D674","v":50},{"$f":"0","v":0}]
["2024-04-25T17:40:00",9,8,7,0,5,2,6,0,24,15,11,0,24,null,null,null,null,null,null,null,{"$f":"connected_load_plot+J675-B675","v":57},{"$f":"connected_load_plot+K675-C675","v":49},{"$f":"connected_load_plot+L675-D675","v":46},{"$f":"0","v":0}]
["2024-04-25T17:45:00",9,8,8,0,5,2,6,0,18,15,20,0,25,null,null,null,null,null,null,null,{"$f":"connected_load_plot+J676-B676","v":51},{"$f":"connected_load_plot+K676-C676","v":49},{"$f":"connected_load_plot+L676-D676","v":54},{"$f":"0","v":0}]
["2024-04-25T17:50:00",9,7,10,0,5,2,6,0,18,15,20,0,26,null,null,null,null,null,null,null,{"$f":"connected_load_plot+J677-B677","v":51},{"$f":"connected_load_plot+K677-C677","v":50},{"$f":"connected_load_plot+L677-D677","v":52},{"$f":"0","v":0}]
["2024-04-25T17:55:00",10,8,8,0,5,2,6,0,19,15,16,0,26,null,null,null,null,null,null,null,{"$f":"connected_load_plot+J678-B678","v":51},{"$f":"connected_load_plot+K678-C678","v":49},{"$f":"connected_load_plot+L678-D678","v":50},{"$f":"0","v":0}]
["2024-04-25T18:00:00",9,7,7,0,5,1,5,0,24,15,11,0,23,null,null,null,null,null,null,null,{"$f":"connected_load_plot+J679-B679","v":57},{"$f":"connected_load_plot+K679-C679","v":50},{"$f":"connected_load_plot+L679-D679","v":46},{"$f":"0","v":0}]
["2024-04-25T18:05:00",8,2,7,0,4,1,5,0,24,8,10,0,17,null,null,null,null,null,null,null,{"$f":"connected_load_plot+J680-B680","v":58},{"$f":"connected_load_plot+K680-C680","v":48},{"$f":"connected_load_plot+L680-D680","v":45},{"$f":"0","v":0}]
["2024-04-25T18:10:00",9,2,8,0,4,1,5,0,18,8,15,0,19,null,null,null,null,null,null,null,{"$f":"connected_load_plot+J681-B681","v":51},{"$f":"connected_load_plot+K681-C681","v":48},{"$f":"connected_load_plot+L681-D681","v":49},{"$f":"0","v":0}]
["2024-04-25T18:15:00",8,4,9,0,4,2,6,0,17,9,20,0,21,null,null,null,null,null,null,null,{"$f":"connected_load_plot+J682-B682","v":51},{"$f":"connected_load_plot+K682-C682","v":47},{"$f":"connected_load_plot+L682-D682","v":53},{"$f":"0","v":0}]
["2024-04-25T18:20:00",8,6,10,0,4,2,7,0,17,19,18,0,24,null,null,null,null,null,null,null,{"$f":"connected_load_plot+J683-B683","v":51},{"$f":"connected_load_plot+K683-C683","v":55},{"$f":"connected_load_plot+L683-D683","v":50},{"$f":"0","v":0}]
["2024-04-25T18:25:00",9,15,8,0,4,9,8,0,23,25,13,0,32,null,null,null,null,null,null,null,{"$f":"connected_load_plot+J684-B684","v":56},{"$f":"connected_load_plot+K684-C684","v":52},{"$f":"connected_load_plot+L684-D684","v":47},{"$f":"0","v":0}]
["2024-04-25T18:30:00",7,9,9,0,4,9,8,0,23,17,13,0,25,null,null,null,null,null,null,null,{"$f":"connected_load_plot+J685-B685","v":58},{"$f":"connected_load_plot+K685-C685","v":50},{"$f":"connected_load_plot+L685-D685","v":46},{"$f":"0","v":0}]
["2024-04-25T18:35:00",9,9,11,0,4,8,8,0,17,16,19,0,29,null,null,null,null,null,null,null,{"$f":"connected_load_plot+J686-B686","v":50},{"$f":"connected_load_plot+K686-C686","v":49},{"$f":"connected_load_plot+L686-D686","v":50},{"$f":"0","v":0}]
["2024-04-25T18:40:00",9,10,10,0,4,8,8,0,18,16,18,0,29,null,null,null,null,null,null,null,{"$f":"connected_load_plot+J687-B687","v":51},{"$f":"connected_load_plot+K687-C687","v":48},{"$f":"connected_load_plot+L687-D687","v":50},{"$f":"0","v":0}]
["2024-04-25T18:45:00",8,10,10,0,4,8,8,0,18,15,14,0,28,null,null,null,null,null,null,null,{"$f":"connected_load_plot+J688-B688","v":52},{"$f":"connected_load_plot+K688-C688","v":47},{"$f":"connected_load_plot+L688-D688","v":46},{"$f":"0","v":0}]
["2024-04-25T18:50:00",9,10,9,0,5,8,8,0,29,15,14,0,28,null,null,null,null,null,null,null,{"$f":"connected_load_plot+J689-B689","v":62},{"$f":"connected_load_plot+K689-C689","v":47},{"$f":"connected_load_plot+L689-D689","v":47},{"$f":"0","v":0}]
["2024-04-25T18:55:00",8,11,10,0,4,8,8,0,18,23,18,0,29,null,null,null,null,null,null,null,{"$f":"connected_load_plot+J690-B690","v":52},{"$f":"connected_load_plot+K690-C690","v":54},{"$f":"connected_load_plot+L690-D690","v":50},{"$f":"0","v":0}]
["2024-04-25T19:00:00",8,12,10,0,4,9,8,0,17,17,18,0,30,null,null,null,null,null,null,null,{"$f":"connected_load_plot+J691-B691","v":51},{"$f":"connected_load_plot+K691-C691","v":47},{"$f":"connected_load_plot+L691-D691","v":50},{"$f":"0","v":0}]
["2024-04-25T19:05:00",10,11,10,0,4,9,8,0,23,24,18,0,31,null,null,null,null,null,null,null,{"$f":"connected_load_plot+J692-B692","v":55},{"$f":"connected_load_plot+K692-C692","v":55},{"$f":"connected_load_plot+L692-D692","v":50},{"$f":"0","v":0}]
["2024-04-25T19:10:00",10,10,10,0,5,9,8,0,23,16,18,0,30,null,null,null,null,null,null,null,{"$f":"connected_load_plot+J693-B693","v":55},{"$f":"connected_load_plot+K693-C693","v":48},{"$f":"connected_load_plot+L693-D693","v":50},{"$f":"0","v":0}]
["2024-04-25T19:15:00",9,11,10,0,5,10,8,0,18,17,19,0,30,null,null,null,null,null,null,null,{"$f":"connected_load_plot+J694-B694","v":51},{"$f":"connected_load_plot+K694-C694","v":48},{"$f":"connected_load_plot+L694-D694","v":51},{"$f":"0","v":0}]
["2024-04-25T19:20:00",10,9,8,0,5,4,7,0,25,18,12,0,27,null,null,null,null,null,null,null,{"$f":"connected_load_plot+J695-B695","v":57},{"$f":"connected_load_plot+K695-C695","v":51},{"$f":"connected_load_plot+L695-D695","v":46},{"$f":"0","v":0}]
["2024-04-25T19:25:00",10,5,10,0,5,3,7,0,25,11,18,0,25,null,null,null,null,null,null,null,{"$f":"connected_load_plot+J696-B696","v":57},{"$f":"connected_load_plot+K696-C696","v":48},{"$f":"connected_load_plot+L696-D696","v":50},{"$f":"0","v":0}]
["2024-04-25T19:30:00",9,5,14,0,5,4,7,0,18,11,23,0,28,null,null,null,null,null,null,null,{"$f":"connected_load_plot+J697-B697","v":51},{"$f":"connected_load_plot+K697-C697","v":48},{"$f":"connected_load_plot+L697-D697","v":51},{"$f":"0","v":0}]
["2024-04-25T19:35:00",9,8,14,0,5,3,11,0,18,17,22,0,31,null,null,null,null,null,null,null,{"$f":"connected_load_plot+J698-B698","v":51},{"$f":"connected_load_plot+K698-C698","v":51},{"$f":"connected_load_plot+L698-D698","v":50},{"$f":"0","v":0}]
["2024-04-25T19:40:00",10,8,9,0,5,3,7,0,23,16,16,0,27,null,null,null,null,null,null,null,{"$f":"connected_load_plot+J699-B699","v":55},{"$f":"connected_load_plot+K699-C699","v":50},{"$f":"connected_load_plot+L699-D699","v":49},{"$f":"0","v":0}]
["2024-04-25T19:45:00",9,13,8,0,5,4,7,0,24,24,11,0,30,null,null,null,null,null,null,null,{"$f":"connected_load_plot+J700-B700","v":57},{"$f":"connected_load_plot+K700-C700","v":53},{"$f":"connected_load_plot+L700-D700","v":45},{"$f":"0","v":0}]
["2024-04-25T19:50:00",9,7,10,0,5,3,7,0,18,18,17,0,26,null,null,null,null,null,null,null,{"$f":"connected_load_plot+J701-B701","v":51},{"$f":"connected_load_plot+K701-C701","v":53},{"$f":"connected_load_plot+L701-D701","v":49},{"$f":"0","v":0}]
["2024-04-25T19:55:00",9,9,9,0,5,3,7,0,18,17,18,0,27,null,null,null,null,null,null,null,{"$f":"connected_load_plot+J702-B702","v":51},{"$f":"connected_load_plot+K702-C702","v":50},{"$f":"connected_load_plot+L702-D702","v":51},{"$f":"0","v":0}]
["2024-04-25T20:00:00",9,8,9,0,5,4,7,0,18,17,13,0,26,null,null,null,null,null,null,null,{"$f":"connected_load_plot+J703-B703","v":51},{"$f":"connected_load_plot+K703-C703","v":51},{"$f":"connected_load_plot+L703-D703","v":46},{"$f":"0","v":0}]
["2024-04-25T20:05:00",10,6,9,0,5,3,8,0,24,11,19,0,25,null,null,null,null,null,null,null,{"$f":"connected_load_plot+J704-B704","v":56},{"$f":"connected_load_plot+K704-C704","v":47},{"$f":"connected_load_plot+L704-D704","v":52},{"$f":"0","v":0}]
["2024-04-25T20:10:00",8,8,10,0,5,3,8,0,24,16,14,0,26,null,null,null,null,null,null,null,{"$f":"connected_load_plot+J705-B705","v":58},{"$f":"connected_load_plot+K705-C705","v":50},{"$f":"connected_load_plot+L705-D705","v":46},{"$f":"0","v":0}]
["2024-04-25T20:15:00",9,9,16,0,5,3,13,0,18,16,24,0,34,null,null,null,null,null,null,null,{"$f":"connected_load_plot+J706-B706","v":51},{"$f":"connected_load_plot+K706-C706","v":49},{"$f":"connected_load_plot+L706-D706","v":50},{"$f":"0","v":0}]
["2024-04-25T20:20:00",9,8,14,0,5,3,9,0,18,16,24,0,{"$f":"SUM(B707:D707)","v":31},null,null,null,null,null,null,null,{"$f":"connected_load_plot+J707-B707","v":51},{"$f":"connected_load_plot+K707-C707","v":50},{"$f":"connected_load_plot+L707-D707","v":52},{"$f":"0","v":0}]
["2024-04-25T20:25:00",11,8,12,0,5,3,9,0,24,16,19,0,31,null,null,null,null,null,null,null,{"$f":"connected_load_plot+J708-B708","v":55},{"$f":"connected_load_plot+K708-C708","v":50},{"$f":"connected_load_plot+L708-D708","v":49},{"$f":"0","v":0}]
["2024-04-25T20:30:00",9,9,10,0,5,3,8,0,23,17,19,0,28,null,null,null,null,null,null,null,{"$f":"connected_load_plot+J709-B709","v":56},{"$f":"connected_load_plot+K709-C709","v":50},{"$f":"connected_load_plot+L709-D709","v":51},{"$f":"0","v":0}]
["2024-04-25T20:35:00",9,8,10,0,5,3,8,0,19,17,19,0,27,null,null,null,null,null,null,null,{"$f":"connected_load_plot+J710-B710","v":52},{"$f":"connected_load_plot+K710-C710","v":51},{"$f":"connected_load_plot+L710-D710","v":51},{"$f":"0","v":0}]
["2024-04-25T20:40:00",10,7,12,0,6,3,8,0,20,11,19,0,29,null,null,null,null,null,null,null,{"$f":"connected_load_plot+J711-B711","v":52},{"$f":"connected_load_plot+K711-C711","v":46},{"$f":"connected_load_plot+L711-D711","v":49},{"$f":"0","v":0}]
["2024-04-25T20:45:00",11,8,13,0,6,3,8,0,25,17,21,0,32,null,null,null,null,null,null,null,{"$f":"connected_load_plot+J712-B712","v":56},{"$f":"connected_load_plot+K712-C712","v":51},{"$f":"connected_load_plot+L712-D712","v":50},{"$f":"0","v":0}]
["2024-04-25T20:50:00",11,9,17,0,6,3,13,0,30,17,25,0,37,null,null,null,null,null,null,null,{"$f":"connected_load_plot+J713-B713","v":61},{"$f":"connected_load_plot+K713-C713","v":50},{"$f":"connected_load_plot+L713-D713","v":50},{"$f":"0","v":0}]
["2024-04-25T20:55:00",9,8,11,0,6,3,8,0,19,17,18,0,28,null,null,null,null,null,null,null,{"$f":"connected_load_plot+J714-B714","v":52},{"$f":"connected_load_plot+K714-C714","v":51},{"$f":"connected_load_plot+L714-D714","v":49},{"$f":"0","v":0}]
["2024-04-25T21:00:00",9,6,10,0,6,3,8,0,20,11,14,0,25,null,null,null,null,null,null,null,{"$f":"connected_load_plot+J715-B715","v":53},{"$f":"connected_load_plot+K715-C715","v":47},{"$f":"connected_load_plot+L715-D715","v":46},{"$f":"0","v":0}]
["2024-04-25T21:05:00",11,8,17,0,6,3,9,0,20,17,28,0,36,null,null,null,null,null,null,null,{"$f":"connected_load_plot+J716-B716","v":51},{"$f":"connected_load_plot+K716-C716","v":51},{"$f":"connected_load_plot+L716-D716","v":53},{"$f":"0","v":0}]
["2024-04-25T21:10:00",12,9,13,0,6,3,9,0,26,17,20,0,34,null,null,null,null,null,null,null,{"$f":"connected_load_plot+J717-B717","v":56},{"$f":"connected_load_plot+K717-C717","v":50},{"$f":"connected_load_plot+L717-D717","v":49},{"$f":"0","v":0}]
["2024-04-25T21:15:00",9,7,12,0,6,3,9,0,19,11,20,0,28,null,null,null,null,null,null,null,{"$f":"connected_load_plot+J718-B718","v":52},{"$f":"connected_load_plot+K718-C718","v":46},{"$f":"connected_load_plot+L718-D718","v":50},{"$f":"0","v":0}]
["2024-04-25T21:20:00",9,8,17,0,5,3,14,0,19,17,25,0,34,null,null,null,null,null,null,null,{"$f":"connected_load_plot+J719-B719","v":52},{"$f":"connected_load_plot+K719-C719","v":51},{"$f":"connected_load_plot+L719-D719","v":50},{"$f":"0","v":0}]
["2024-04-25T21:25:00",10,8,14,0,5,3,9,0,19,17,25,0,32,null,null,null,null,null,null,null,{"$f":"connected_load_plot+J720-B720","v":51},{"$f":"connected_load_plot+K720-C720","v":51},{"$f":"connected_load_plot+L720-D720","v":53},{"$f":"0","v":0}]
["2024-04-25T21:30:00",11,7,12,0,5,3,9,0,25,11,20,0,30,null,null,null,null,null,null,null,{"$f":"connected_load_plot+J721-B721","v":56},{"$f":"connected_load_plot+K721-C721","v":46},{"$f":"connected_load_plot+L721-D721","v":50},{"$f":"0","v":0}]
["2024-04-25T21:35:00",11,8,12,0,6,3,9,0,25,17,23,0,31,null,null,null,null,null,null,null,{"$f":"connected_load_plot+J722-B722","v":56},{"$f":"connected_load_plot+K722-C722","v":51},{"$f":"connected_load_plot+L722-D722","v":53},{"$f":"0","v":0}]
["2024-04-25T21:40:00",10,11,12,0,6,3,9,0,19,19,20,0,33,null,null,null,null,null,null,null,{"$f":"connected_load_plot+J723-B723","v":51},{"$f":"connected_load_plot+K723-C723","v":50},{"$f":"connected_load_plot+L723-D723","v":50},{"$f":"0","v":0}]
["2024-04-25T21:45:00",10,8,11,0,5,3,9,0,19,17,20,0,29,null,null,null,null,null,null,null,{"$f":"connected_load_plot+J724-B724","v":51},{"$f":"connected_load_plot+K724-C724","v":51},{"$f":"connected_load_plot+L724-D724","v":51},{"$f":"0","v":0}]
["2024-04-25T21:50:00",10,8,13,0,5,3,8,0,19,17,20,0,31,null,null,null,null,null,null,null,{"$f":"connected_load_plot+J725-B725","v":51},{"$f":"connected_load_plot+K725-C725","v":51},{"$f":"connected_load_plot+L725-D725","v":49},{"$f":"0","v":0}]
["2024-04-25T21:55:00",11,8,18,0,5,3,13,0,24,17,31,0,37,null,null,null,null,null,null,null,{"$f":"connected_load_plot+J726-B726","v":55},{"$f":"connected_load_plot+K726-C726","v":51},{"$f":"connected_load_plot+L726-D726","v":55},{"$f":"0","v":0}]
["2024-04-25T22:00:00",10,6,13,0,5,3,8,0,24,11,31,0,29,null,null,null,null,null,null,null,{"$f":"connected_load_plot+J727-B727","v":56},{"$f":"connected_load_plot+K727-C727","v":47},{"$f":"connected_load_plot+L727-D727","v":60},{"$f":"0","v":0}]
["2024-04-25T22:05:00",10,9,11,0,6,3,8,0,19,17,19,0,30,null,null,null,null,null,null,null,{"$f":"connected_load_plot+J728-B728","v":51},{"$f":"connected_load_plot+K728-C728","v":50},{"$f":"connected_load_plot+L728-D728","v":50},{"$f":"0","v":0}]
["2024-04-25T22:10:00",10,10,11,0,6,3,8,0,19,17,13,0,31,null,null,null,null,null,null,null,{"$f":"connected_load_plot+J729-B729","v":51},{"$f":"connected_load_plot+K729-C729","v":49},{"$f":"connected_load_plot+L729-D729","v":44},{"$f":"0","v":0}]
["2024-04-25T22:15:00",11,7,11,0,6,3,8,0,25,11,19,0,29,null,null,null,null,null,null,null,{"$f":"connected_load_plot+J730-B730","v":56},{"$f":"connected_load_plot+K730-C730","v":46},{"$f":"connected_load_plot+L730-D730","v":50},{"$f":"0","v":0}]
["2024-04-25T22:20:00",11,7,13,0,6,3,8,0,25,11,20,0,31,null,null,null,null,null,null,null,{"$f":"connected_load_plot+J731-B731","v":56},{"$f":"connected_load_plot+K731-C731","v":46},{"$f":"connected_load_plot+L731-D731","v":49},{"$f":"0","v":0}]
["2024-04-25T22:25:00",18,8,17,0,6,3,13,0,28,17,31,0,43,null,null,null,null,null,null,null,{"$f":"connected_load_plot+J732-B732","v":52},{"$f":"connected_load_plot+K732-C732","v":51},{"$f":"connected_load_plot+L732-D732","v":56},{"$f":"0","v":0}]
["2024-04-25T22:30:00",10,7,12,0,6,3,8,0,20,11,31,0,29,null,null,null,null,null,null,null,{"$f":"connected_load_plot+J733-B733","v":52},{"$f":"connected_load_plot+K733-C733","v":46},{"$f":"connected_load_plot+L733-D733","v":61},{"$f":"0","v":0}]
["2024-04-25T22:35:00",11,9,11,0,6,3,8,0,24,17,20,0,31,null,null,null,null,null,null,null,{"$f":"connected_load_plot+J734-B734","v":55},{"$f":"connected_load_plot+K734-C734","v":50},{"$f":"connected_load_plot+L734-D734","v":51},{"$f":"0","v":0}]
["2024-04-25T22:40:00",12,7,11,0,6,3,8,0,25,17,20,0,30,null,null,null,null,null,null,null,{"$f":"connected_load_plot+J735-B735","v":55},{"$f":"connected_load_plot+K735-C735","v":52},{"$f":"connected_load_plot+L735-D735","v":51},{"$f":"0","v":0}]
["2024-04-25T22:45:00",10,8,14,0,6,4,8,0,19,18,20,0,32,null,null,null,null,null,null,null,{"$f":"connected_load_plot+J736-B736","v":51},{"$f":"connected_load_plot+K736-C736","v":52},{"$f":"connected_load_plot+L736-D736","v":48},{"$f":"0","v":0}]
["2024-04-25T22:50:00",10,9,11,0,6,4,8,0,19,17,20,0,30,null,null,null,null,null,null,null,{"$f":"connected_load_plot+J737-B737","v":51},{"$f":"connected_load_plot+K737-C737","v":50},{"$f":"connected_load_plot+L737-D737","v":51},{"$f":"0","v":0}]
["2024-04-25T22:55:00",10,8,11,0,6,3,8,0,19,17,19,0,29,null,null,null,null,null,null,null,{"$f":"connected_load_plot+J738-B738","v":51},{"$f":"connected_load_plot+K738-C738","v":51},{"$f":"connected_load_plot+L738-D738","v":50},{"$f":"0","v":0}]
["2024-04-25T23:00:00",12,11,10,0,6,4,8,0,26,19,19,0,33,null,null,null,null,null,null,null,{"$f":"connected_load_plot+J739-B739","v":56},{"$f":"connected_load_plot+K739-C739","v":50},{"$f":"connected_load_plot+L739-D739","v":51},{"$f":"0","v":0}]
["2024-04-25T23:05:00",11,9,13,0,6,3,8,0,26,17,25,0,33,null,null,null,null,null,null,null,{"$f":"connected_load_plot+J740-B740","v":57},{"$f":"connected_load_plot+K740-C740","v":50},{"$f":"connected_load_plot+L740-D740","v":54},{"$f":"0","v":0}]
["2024-04-25T23:10:00",11,8,15,0,6,3,13,0,19,17,24,0,34,null,null,null,null,null,null,null,{"$f":"connected_load_plot+J741-B741","v":50},{"$f":"connected_load_plot+K741-C741","v":51},{"$f":"connected_load_plot+L741-D741","v":51},{"$f":"0","v":0}]
["2024-04-25T23:15:00",11,8,14,0,6,3,8,0,20,17,24,0,33,null,null,null,null,null,null,null,{"$f":"connected_load_plot+J742-B742","v":51},{"$f":"connected_load_plot+K742-C742","v":51},{"$f":"connected_load_plot+L742-D742","v":52},{"$f":"0","v":0}]
["2024-04-25T23:20:00",10,6,13,0,6,2,9,0,19,11,20,0,29,null,null,null,null,null,null,null,{"$f":"connected_load_plot+J743-B743","v":51},{"$f":"connected_load_plot+K743-C743","v":47},{"$f":"connected_load_plot+L743-D743","v":49},{"$f":"0","v":0}]
["2024-04-25T23:25:00",12,6,13,0,6,3,8,0,26,10,24,0,31,null,null,null,null,null,null,null,{"$f":"connected_load_plot+J744-B744","v":56},{"$f":"connected_load_plot+K744-C744","v":46},{"$f":"connected_load_plot+L744-D744","v":53},{"$f":"0","v":0}]
["2024-04-25T23:30:00",11,8,17,0,6,2,12,0,14,16,29,0,36,null,null,null,null,null,null,null,{"$f":"connected_load_plot+J745-B745","v":45},{"$f":"connected_load_plot+K745-C745","v":50},{"$f":"connected_load_plot+L745-D745","v":54},{"$f":"0","v":0}]
["2024-04-25T23:35:00",11,8,16,0,6,2,9,0,18,16,33,0,35,null,null,null,null,null,null,null,{"$f":"connected_load_plot+J746-B746","v":49},{"$f":"connected_load_plot+K746-C746","v":50},{"$f":"connected_load_plot+L746-D746","v":59},{"$f":"0","v":0}]
["2024-04-25T23:40:00",11,6,14,0,6,2,9,0,19,15,26,0,31,null,null,null,null,null,null,null,{"$f":"connected_load_plot+J747-B747","v":50},{"$f":"connected_load_plot+K747-C747","v":51},{"$f":"connected_load_plot+L747-D747","v":54},{"$f":"0","v":0}]
["2024-04-25T23:45:00",12,7,10,0,6,2,8,0,19,16,20,0,29,null,null,null,null,null,null,null,{"$f":"connected_load_plot+J748-B748","v":49},{"$f":"connected_load_plot+K748-C748","v":51},{"$f":"connected_load_plot+L748-D748","v":52},{"$f":"0","v":0}]
["2024-04-25T23:50:00",10,8,17,0,6,2,9,0,13,16,23,0,35,null,null,null,null,null,null,null,{"$f":"connected_load_plot+J749-B749","v":45},{"$f":"connected_load_plot+K749-C749","v":50},{"$f":"connected_load_plot+L749-D749","v":48},{"$f":"0","v":0}]
["2024-04-25T23:55:00",10,7,18,0,6,2,12,0,19,16,31,0,35,null,null,null,null,null,null,null,{"$f":"connected_load_plot+J750-B750","v":51},{"$f":"connected_load_plot+K750-C750","v":51},{"$f":"connected_load_plot+L750-D750","v":55},{"$f":"0","v":0}]
["2024-04-26",11,6,15,0,6,2,8,0,18,16,30,0,32,null,null,null,null,null,null,null,{"$f":"connected_load_plot+J751-B751","v":49},{"$f":"connected_load_plot+K751-C751","v":52},{"$f":"connected_load_plot+L751-D751","v":57},{"$f":"0","v":0}]
["2024-04-26T00:05:00",12,7,11,0,6,2,8,0,18,15,19,0,30,null,null,null,null,null,null,null,{"$f":"connected_load_plot+J752-B752","v":48},{"$f":"connected_load_plot+K752-C752","v":50},{"$f":"connected_load_plot+L752-D752","v":50},{"$f":"0","v":0}]
["2024-04-26T00:10:00",10,6,13,0,5,2,8,0,17,10,20,0,29,null,null,null,null,null,null,null,{"$f":"connected_load_plot+J753-B753","v":49},{"$f":"connected_load_plot+K753-C753","v":46},{"$f":"connected_load_plot+L753-D753","v":49},{"$f":"0","v":0}]
["2024-04-26T00:15:00",10,8,10,0,5,2,8,0,13,15,16,0,28,null,null,null,null,null,null,null,{"$f":"connected_load_plot+J754-B754","v":45},{"$f":"connected_load_plot+K754-C754","v":49},{"$f":"connected_load_plot+L754-D754","v":48},{"$f":"0","v":0}]
["2024-04-26T00:20:00",11,7,14,0,6,2,8,0,18,15,26,0,32,null,null,null,null,null,null,null,{"$f":"connected_load_plot+J755-B755","v":49},{"$f":"connected_load_plot+K755-C755","v":50},{"$f":"connected_load_plot+L755-D755","v":54},{"$f":"0","v":0}]
["2024-04-26T00:25:00",12,5,13,0,6,2,9,0,19,16,26,0,30,null,null,null,null,null,null,null,{"$f":"connected_load_plot+J756-B756","v":49},{"$f":"connected_load_plot+K756-C756","v":53},{"$f":"connected_load_plot+L756-D756","v":55},{"$f":"0","v":0}]
["2024-04-26T00:30:00",11,8,20,0,6,2,8,0,18,16,29,0,39,null,null,null,null,null,null,null,{"$f":"connected_load_plot+J757-B757","v":49},{"$f":"connected_load_plot+K757-C757","v":50},{"$f":"connected_load_plot+L757-D757","v":51},{"$f":"0","v":0}]
["2024-04-26T00:35:00",10,7,15,0,5,2,8,0,13,16,29,0,32,null,null,null,null,null,null,null,{"$f":"connected_load_plot+J758-B758","v":45},{"$f":"connected_load_plot+K758-C758","v":51},{"$f":"connected_load_plot+L758-D758","v":56},{"$f":"0","v":0}]
["2024-04-26T00:40:00",11,6,13,0,5,2,8,0,18,10,24,0,30,null,null,null,null,null,null,null,{"$f":"connected_load_plot+J759-B759","v":49},{"$f":"connected_load_plot+K759-C759","v":46},{"$f":"connected_load_plot+L759-D759","v":53},{"$f":"0","v":0}]
["2024-04-26T00:45:00",11,6,11,0,5,2,8,0,18,16,20,0,28,null,null,null,null,null,null,null,{"$f":"connected_load_plot+J760-B760","v":49},{"$f":"connected_load_plot+K760-C760","v":52},{"$f":"connected_load_plot+L760-D760","v":51},{"$f":"0","v":0}]
["2024-04-26T00:50:00",11,8,14,0,5,2,8,0,19,16,30,0,33,null,null,null,null,null,null,null,{"$f":"connected_load_plot+J761-B761","v":50},{"$f":"connected_load_plot+K761-C761","v":50},{"$f":"connected_load_plot+L761-D761","v":58},{"$f":"0","v":0}]
["2024-04-26T00:55:00",10,6,13,0,5,2,8,0,18,10,26,0,29,null,null,null,null,null,null,null,{"$f":"connected_load_plot+J762-B762","v":50},{"$f":"connected_load_plot+K762-C762","v":46},{"$f":"connected_load_plot+L762-D762","v":55},{"$f":"0","v":0}]
["2024-04-26T01:00:00",11,8,14,0,5,2,8,0,18,16,23,0,33,null,null,null,null,null,null,null,{"$f":"connected_load_plot+J763-B763","v":49},{"$f":"connected_load_plot+K763-C763","v":50},{"$f":"connected_load_plot+L763-D763","v":51},{"$f":"0","v":0}]
["2024-04-26T01:05:00",10,7,14,0,5,2,8,0,17,16,20,0,31,null,null,null,null,null,null,null,{"$f":"connected_load_plot+J764-B764","v":49},{"$f":"connected_load_plot+K764-C764","v":51},{"$f":"connected_load_plot+L764-D764","v":48},{"$f":"0","v":0}]
["2024-04-26T01:10:00",10,6,17,0,5,2,13,0,17,16,25,0,33,null,null,null,null,null,null,null,{"$f":"connected_load_plot+J765-B765","v":49},{"$f":"connected_load_plot+K765-C765","v":52},{"$f":"connected_load_plot+L765-D765","v":50},{"$f":"0","v":0}]
["2024-04-26T01:15:00",10,8,15,0,4,2,8,0,18,16,29,0,33,null,null,null,null,null,null,null,{"$f":"connected_load_plot+J766-B766","v":50},{"$f":"connected_load_plot+K766-C766","v":50},{"$f":"connected_load_plot+L766-D766","v":56},{"$f":"0","v":0}]
["2024-04-26T01:20:00",10,6,14,0,4,2,8,0,17,16,26,0,30,null,null,null,null,null,null,null,{"$f":"connected_load_plot+J767-B767","v":49},{"$f":"connected_load_plot+K767-C767","v":52},{"$f":"connected_load_plot+L767-D767","v":54},{"$f":"0","v":0}]
["2024-04-26T01:25:00",9,7,13,0,4,2,8,0,17,15,29,0,29,null,null,null,null,null,null,null,{"$f":"connected_load_plot+J768-B768","v":50},{"$f":"connected_load_plot+K768-C768","v":50},{"$f":"connected_load_plot+L768-D768","v":58},{"$f":"0","v":0}]
["2024-04-26T01:30:00",10,9,13,0,5,2,8,0,18,16,22,0,32,null,null,null,null,null,null,null,{"$f":"connected_load_plot+J769-B769","v":50},{"$f":"connected_load_plot+K769-C769","v":49},{"$f":"connected_load_plot+L769-D769","v":51},{"$f":"0","v":0}]
["2024-04-26T01:35:00",10,7,14,0,5,2,8,0,18,16,22,0,31,null,null,null,null,null,null,null,{"$f":"connected_load_plot+J770-B770","v":50},{"$f":"connected_load_plot+K770-C770","v":51},{"$f":"connected_load_plot+L770-D770","v":50},{"$f":"0","v":0}]
["2024-04-26T01:40:00",11,7,17,0,5,2,8,0,18,16,31,0,{"$f":"SUM(B771:D771)","v":35},null,null,null,null,null,null,null,{"$f":"connected_load_plot+J771-B771","v":49},{"$f":"connected_load_plot+K771-C771","v":51},{"$f":"connected_load_plot+L771-D771","v":56},{"$f":"0","v":0}]
["2024-04-26T01:45:00",11,9,19,0,5,2,13,0,18,15,31,0,39,null,null,null,null,null,null,null,{"$f":"connected_load_plot+J772-B772","v":49},{"$f":"connected_load_plot+K772-C772","v":48},{"$f":"connected_load_plot+L772-D772","v":54},{"$f":"0","v":0}]
["2024-04-26T01:50:00",10,6,15,0,5,2,8,0,18,10,31,0,31,null,null,null,null,null,null,null,{"$f":"connected_load_plot+J773-B773","v":50},{"$f":"connected_load_plot+K773-C773","v":46},{"$f":"connected_load_plot+L773-D773","v":58},{"$f":"0","v":0}]
["2024-04-26T01:55:00",11,7,12,0,6,2,8,0,19,15,24,0,30,null,null,null,null,null,null,null,{"$f":"connected_load_plot+J774-B774","v":50},{"$f":"connected_load_plot+K774-C774","v":50},{"$f":"connected_load_plot+L774-D774","v":54},{"$f":"0","v":0}]
["2024-04-26T02:00:00",11,9,14,0,6,2,8,0,19,16,26,0,34,null,null,null,null,null,null,null,{"$f":"connected_load_plot+J775-B775","v":50},{"$f":"connected_load_plot+K775-C775","v":49},{"$f":"connected_load_plot+L775-D775","v":54},{"$f":"0","v":0}]
["2024-04-26T02:05:00",11,7,14,0,6,2,8,0,19,15,30,0,32,null,null,null,null,null,null,null,{"$f":"connected_load_plot+J776-B776","v":50},{"$f":"connected_load_plot+K776-C776","v":50},{"$f":"connected_load_plot+L776-D776","v":58},{"$f":"0","v":0}]
["2024-04-26T02:10:00",10,6,14,0,6,2,8,0,19,9,21,0,30,null,null,null,null,null,null,null,{"$f":"connected_load_plot+J777-B777","v":51},{"$f":"connected_load_plot+K777-C777","v":45},{"$f":"connected_load_plot+L777-D777","v":49},{"$f":"0","v":0}]
["2024-04-26T02:15:00",12,9,12,0,6,2,8,0,19,15,24,0,33,null,null,null,null,null,null,null,{"$f":"connected_load_plot+J778-B778","v":49},{"$f":"connected_load_plot+K778-C778","v":48},{"$f":"connected_load_plot+L778-D778","v":54},{"$f":"0","v":0}]
["2024-04-26T02:20:00",12,8,14,0,5,2,8,0,19,16,30,0,34,null,null,null,null,null,null,null,{"$f":"connected_load_plot+J779-B779","v":49},{"$f":"connected_load_plot+K779-C779","v":50},{"$f":"connected_load_plot+L779-D779","v":58},{"$f":"0","v":0}]
["2024-04-26T02:25:00",10,6,14,0,5,2,8,0,18,10,26,0,30,null,null,null,null,null,null,null,{"$f":"connected_load_plot+J780-B780","v":50},{"$f":"connected_load_plot+K780-C780","v":46},{"$f":"connected_load_plot+L780-D780","v":54},{"$f":"0","v":0}]
["2024-04-26T02:30:00",11,8,13,0,6,2,8,0,18,16,26,0,32,null,null,null,null,null,null,null,{"$f":"connected_load_plot+J781-B781","v":49},{"$f":"connected_load_plot+K781-C781","v":50},{"$f":"connected_load_plot+L781-D781","v":55},{"$f":"0","v":0}]
["2024-04-26T02:35:00",13,7,15,0,6,2,8,0,19,15,24,0,35,null,null,null,null,null,null,null,{"$f":"connected_load_plot+J782-B782","v":48},{"$f":"connected_load_plot+K782-C782","v":50},{"$f":"connected_load_plot+L782-D782","v":51},{"$f":"0","v":0}]
["2024-04-26T02:40:00",10,7,18,0,6,2,13,0,19,15,29,0,35,null,null,null,null,null,null,null,{"$f":"connected_load_plot+J783-B783","v":51},{"$f":"connected_load_plot+K783-C783","v":50},{"$f":"connected_load_plot+L783-D783","v":53},{"$f":"0","v":0}]
["2024-04-26T02:45:00",10,9,16,0,6,2,8,0,13,15,35,0,35,null,null,null,null,null,null,null,{"$f":"connected_load_plot+J784-B784","v":45},{"$f":"connected_load_plot+K784-C784","v":48},{"$f":"connected_load_plot+L784-D784","v":61},{"$f":"0","v":0}]
["2024-04-26T02:50:00",13,7,13,0,5,2,8,0,19,15,26,0,33,null,null,null,null,null,null,null,{"$f":"connected_load_plot+J785-B785","v":48},{"$f":"connected_load_plot+K785-C785","v":50},{"$f":"connected_load_plot+L785-D785","v":55},{"$f":"0","v":0}]
["2024-04-26T02:55:00",16,6,13,0,6,2,8,0,26,10,20,0,35,null,null,null,null,null,null,null,{"$f":"connected_load_plot+J786-B786","v":52},{"$f":"connected_load_plot+K786-C786","v":46},{"$f":"connected_load_plot+L786-D786","v":49},{"$f":"0","v":0}]
["2024-04-26T03:00:00",11,9,12,0,6,2,9,0,14,15,26,0,32,null,null,null,null,null,null,null,{"$f":"connected_load_plot+J787-B787","v":45},{"$f":"connected_load_plot+K787-C787","v":48},{"$f":"connected_load_plot+L787-D787","v":56},{"$f":"0","v":0}]
["2024-04-26T03:05:00",12,8,16,0,6,2,8,0,19,15,27,0,36,null,null,null,null,null,null,null,{"$f":"connected_load_plot+J788-B788","v":49},{"$f":"connected_load_plot+K788-C788","v":49},{"$f":"connected_load_plot+L788-D788","v":53},{"$f":"0","v":0}]
["2024-04-26T03:10:00",12,10,12,0,5,2,8,0,19,24,22,0,34,null,null,null,null,null,null,null,{"$f":"connected_load_plot+J789-B789","v":49},{"$f":"connected_load_plot+K789-C789","v":56},{"$f":"connected_load_plot+L789-D789","v":52},{"$f":"0","v":0}]
["2024-04-26T03:15:00",10,8,15,0,5,2,8,0,18,16,31,0,33,null,null,null,null,null,null,null,{"$f":"connected_load_plot+J790-B790","v":50},{"$f":"connected_load_plot+K790-C790","v":50},{"$f":"connected_load_plot+L790-D790","v":58},{"$f":"0","v":0}]
["2024-04-26T03:20:00",10,7,11,0,5,2,8,0,18,16,22,0,28,null,null,null,null,null,null,null,{"$f":"connected_load_plot+J791-B791","v":50},{"$f":"connected_load_plot+K791-C791","v":51},{"$f":"connected_load_plot+L791-D791","v":53},{"$f":"0","v":0}]
["2024-04-26T03:25:00",12,7,15,0,5,2,8,0,18,15,30,0,34,null,null,null,null,null,null,null,{"$f":"connected_load_plot+J792-B792","v":48},{"$f":"connected_load_plot+K792-C792","v":50},{"$f":"connected_load_plot+L792-D792","v":57},{"$f":"0","v":0}]
["2024-04-26T03:30:00",11,9,17,0,5,2,13,0,19,16,27,0,37,null,null,null,null,null,null,null,{"$f":"connected_load_plot+J793-B793","v":50},{"$f":"connected_load_plot+K793-C793","v":49},{"$f":"connected_load_plot+L793-D793","v":52},{"$f":"0","v":0}]
["2024-04-26T03:35:00",11,7,18,0,5,2,8,0,18,15,31,0,36,null,null,null,null,null,null,null,{"$f":"connected_load_plot+J794-B794","v":49},{"$f":"connected_load_plot+K794-C794","v":50},{"$f":"connected_load_plot+L794-D794","v":55},{"$f":"0","v":0}]
["2024-04-26T03:40:00",12,6,10,0,5,2,8,0,18,10,19,0,28,null,null,null,null,null,null,null,{"$f":"connected_load_plot+J795-B795","v":48},{"$f":"connected_load_plot+K795-C795","v":46},{"$f":"connected_load_plot+L795-D795","v":51},{"$f":"0","v":0}]
["2024-04-26T03:45:00",12,8,16,0,5,2,8,0,21,15,26,0,36,null,null,null,null,null,null,null,{"$f":"connected_load_plot+J796-B796","v":51},{"$f":"connected_load_plot+K796-C796","v":49},{"$f":"connected_load_plot+L796-D796","v":52},{"$f":"0","v":0}]
["2024-04-26T03:50:00",13,8,14,0,5,2,8,0,27,15,26,0,35,null,null,null,null,null,null,null,{"$f":"connected_load_plot+J797-B797","v":56},{"$f":"connected_load_plot+K797-C797","v":49},{"$f":"connected_load_plot+L797-D797","v":54},{"$f":"0","v":0}]
["2024-04-26T03:55:00",10,7,14,0,4,2,8,0,18,16,26,0,31,null,null,null,null,null,null,null,{"$f":"connected_load_plot+J798-B798","v":50},{"$f":"connected_load_plot+K798-C798","v":51},{"$f":"connected_load_plot+L798-D798","v":54},{"$f":"0","v":0}]
["2024-04-26T04:00:00",11,8,11,0,5,2,8,0,18,16,19,0,30,null,null,null,null,null,null,null,{"$f":"connected_load_plot+J799-B799","v":49},{"$f":"connected_load_plot+K799-C799","v":50},{"$f":"connected_load_plot+L799-D799","v":50},{"$f":"0","v":0}]
["2024-04-26T04:05:00",11,6,15,0,5,2,8,0,18,16,30,0,32,null,null,null,null,null,null,null,{"$f":"connected_load_plot+J800-B800","v":49},{"$f":"connected_load_plot+K800-C800","v":52},{"$f":"connected_load_plot+L800-D800","v":57},{"$f":"0","v":0}]
["2024-04-26T04:10:00",10,6,12,0,4,2,8,0,18,10,24,0,28,null,null,null,null,null,null,null,{"$f":"connected_load_plot+J801-B801","v":50},{"$f":"connected_load_plot+K801-C801","v":46},{"$f":"connected_load_plot+L801-D801","v":54},{"$f":"0","v":0}]
["2024-04-26T04:15:00",9,6,21,0,4,2,13,0,17,9,35,0,36,null,null,null,null,null,null,null,{"$f":"connected_load_plot+J802-B802","v":50},{"$f":"connected_load_plot+K802-C802","v":45},{"$f":"connected_load_plot+L802-D802","v":56},{"$f":"0","v":0}]
["2024-04-26T04:20:00",13,5,15,0,5,2,8,0,19,9,26,0,33,null,null,null,null,null,null,null,{"$f":"connected_load_plot+J803-B803","v":48},{"$f":"connected_load_plot+K803-C803","v":46},{"$f":"connected_load_plot+L803-D803","v":53},{"$f":"0","v":0}]
["2024-04-26T04:25:00",11,5,15,0,5,2,8,0,19,10,30,0,31,null,null,null,null,null,null,null,{"$f":"connected_load_plot+J804-B804","v":50},{"$f":"connected_load_plot+K804-C804","v":47},{"$f":"connected_load_plot+L804-D804","v":57},{"$f":"0","v":0}]
["2024-04-26T04:30:00",11,6,13,0,5,2,8,0,19,10,22,0,30,null,null,null,null,null,null,null,{"$f":"connected_load_plot+J805-B805","v":50},{"$f":"connected_load_plot+K805-C805","v":46},{"$f":"connected_load_plot+L805-D805","v":51},{"$f":"0","v":0}]
["2024-04-26T04:35:00",12,6,15,0,5,2,8,0,19,10,26,0,33,null,null,null,null,null,null,null,{"$f":"connected_load_plot+J806-B806","v":49},{"$f":"connected_load_plot+K806-C806","v":46},{"$f":"connected_load_plot+L806-D806","v":53},{"$f":"0","v":0}]
["2024-04-26T04:40:00",12,5,12,0,5,2,8,0,18,10,20,0,29,null,null,null,null,null,null,null,{"$f":"connected_load_plot+J807-B807","v":48},{"$f":"connected_load_plot+K807-C807","v":47},{"$f":"connected_load_plot+L807-D807","v":50},{"$f":"0","v":0}]
["2024-04-26T04:45:00",11,5,17,0,5,2,8,0,18,10,30,0,33,null,null,null,null,null,null,null,{"$f":"connected_load_plot+J808-B808","v":49},{"$f":"connected_load_plot+K808-C808","v":47},{"$f":"connected_load_plot+L808-D808","v":55},{"$f":"0","v":0}]
["2024-04-26T04:50:00",12,5,16,0,5,2,12,0,18,9,30,0,33,null,null,null,null,null,null,null,{"$f":"connected_load_plot+J809-B809","v":48},{"$f":"connected_load_plot+K809-C809","v":46},{"$f":"connected_load_plot+L809-D809","v":56},{"$f":"0","v":0}]
["2024-04-26T04:55:00",11,6,23,0,5,2,12,0,19,9,36,0,40,null,null,null,null,null,null,null,{"$f":"connected_load_plot+J810-B810","v":50},{"$f":"connected_load_plot+K810-C810","v":45},{"$f":"connected_load_plot+L810-D810","v":55},{"$f":"0","v":0}]
["2024-04-26T05:00:00",12,6,22,0,6,2,12,0,19,9,36,0,40,null,null,null,null,null,null,null,{"$f":"connected_load_plot+J811-B811","v":49},{"$f":"connected_load_plot+K811-C811","v":45},{"$f":"connected_load_plot+L811-D811","v":56},{"$f":"0","v":0}]
["2024-04-26T05:05:00",13,9,17,0,6,2,12,0,24,17,30,0,39,null,null,null,null,null,null,null,{"$f":"connected_load_plot+J812-B812","v":53},{"$f":"connected_load_plot+K812-C812","v":50},{"$f":"connected_load_plot+L812-D812","v":55},{"$f":"0","v":0}]
["2024-04-26T05:10:00",12,6,16,0,6,2,12,0,20,17,30,0,34,null,null,null,null,null,null,null,{"$f":"connected_load_plot+J813-B813","v":50},{"$f":"connected_load_plot+K813-C813","v":53},{"$f":"connected_load_plot+L813-D813","v":56},{"$f":"0","v":0}]
["2024-04-26T05:15:00",14,6,17,0,6,2,12,0,19,11,30,0,37,null,null,null,null,null,null,null,{"$f":"connected_load_plot+J814-B814","v":47},{"$f":"connected_load_plot+K814-C814","v":47},{"$f":"connected_load_plot+L814-D814","v":55},{"$f":"0","v":0}]
["2024-04-26T05:20:00",13,8,18,0,6,3,12,0,19,23,30,0,39,null,null,null,null,null,null,null,{"$f":"connected_load_plot+J815-B815","v":48},{"$f":"connected_load_plot+K815-C815","v":57},{"$f":"connected_load_plot+L815-D815","v":54},{"$f":"0","v":0}]
["2024-04-26T05:25:00",13,6,14,0,6,3,12,0,20,10,24,0,33,null,null,null,null,null,null,null,{"$f":"connected_load_plot+J816-B816","v":49},{"$f":"connected_load_plot+K816-C816","v":46},{"$f":"connected_load_plot+L816-D816","v":52},{"$f":"0","v":0}]
["2024-04-26T05:30:00",13,6,24,0,6,2,16,0,20,10,35,0,43,null,null,null,null,null,null,null,{"$f":"connected_load_plot+J817-B817","v":49},{"$f":"connected_load_plot+K817-C817","v":46},{"$f":"connected_load_plot+L817-D817","v":53},{"$f":"0","v":0}]
["2024-04-26T05:35:00",18,6,21,0,6,2,12,0,27,10,30,0,45,null,null,null,null,null,null,null,{"$f":"connected_load_plot+J818-B818","v":51},{"$f":"connected_load_plot+K818-C818","v":46},{"$f":"connected_load_plot+L818-D818","v":51},{"$f":"0","v":0}]
["2024-04-26T05:40:00",17,6,19,0,7,2,12,0,29,10,30,0,42,null,null,null,null,null,null,null,{"$f":"connected_load_plot+J819-B819","v":54},{"$f":"connected_load_plot+K819-C819","v":46},{"$f":"connected_load_plot+L819-D819","v":53},{"$f":"0","v":0}]
["2024-04-26T05:45:00",14,6,16,0,6,2,12,0,28,15,23,0,36,null,null,null,null,null,null,null,{"$f":"connected_load_plot+J820-B820","v":56},{"$f":"connected_load_plot+K820-C820","v":51},{"$f":"connected_load_plot+L820-D820","v":49},{"$f":"0","v":0}]
["2024-04-26T05:50:00",12,6,16,0,5,2,13,0,18,10,26,0,34,null,null,null,null,null,null,null,{"$f":"connected_load_plot+J821-B821","v":48},{"$f":"connected_load_plot+K821-C821","v":46},{"$f":"connected_load_plot+L821-D821","v":52},{"$f":"0","v":0}]
["2024-04-26T05:55:00",12,6,18,0,5,2,12,0,18,9,31,0,36,null,null,null,null,null,null,null,{"$f":"connected_load_plot+J822-B822","v":48},{"$f":"connected_load_plot+K822-C822","v":45},{"$f":"connected_load_plot+L822-D822","v":55},{"$f":"0","v":0}]
["2024-04-26T06:00:00",12,6,27,0,5,2,19,0,18,9,37,0,45,null,null,null,null,null,null,null,{"$f":"connected_load_plot+J823-B823","v":48},{"$f":"connected_load_plot+K823-C823","v":45},{"$f":"connected_load_plot+L823-D823","v":52},{"$f":"0","v":0}]
["2024-04-26T06:05:00",13,7,24,0,5,2,19,0,23,15,33,0,44,null,null,null,null,null,null,null,{"$f":"connected_load_plot+J824-B824","v":52},{"$f":"connected_load_plot+K824-C824","v":50},{"$f":"connected_load_plot+L824-D824","v":51},{"$f":"0","v":0}]
["2024-04-26T06:10:00",11,6,23,0,5,2,13,0,24,15,37,0,40,null,null,null,null,null,null,null,{"$f":"connected_load_plot+J825-B825","v":55},{"$f":"connected_load_plot+K825-C825","v":51},{"$f":"connected_load_plot+L825-D825","v":56},{"$f":"0","v":0}]
["2024-04-26T06:15:00",9,6,16,0,4,2,12,0,17,15,27,0,31,null,null,null,null,null,null,null,{"$f":"connected_load_plot+J826-B826","v":50},{"$f":"connected_load_plot+K826-C826","v":51},{"$f":"connected_load_plot+L826-D826","v":53},{"$f":"0","v":0}]
["2024-04-26T06:20:00",10,7,24,0,4,2,12,0,17,15,35,0,41,null,null,null,null,null,null,null,{"$f":"connected_load_plot+J827-B827","v":49},{"$f":"connected_load_plot+K827-C827","v":50},{"$f":"connected_load_plot+L827-D827","v":53},{"$f":"0","v":0}]
["2024-04-26T06:25:00",12,10,21,0,4,2,17,0,22,15,25,0,43,null,null,null,null,null,null,null,{"$f":"connected_load_plot+J828-B828","v":52},{"$f":"connected_load_plot+K828-C828","v":47},{"$f":"connected_load_plot+L828-D828","v":46},{"$f":"0","v":0}]
["2024-04-26T06:30:00",10,10,23,0,4,2,17,0,17,15,34,0,43,null,null,null,null,null,null,null,{"$f":"connected_load_plot+J829-B829","v":49},{"$f":"connected_load_plot+K829-C829","v":47},{"$f":"connected_load_plot+L829-D829","v":53},{"$f":"0","v":0}]
["2024-04-26T06:35:00",11,11,21,0,4,2,17,0,17,21,30,0,43,null,null,null,null,null,null,null,{"$f":"connected_load_plot+J830-B830","v":48},{"$f":"connected_load_plot+K830-C830","v":52},{"$f":"connected_load_plot+L830-D830","v":51},{"$f":"0","v":0}]
["2024-04-26T06:40:00",10,9,25,0,4,2,17,0,17,20,34,0,44,null,null,null,null,null,null,null,{"$f":"connected_load_plot+J831-B831","v":49},{"$f":"connected_load_plot+K831-C831","v":53},{"$f":"connected_load_plot+L831-D831","v":51},{"$f":"0","v":0}]
["2024-04-26T06:45:00",10,9,20,0,4,2,17,0,16,15,30,0,39,null,null,null,null,null,null,null,{"$f":"connected_load_plot+J832-B832","v":48},{"$f":"connected_load_plot+K832-C832","v":48},{"$f":"connected_load_plot+L832-D832","v":52},{"$f":"0","v":0}]
["2024-04-26T06:50:00",11,11,23,0,4,2,17,0,20,20,28,0,45,null,null,null,null,null,null,null,{"$f":"connected_load_plot+J833-B833","v":51},{"$f":"connected_load_plot+K833-C833","v":51},{"$f":"connected_load_plot+L833-D833","v":47},{"$f":"0","v":0}]
["2024-04-26T06:55:00",11,11,26,0,4,7,17,0,17,21,41,0,48,null,null,null,null,null,null,null,{"$f":"connected_load_plot+J834-B834","v":48},{"$f":"connected_load_plot+K834-C834","v":52},{"$f":"connected_load_plot+L834-D834","v":57},{"$f":"0","v":0}]
["2024-04-26T07:00:00",10,9,32,0,4,2,18,0,17,15,46,0,{"$f":"SUM(B835:D835)","v":51},null,null,null,null,null,null,null,{"$f":"connected_load_plot+J835-B835","v":49},{"$f":"connected_load_plot+K835-C835","v":48},{"$f":"connected_load_plot+L835-D835","v":56},{"$f":"0","v":0}]
["2024-04-26T07:05:00",10,9,22,0,4,2,18,0,17,15,31,0,41,null,null,null,null,null,null,null,{"$f":"connected_load_plot+J836-B836","v":49},{"$f":"connected_load_plot+K836-C836","v":48},{"$f":"connected_load_plot+L836-D836","v":51},{"$f":"0","v":0}]
["2024-04-26T07:10:00",12,14,26,0,4,2,18,0,23,23,36,0,52,null,null,null,null,null,null,null,{"$f":"connected_load_plot+J837-B837","v":53},{"$f":"connected_load_plot+K837-C837","v":51},{"$f":"connected_load_plot+L837-D837","v":52},{"$f":"0","v":0}]
["2024-04-26T07:15:00",15,9,21,0,10,2,18,0,23,16,25,0,45,null,null,null,null,null,null,null,{"$f":"connected_load_plot+J838-B838","v":50},{"$f":"connected_load_plot+K838-C838","v":49},{"$f":"connected_load_plot+L838-D838","v":46},{"$f":"0","v":0}]
["2024-04-26T07:20:00",13,10,26,0,5,3,18,0,23,24,37,0,49,null,null,null,null,null,null,null,{"$f":"connected_load_plot+J839-B839","v":52},{"$f":"connected_load_plot+K839-C839","v":56},{"$f":"connected_load_plot+L839-D839","v":53},{"$f":"0","v":0}]
["2024-04-26T07:25:00",12,14,21,0,4,9,18,0,23,23,33,0,47,null,null,null,null,null,null,null,{"$f":"connected_load_plot+J840-B840","v":53},{"$f":"connected_load_plot+K840-C840","v":51},{"$f":"connected_load_plot+L840-D840","v":54},{"$f":"0","v":0}]
["2024-04-26T07:30:00",16,13,22,0,5,9,18,0,32,22,30,0,51,null,null,null,null,null,null,null,{"$f":"connected_load_plot+J841-B841","v":58},{"$f":"connected_load_plot+K841-C841","v":51},{"$f":"connected_load_plot+L841-D841","v":50},{"$f":"0","v":0}]
["2024-04-26T07:35:00",12,15,20,0,4,9,18,0,24,23,32,0,47,null,null,null,null,null,null,null,{"$f":"connected_load_plot+J842-B842","v":54},{"$f":"connected_load_plot+K842-C842","v":50},{"$f":"connected_load_plot+L842-D842","v":54},{"$f":"0","v":0}]
["2024-04-26T07:40:00",12,13,25,0,5,9,18,0,18,24,36,0,50,null,null,null,null,null,null,null,{"$f":"connected_load_plot+J843-B843","v":48},{"$f":"connected_load_plot+K843-C843","v":53},{"$f":"connected_load_plot+L843-D843","v":53},{"$f":"0","v":0}]
["2024-04-26T07:45:00",12,12,22,0,5,9,18,0,24,16,32,0,46,null,null,null,null,null,null,null,{"$f":"connected_load_plot+J844-B844","v":54},{"$f":"connected_load_plot+K844-C844","v":46},{"$f":"connected_load_plot+L844-D844","v":52},{"$f":"0","v":0}]
["2024-04-26T07:50:00",12,11,23,0,5,9,18,0,24,17,30,0,46,null,null,null,null,null,null,null,{"$f":"connected_load_plot+J845-B845","v":54},{"$f":"connected_load_plot+K845-C845","v":48},{"$f":"connected_load_plot+L845-D845","v":49},{"$f":"0","v":0}]
["2024-04-26T07:55:00",11,11,20,0,5,8,18,0,18,16,32,0,42,null,null,null,null,null,null,null,{"$f":"connected_load_plot+J846-B846","v":49},{"$f":"connected_load_plot+K846-C846","v":47},{"$f":"connected_load_plot+L846-D846","v":54},{"$f":"0","v":0}]
["2024-04-26T08:00:00",11,11,22,0,5,8,16,0,18,16,36,0,44,null,null,null,null,null,null,null,{"$f":"connected_load_plot+J847-B847","v":49},{"$f":"connected_load_plot+K847-C847","v":47},{"$f":"connected_load_plot+L847-D847","v":56},{"$f":"0","v":0}]
["2024-04-26T08:05:00",11,11,14,0,4,2,11,0,24,16,25,0,36,null,null,null,null,null,null,null,{"$f":"connected_load_plot+J848-B848","v":55},{"$f":"connected_load_plot+K848-C848","v":47},{"$f":"connected_load_plot+L848-D848","v":53},{"$f":"0","v":0}]
["2024-04-26T08:10:00",15,11,18,0,4,8,11,0,30,16,28,0,44,null,null,null,null,null,null,null,{"$f":"connected_load_plot+J849-B849","v":57},{"$f":"connected_load_plot+K849-C849","v":47},{"$f":"connected_load_plot+L849-D849","v":52},{"$f":"0","v":0}]
["2024-04-26T08:15:00",10,11,20,0,4,8,16,0,17,16,30,0,41,null,null,null,null,null,null,null,{"$f":"connected_load_plot+J850-B850","v":49},{"$f":"connected_load_plot+K850-C850","v":47},{"$f":"connected_load_plot+L850-D850","v":52},{"$f":"0","v":0}]
["2024-04-26T08:20:00",10,14,22,0,4,8,16,0,18,24,34,0,46,null,null,null,null,null,null,null,{"$f":"connected_load_plot+J851-B851","v":50},{"$f":"connected_load_plot+K851-C851","v":52},{"$f":"connected_load_plot+L851-D851","v":54},{"$f":"0","v":0}]
["2024-04-26T08:25:00",11,11,19,0,4,8,16,0,23,16,27,0,41,null,null,null,null,null,null,null,{"$f":"connected_load_plot+J852-B852","v":54},{"$f":"connected_load_plot+K852-C852","v":47},{"$f":"connected_load_plot+L852-D852","v":50},{"$f":"0","v":0}]
["2024-04-26T08:30:00",11,11,18,0,4,8,11,0,23,16,23,0,40,null,null,null,null,null,null,null,{"$f":"connected_load_plot+J853-B853","v":54},{"$f":"connected_load_plot+K853-C853","v":47},{"$f":"connected_load_plot+L853-D853","v":47},{"$f":"0","v":0}]
["2024-04-26T08:35:00",12,12,16,0,4,8,11,0,24,16,29,0,40,null,null,null,null,null,null,null,{"$f":"connected_load_plot+J854-B854","v":54},{"$f":"connected_load_plot+K854-C854","v":46},{"$f":"connected_load_plot+L854-D854","v":55},{"$f":"0","v":0}]
["2024-04-26T08:40:00",11,11,19,0,4,8,11,0,24,16,35,0,41,null,null,null,null,null,null,null,{"$f":"connected_load_plot+J855-B855","v":55},{"$f":"connected_load_plot+K855-C855","v":47},{"$f":"connected_load_plot+L855-D855","v":58},{"$f":"0","v":0}]
["2024-04-26T08:45:00",12,11,19,0,4,8,16,0,23,16,28,0,42,null,null,null,null,null,null,null,{"$f":"connected_load_plot+J856-B856","v":53},{"$f":"connected_load_plot+K856-C856","v":47},{"$f":"connected_load_plot+L856-D856","v":51},{"$f":"0","v":0}]
["2024-04-26T08:50:00",10,7,22,0,4,2,16,0,18,16,34,0,39,null,null,null,null,null,null,null,{"$f":"connected_load_plot+J857-B857","v":50},{"$f":"connected_load_plot+K857-C857","v":51},{"$f":"connected_load_plot+L857-D857","v":54},{"$f":"0","v":0}]
["2024-04-26T08:55:00",10,5,15,0,4,2,11,0,17,10,25,0,30,null,null,null,null,null,null,null,{"$f":"connected_load_plot+J858-B858","v":49},{"$f":"connected_load_plot+K858-C858","v":47},{"$f":"connected_load_plot+L858-D858","v":52},{"$f":"0","v":0}]
["2024-04-26T09:00:00",14,5,14,0,4,1,11,0,25,9,24,0,33,null,null,null,null,null,null,null,{"$f":"connected_load_plot+J859-B859","v":53},{"$f":"connected_load_plot+K859-C859","v":46},{"$f":"connected_load_plot+L859-D859","v":52},{"$f":"0","v":0}]
["2024-04-26T09:05:00",11,6,15,0,4,2,11,0,23,15,24,0,32,null,null,null,null,null,null,null,{"$f":"connected_load_plot+J860-B860","v":54},{"$f":"connected_load_plot+K860-C860","v":51},{"$f":"connected_load_plot+L860-D860","v":51},{"$f":"0","v":0}]
["2024-04-26T09:10:00",10,8,21,0,4,2,16,0,24,16,34,0,39,null,null,null,null,null,null,null,{"$f":"connected_load_plot+J861-B861","v":56},{"$f":"connected_load_plot+K861-C861","v":50},{"$f":"connected_load_plot+L861-D861","v":55},{"$f":"0","v":0}]
["2024-04-26T09:15:00",10,6,19,0,4,2,11,0,19,15,34,0,35,null,null,null,null,null,null,null,{"$f":"connected_load_plot+J862-B862","v":51},{"$f":"connected_load_plot+K862-C862","v":51},{"$f":"connected_load_plot+L862-D862","v":57},{"$f":"0","v":0}]
["2024-04-26T09:20:00",10,4,14,0,4,2,11,0,17,9,23,0,28,null,null,null,null,null,null,null,{"$f":"connected_load_plot+J863-B863","v":49},{"$f":"connected_load_plot+K863-C863","v":47},{"$f":"connected_load_plot+L863-D863","v":51},{"$f":"0","v":0}]
["2024-04-26T09:25:00",11,8,15,0,4,2,11,0,22,16,25,0,34,null,null,null,null,null,null,null,{"$f":"connected_load_plot+J864-B864","v":53},{"$f":"connected_load_plot+K864-C864","v":50},{"$f":"connected_load_plot+L864-D864","v":52},{"$f":"0","v":0}]
["2024-04-26T09:30:00",10,10,15,0,4,2,11,0,17,15,25,0,35,null,null,null,null,null,null,null,{"$f":"connected_load_plot+J865-B865","v":49},{"$f":"connected_load_plot+K865-C865","v":47},{"$f":"connected_load_plot+L865-D865","v":52},{"$f":"0","v":0}]
["2024-04-26T09:35:00",9,8,15,0,4,2,11,0,17,15,29,0,32,null,null,null,null,null,null,null,{"$f":"connected_load_plot+J866-B866","v":50},{"$f":"connected_load_plot+K866-C866","v":49},{"$f":"connected_load_plot+L866-D866","v":56},{"$f":"0","v":0}]
["2024-04-26T09:40:00",11,7,19,0,4,2,11,0,24,15,29,0,37,null,null,null,null,null,null,null,{"$f":"connected_load_plot+J867-B867","v":55},{"$f":"connected_load_plot+K867-C867","v":50},{"$f":"connected_load_plot+L867-D867","v":52},{"$f":"0","v":0}]
["2024-04-26T09:45:00",10,14,21,0,3,2,12,0,23,23,35,0,45,null,null,null,null,null,null,null,{"$f":"connected_load_plot+J868-B868","v":55},{"$f":"connected_load_plot+K868-C868","v":51},{"$f":"connected_load_plot+L868-D868","v":56},{"$f":"0","v":0}]
["2024-04-26T09:50:00",9,7,15,0,3,2,12,0,17,15,30,0,31,null,null,null,null,null,null,null,{"$f":"connected_load_plot+J869-B869","v":50},{"$f":"connected_load_plot+K869-C869","v":50},{"$f":"connected_load_plot+L869-D869","v":57},{"$f":"0","v":0}]
["2024-04-26T09:55:00",10,5,18,0,4,2,12,0,17,15,30,0,33,null,null,null,null,null,null,null,{"$f":"connected_load_plot+J870-B870","v":49},{"$f":"connected_load_plot+K870-C870","v":52},{"$f":"connected_load_plot+L870-D870","v":54},{"$f":"0","v":0}]
["2024-04-26T10:00:00",9,5,13,0,4,2,10,0,17,10,25,0,27,null,null,null,null,null,null,null,{"$f":"connected_load_plot+J871-B871","v":50},{"$f":"connected_load_plot+K871-C871","v":47},{"$f":"connected_load_plot+L871-D871","v":54},{"$f":"0","v":0}]
["2024-04-26T10:05:00",11,3,16,0,4,1,10,0,23,9,29,0,30,null,null,null,null,null,null,null,{"$f":"connected_load_plot+J872-B872","v":54},{"$f":"connected_load_plot+K872-C872","v":48},{"$f":"connected_load_plot+L872-D872","v":55},{"$f":"0","v":0}]
["2024-04-26T10:10:00",10,4,18,0,4,2,15,0,18,9,29,0,32,null,null,null,null,null,null,null,{"$f":"connected_load_plot+J873-B873","v":50},{"$f":"connected_load_plot+K873-C873","v":47},{"$f":"connected_load_plot+L873-D873","v":53},{"$f":"0","v":0}]
["2024-04-26T10:15:00",10,4,21,0,4,2,12,0,17,9,33,0,35,null,null,null,null,null,null,null,{"$f":"connected_load_plot+J874-B874","v":49},{"$f":"connected_load_plot+K874-C874","v":47},{"$f":"connected_load_plot+L874-D874","v":54},{"$f":"0","v":0}]
["2024-04-26T10:20:00",11,3,16,0,4,1,12,0,17,9,26,0,30,null,null,null,null,null,null,null,{"$f":"connected_load_plot+J875-B875","v":48},{"$f":"connected_load_plot+K875-C875","v":48},{"$f":"connected_load_plot+L875-D875","v":52},{"$f":"0","v":0}]
["2024-04-26T10:25:00",11,3,15,0,4,1,9,0,22,8,30,0,29,null,null,null,null,null,null,null,{"$f":"connected_load_plot+J876-B876","v":53},{"$f":"connected_load_plot+K876-C876","v":47},{"$f":"connected_load_plot+L876-D876","v":57},{"$f":"0","v":0}]
["2024-04-26T10:30:00",8,3,9,0,3,1,9,0,22,9,10,0,20,null,null,null,null,null,null,null,{"$f":"connected_load_plot+J877-B877","v":56},{"$f":"connected_load_plot+K877-C877","v":48},{"$f":"connected_load_plot+L877-D877","v":43},{"$f":"0","v":0}]
["2024-04-26T10:35:00",7,3,12,0,3,1,9,0,15,9,21,0,22,null,null,null,null,null,null,null,{"$f":"connected_load_plot+J878-B878","v":50},{"$f":"connected_load_plot+K878-C878","v":48},{"$f":"connected_load_plot+L878-D878","v":51},{"$f":"0","v":0}]
["2024-04-26T10:40:00",7,2,15,0,3,1,14,0,11,8,21,0,24,null,null,null,null,null,null,null,{"$f":"connected_load_plot+J879-B879","v":46},{"$f":"connected_load_plot+K879-C879","v":48},{"$f":"connected_load_plot+L879-D879","v":48},{"$f":"0","v":0}]
["2024-04-26T10:45:00",7,2,17,0,3,1,9,0,11,5,25,0,26,null,null,null,null,null,null,null,{"$f":"connected_load_plot+J880-B880","v":46},{"$f":"connected_load_plot+K880-C880","v":45},{"$f":"connected_load_plot+L880-D880","v":50},{"$f":"0","v":0}]
["2024-04-26T10:50:00",8,3,10,0,3,1,9,0,16,14,16,0,21,null,null,null,null,null,null,null,{"$f":"connected_load_plot+J881-B881","v":50},{"$f":"connected_load_plot+K881-C881","v":53},{"$f":"connected_load_plot+L881-D881","v":48},{"$f":"0","v":0}]
["2024-04-26T10:55:00",7,3,14,0,3,1,9,0,16,14,23,0,24,null,null,null,null,null,null,null,{"$f":"connected_load_plot+J882-B882","v":51},{"$f":"connected_load_plot+K882-C882","v":53},{"$f":"connected_load_plot+L882-D882","v":51},{"$f":"0","v":0}]
["2024-04-26T11:00:00",8,2,12,0,3,1,9,0,11,8,18,0,22,null,null,null,null,null,null,null,{"$f":"connected_load_plot+J883-B883","v":45},{"$f":"connected_load_plot+K883-C883","v":48},{"$f":"connected_load_plot+L883-D883","v":48},{"$f":"0","v":0}]
["2024-04-26T11:05:00",8,2,12,0,4,1,8,0,16,5,20,0,22,null,null,null,null,null,null,null,{"$f":"connected_load_plot+J884-B884","v":50},{"$f":"connected_load_plot+K884-C884","v":45},{"$f":"connected_load_plot+L884-D884","v":50},{"$f":"0","v":0}]
["2024-04-26T11:10:00",7,4,13,0,3,1,8,0,11,15,21,0,24,null,null,null,null,null,null,null,{"$f":"connected_load_plot+J885-B885","v":46},{"$f":"connected_load_plot+K885-C885","v":53},{"$f":"connected_load_plot+L885-D885","v":50},{"$f":"0","v":0}]
["2024-04-26T11:15:00",8,5,16,0,3,1,14,0,11,14,21,0,29,null,null,null,null,null,null,null,{"$f":"connected_load_plot+J886-B886","v":45},{"$f":"connected_load_plot+K886-C886","v":51},{"$f":"connected_load_plot+L886-D886","v":47},{"$f":"0","v":0}]
["2024-04-26T11:20:00",7,4,12,0,3,1,9,0,11,14,19,0,23,null,null,null,null,null,null,null,{"$f":"connected_load_plot+J887-B887","v":46},{"$f":"connected_load_plot+K887-C887","v":52},{"$f":"connected_load_plot+L887-D887","v":49},{"$f":"0","v":0}]
["2024-04-26T11:25:00",6,3,11,0,3,1,8,0,11,8,20,0,20,null,null,null,null,null,null,null,{"$f":"connected_load_plot+J888-B888","v":47},{"$f":"connected_load_plot+K888-C888","v":47},{"$f":"connected_load_plot+L888-D888","v":51},{"$f":"0","v":0}]
["2024-04-26T11:30:00",8,2,11,0,4,1,9,0,17,5,22,0,21,null,null,null,null,null,null,null,{"$f":"connected_load_plot+J889-B889","v":51},{"$f":"connected_load_plot+K889-C889","v":45},{"$f":"connected_load_plot+L889-D889","v":53},{"$f":"0","v":0}]
["2024-04-26T11:35:00",9,3,11,0,4,1,9,0,17,9,16,0,23,null,null,null,null,null,null,null,{"$f":"connected_load_plot+J890-B890","v":50},{"$f":"connected_load_plot+K890-C890","v":48},{"$f":"connected_load_plot+L890-D890","v":47},{"$f":"0","v":0}]
["2024-04-26T11:40:00",12,2,9,0,4,1,8,0,18,8,14,0,23,null,null,null,null,null,null,null,{"$f":"connected_load_plot+J891-B891","v":48},{"$f":"connected_load_plot+K891-C891","v":48},{"$f":"connected_load_plot+L891-D891","v":47},{"$f":"0","v":0}]
["2024-04-26T11:45:00",13,3,11,0,9,1,8,0,17,9,18,0,27,null,null,null,null,null,null,null,{"$f":"connected_load_plot+J892-B892","v":46},{"$f":"connected_load_plot+K892-C892","v":48},{"$f":"connected_load_plot+L892-D892","v":49},{"$f":"0","v":0}]
["2024-04-26T11:50:00",13,3,14,0,8,1,13,0,16,9,18,0,30,null,null,null,null,null,null,null,{"$f":"connected_load_plot+J893-B893","v":45},{"$f":"connected_load_plot+K893-C893","v":48},{"$f":"connected_load_plot+L893-D893","v":46},{"$f":"0","v":0}]
["2024-04-26T11:55:00",12,3,13,0,8,1,8,0,16,9,22,0,28,null,null,null,null,null,null,null,{"$f":"connected_load_plot+J894-B894","v":46},{"$f":"connected_load_plot+K894-C894","v":48},{"$f":"connected_load_plot+L894-D894","v":51},{"$f":"0","v":0}]
["2024-04-26T12:00:00",11,2,11,0,3,1,8,0,17,5,22,0,24,null,null,null,null,null,null,null,{"$f":"connected_load_plot+J895-B895","v":48},{"$f":"connected_load_plot+K895-C895","v":45},{"$f":"connected_load_plot+L895-D895","v":53},{"$f":"0","v":0}]
["2024-04-26T12:05:00",13,3,9,0,3,1,8,0,17,14,13,0,25,null,null,null,null,null,null,null,{"$f":"connected_load_plot+J896-B896","v":46},{"$f":"connected_load_plot+K896-C896","v":53},{"$f":"connected_load_plot+L896-D896","v":46},{"$f":"0","v":0}]
["2024-04-26T12:10:00",13,3,9,0,4,1,8,0,17,14,13,0,25,null,null,null,null,null,null,null,{"$f":"connected_load_plot+J897-B897","v":46},{"$f":"connected_load_plot+K897-C897","v":53},{"$f":"connected_load_plot+L897-D897","v":46},{"$f":"0","v":0}]
["2024-04-26T12:15:00",14,3,12,0,4,1,8,0,23,8,18,0,29,null,null,null,null,null,null,null,{"$f":"connected_load_plot+J898-B898","v":51},{"$f":"connected_load_plot+K898-C898","v":47},{"$f":"connected_load_plot+L898-D898","v":48},{"$f":"0","v":0}]
["2024-04-26T12:20:00",13,2,15,0,4,1,13,0,17,8,20,0,{"$f":"SUM(B899:D899)","v":30},null,null,null,null,null,null,null,{"$f":"connected_load_plot+J899-B899","v":46},{"$f":"connected_load_plot+K899-C899","v":48},{"$f":"connected_load_plot+L899-D899","v":47},{"$f":"0","v":0}]
["2024-04-26T12:25:00",13,2,11,0,4,1,8,0,17,5,20,0,26,null,null,null,null,null,null,null,{"$f":"connected_load_plot+J900-B900","v":46},{"$f":"connected_load_plot+K900-C900","v":45},{"$f":"connected_load_plot+L900-D900","v":51},{"$f":"0","v":0}]
["2024-04-26T12:30:00",12,3,9,0,4,1,8,0,17,9,13,0,24,null,null,null,null,null,null,null,{"$f":"connected_load_plot+J901-B901","v":47},{"$f":"connected_load_plot+K901-C901","v":48},{"$f":"connected_load_plot+L901-D901","v":46},{"$f":"0","v":0}]
["2024-04-26T12:35:00",13,3,10,0,4,1,8,0,17,9,16,0,26,null,null,null,null,null,null,null,{"$f":"connected_load_plot+J902-B902","v":46},{"$f":"connected_load_plot+K902-C902","v":48},{"$f":"connected_load_plot+L902-D902","v":48},{"$f":"0","v":0}]
["2024-04-26T12:40:00",12,4,10,0,4,1,8,0,17,20,15,0,26,null,null,null,null,null,null,null,{"$f":"connected_load_plot+J903-B903","v":47},{"$f":"connected_load_plot+K903-C903","v":58},{"$f":"connected_load_plot+L903-D903","v":47},{"$f":"0","v":0}]
["2024-04-26T12:45:00",12,3,12,0,4,1,8,0,17,14,18,0,27,null,null,null,null,null,null,null,{"$f":"connected_load_plot+J904-B904","v":47},{"$f":"connected_load_plot+K904-C904","v":53},{"$f":"connected_load_plot+L904-D904","v":48},{"$f":"0","v":0}]
["2024-04-26T12:50:00",17,3,9,0,4,1,5,0,25,9,16,0,29,null,null,null,null,null,null,null,{"$f":"connected_load_plot+J905-B905","v":50},{"$f":"connected_load_plot+K905-C905","v":48},{"$f":"connected_load_plot+L905-D905","v":49},{"$f":"0","v":0}]
["2024-04-26T12:55:00",15,3,6,0,4,1,5,0,26,8,16,0,24,null,null,null,null,null,null,null,{"$f":"connected_load_plot+J906-B906","v":53},{"$f":"connected_load_plot+K906-C906","v":47},{"$f":"connected_load_plot+L906-D906","v":52},{"$f":"0","v":0}]
["2024-04-26T13:00:00",12,3,6,0,3,1,5,0,23,8,10,0,21,null,null,null,null,null,null,null,{"$f":"connected_load_plot+J907-B907","v":53},{"$f":"connected_load_plot+K907-C907","v":47},{"$f":"connected_load_plot+L907-D907","v":46},{"$f":"0","v":0}]
["2024-04-26T13:05:00",11,2,5,0,3,1,5,0,16,6,9,0,18,null,null,null,null,null,null,null,{"$f":"connected_load_plot+J908-B908","v":47},{"$f":"connected_load_plot+K908-C908","v":46},{"$f":"connected_load_plot+L908-D908","v":46},{"$f":"0","v":0}]
["2024-04-26T13:10:00",13,3,8,0,3,1,5,0,23,9,15,0,24,null,null,null,null,null,null,null,{"$f":"connected_load_plot+J909-B909","v":52},{"$f":"connected_load_plot+K909-C909","v":48},{"$f":"connected_load_plot+L909-D909","v":49},{"$f":"0","v":0}]
["2024-04-26T13:15:00",12,4,6,0,3,1,4,0,22,14,11,0,22,null,null,null,null,null,null,null,{"$f":"connected_load_plot+J910-B910","v":52},{"$f":"connected_load_plot+K910-C910","v":52},{"$f":"connected_load_plot+L910-D910","v":47},{"$f":"0","v":0}]
["2024-04-26T13:20:00",12,4,7,0,3,1,4,0,16,14,15,0,23,null,null,null,null,null,null,null,{"$f":"connected_load_plot+J911-B911","v":46},{"$f":"connected_load_plot+K911-C911","v":52},{"$f":"connected_load_plot+L911-D911","v":50},{"$f":"0","v":0}]
["2024-04-26T13:25:00",13,3,4,0,3,1,4,0,22,14,6,0,20,null,null,null,null,null,null,null,{"$f":"connected_load_plot+J912-B912","v":51},{"$f":"connected_load_plot+K912-C912","v":53},{"$f":"connected_load_plot+L912-D912","v":44},{"$f":"0","v":0}]
["2024-04-26T13:30:00",12,2,10,0,3,1,4,0,17,5,15,0,24,null,null,null,null,null,null,null,{"$f":"connected_load_plot+J913-B913","v":47},{"$f":"connected_load_plot+K913-C913","v":45},{"$f":"connected_load_plot+L913-D913","v":47},{"$f":"0","v":0}]
["2024-04-26T13:35:00",12,3,9,0,3,1,4,0,17,8,13,0,24,null,null,null,null,null,null,null,{"$f":"connected_load_plot+J914-B914","v":47},{"$f":"connected_load_plot+K914-C914","v":47},{"$f":"connected_load_plot+L914-D914","v":46},{"$f":"0","v":0}]
["2024-04-26T13:40:00",13,3,11,0,4,1,4,0,23,8,21,0,27,null,null,null,null,null,null,null,{"$f":"connected_load_plot+J915-B915","v":52},{"$f":"connected_load_plot+K915-C915","v":47},{"$f":"connected_load_plot+L915-D915","v":52},{"$f":"0","v":0}]
["2024-04-26T13:45:00",12,3,6,0,4,1,4,0,17,8,17,0,21,null,null,null,null,null,null,null,{"$f":"connected_load_plot+J916-B916","v":47},{"$f":"connected_load_plot+K916-C916","v":47},{"$f":"connected_load_plot+L916-D916","v":53},{"$f":"0","v":0}]
["2024-04-26T13:50:00",13,3,10,0,4,1,4,0,23,9,21,0,26,null,null,null,null,null,null,null,{"$f":"connected_load_plot+J917-B917","v":52},{"$f":"connected_load_plot+K917-C917","v":48},{"$f":"connected_load_plot+L917-D917","v":53},{"$f":"0","v":0}]
["2024-04-26T13:55:00",12,2,7,0,4,1,4,0,17,8,16,0,21,null,null,null,null,null,null,null,{"$f":"connected_load_plot+J918-B918","v":47},{"$f":"connected_load_plot+K918-C918","v":48},{"$f":"connected_load_plot+L918-D918","v":51},{"$f":"0","v":0}]
["2024-04-26T14:00:00",12,3,9,0,4,1,4,0,16,8,15,0,24,null,null,null,null,null,null,null,{"$f":"connected_load_plot+J919-B919","v":46},{"$f":"connected_load_plot+K919-C919","v":47},{"$f":"connected_load_plot+L919-D919","v":48},{"$f":"0","v":0}]
["2024-04-26T14:05:00",12,6,7,0,4,1,4,0,17,14,10,0,25,null,null,null,null,null,null,null,{"$f":"connected_load_plot+J920-B920","v":47},{"$f":"connected_load_plot+K920-C920","v":50},{"$f":"connected_load_plot+L920-D920","v":45},{"$f":"0","v":0}]
["2024-04-26T14:10:00",12,8,8,0,3,6,4,0,17,14,15,0,28,null,null,null,null,null,null,null,{"$f":"connected_load_plot+J921-B921","v":47},{"$f":"connected_load_plot+K921-C921","v":48},{"$f":"connected_load_plot+L921-D921","v":49},{"$f":"0","v":0}]
["2024-04-26T14:15:00",12,9,7,0,4,6,4,0,20,20,16,0,28,null,null,null,null,null,null,null,{"$f":"connected_load_plot+J922-B922","v":50},{"$f":"connected_load_plot+K922-C922","v":53},{"$f":"connected_load_plot+L922-D922","v":51},{"$f":"0","v":0}]
["2024-04-26T14:20:00",12,7,10,0,4,6,4,0,17,13,21,0,29,null,null,null,null,null,null,null,{"$f":"connected_load_plot+J923-B923","v":47},{"$f":"connected_load_plot+K923-C923","v":48},{"$f":"connected_load_plot+L923-D923","v":53},{"$f":"0","v":0}]
["2024-04-26T14:25:00",13,6,7,0,4,6,4,0,17,13,10,0,26,null,null,null,null,null,null,null,{"$f":"connected_load_plot+J924-B924","v":46},{"$f":"connected_load_plot+K924-C924","v":49},{"$f":"connected_load_plot+L924-D924","v":45},{"$f":"0","v":0}]
["2024-04-26T14:30:00",13,8,10,0,4,6,4,0,17,14,20,0,31,null,null,null,null,null,null,null,{"$f":"connected_load_plot+J925-B925","v":46},{"$f":"connected_load_plot+K925-C925","v":48},{"$f":"connected_load_plot+L925-D925","v":52},{"$f":"0","v":0}]
["2024-04-26T14:35:00",12,4,17,0,4,1,9,0,17,13,22,0,33,null,null,null,null,null,null,null,{"$f":"connected_load_plot+J926-B926","v":47},{"$f":"connected_load_plot+K926-C926","v":51},{"$f":"connected_load_plot+L926-D926","v":47},{"$f":"0","v":0}]
["2024-04-26T14:40:00",13,2,17,0,4,1,13,0,17,10,26,0,32,null,null,null,null,null,null,null,{"$f":"connected_load_plot+J927-B927","v":46},{"$f":"connected_load_plot+K927-C927","v":50},{"$f":"connected_load_plot+L927-D927","v":51},{"$f":"0","v":0}]
["2024-04-26T14:45:00",12,2,13,0,4,1,4,0,23,8,25,0,27,null,null,null,null,null,null,null,{"$f":"connected_load_plot+J928-B928","v":53},{"$f":"connected_load_plot+K928-C928","v":48},{"$f":"connected_load_plot+L928-D928","v":54},{"$f":"0","v":0}]
["2024-04-26T14:50:00",12,3,16,0,3,1,6,0,18,8,29,0,31,null,null,null,null,null,null,null,{"$f":"connected_load_plot+J929-B929","v":48},{"$f":"connected_load_plot+K929-C929","v":47},{"$f":"connected_load_plot+L929-D929","v":55},{"$f":"0","v":0}]
["2024-04-26T14:55:00",21,8,15,0,10,1,5,0,30,13,32,0,44,null,null,null,null,null,null,null,{"$f":"connected_load_plot+J930-B930","v":51},{"$f":"connected_load_plot+K930-C930","v":47},{"$f":"connected_load_plot+L930-D930","v":59},{"$f":"0","v":0}]
["2024-04-26T15:00:00",23,13,13,0,16,1,4,0,29,26,26,0,49,null,null,null,null,null,null,null,{"$f":"connected_load_plot+J931-B931","v":48},{"$f":"connected_load_plot+K931-C931","v":55},{"$f":"connected_load_plot+L931-D931","v":55},{"$f":"0","v":0}]
["2024-04-26T15:05:00",17,6,12,0,3,1,4,0,29,19,26,0,35,null,null,null,null,null,null,null,{"$f":"connected_load_plot+J932-B932","v":54},{"$f":"connected_load_plot+K932-C932","v":55},{"$f":"connected_load_plot+L932-D932","v":56},{"$f":"0","v":0}]
["2024-04-26T15:10:00",12,5,16,0,4,1,4,0,23,13,33,0,33,null,null,null,null,null,null,null,{"$f":"connected_load_plot+J933-B933","v":53},{"$f":"connected_load_plot+K933-C933","v":50},{"$f":"connected_load_plot+L933-D933","v":59},{"$f":"0","v":0}]
["2024-04-26T15:15:00",13,4,12,0,4,1,4,0,17,8,28,0,29,null,null,null,null,null,null,null,{"$f":"connected_load_plot+J934-B934","v":46},{"$f":"connected_load_plot+K934-C934","v":46},{"$f":"connected_load_plot+L934-D934","v":58},{"$f":"0","v":0}]
["2024-04-26T15:20:00",13,7,13,0,3,1,4,0,22,19,33,0,33,null,null,null,null,null,null,null,{"$f":"connected_load_plot+J935-B935","v":51},{"$f":"connected_load_plot+K935-C935","v":54},{"$f":"connected_load_plot+L935-D935","v":62},{"$f":"0","v":0}]
["2024-04-26T15:25:00",13,8,13,0,3,1,4,0,22,19,26,0,34,null,null,null,null,null,null,null,{"$f":"connected_load_plot+J936-B936","v":51},{"$f":"connected_load_plot+K936-C936","v":53},{"$f":"connected_load_plot+L936-D936","v":55},{"$f":"0","v":0}]
["2024-04-26T15:30:00",13,7,11,0,4,1,4,0,22,19,20,0,31,null,null,null,null,null,null,null,{"$f":"connected_load_plot+J937-B937","v":51},{"$f":"connected_load_plot+K937-C937","v":54},{"$f":"connected_load_plot+L937-D937","v":51},{"$f":"0","v":0}]
["2024-04-26T15:35:00",12,8,12,0,4,1,4,0,17,19,26,0,32,null,null,null,null,null,null,null,{"$f":"connected_load_plot+J938-B938","v":47},{"$f":"connected_load_plot+K938-C938","v":53},{"$f":"connected_load_plot+L938-D938","v":56},{"$f":"0","v":0}]
["2024-04-26T15:40:00",14,10,14,0,10,1,4,0,22,20,29,0,38,null,null,null,null,null,null,null,{"$f":"connected_load_plot+J939-B939","v":50},{"$f":"connected_load_plot+K939-C939","v":52},{"$f":"connected_load_plot+L939-D939","v":57},{"$f":"0","v":0}]
["2024-04-26T15:45:00",14,7,13,0,9,1,4,0,23,20,28,0,34,null,null,null,null,null,null,null,{"$f":"connected_load_plot+J940-B940","v":51},{"$f":"connected_load_plot+K940-C940","v":55},{"$f":"connected_load_plot+L940-D940","v":57},{"$f":"0","v":0}]
["2024-04-26T15:50:00",13,8,12,0,3,1,4,0,23,26,29,0,33,null,null,null,null,null,null,null,{"$f":"connected_load_plot+J941-B941","v":52},{"$f":"connected_load_plot+K941-C941","v":60},{"$f":"connected_load_plot+L941-D941","v":59},{"$f":"0","v":0}]
["2024-04-26T15:55:00",20,11,15,0,11,1,4,0,24,28,29,0,46,null,null,null,null,null,null,null,{"$f":"connected_load_plot+J942-B942","v":46},{"$f":"connected_load_plot+K942-C942","v":59},{"$f":"connected_load_plot+L942-D942","v":56},{"$f":"0","v":0}]
["2024-04-26T16:00:00",21,5,13,0,16,1,4,0,30,13,34,0,39,null,null,null,null,null,null,null,{"$f":"connected_load_plot+J943-B943","v":51},{"$f":"connected_load_plot+K943-C943","v":50},{"$f":"connected_load_plot+L943-D943","v":63},{"$f":"0","v":0}]
["2024-04-26T16:05:00",19,7,15,0,10,1,6,0,29,25,36,0,41,null,null,null,null,null,null,null,{"$f":"connected_load_plot+J944-B944","v":52},{"$f":"connected_load_plot+K944-C944","v":60},{"$f":"connected_load_plot+L944-D944","v":63},{"$f":"0","v":0}]
["2024-04-26T16:10:00",16,10,12,0,3,1,4,0,29,26,27,0,38,null,null,null,null,null,null,null,{"$f":"connected_load_plot+J945-B945","v":55},{"$f":"connected_load_plot+K945-C945","v":58},{"$f":"connected_load_plot+L945-D945","v":57},{"$f":"0","v":0}]
["2024-04-26T16:15:00",12,7,12,0,3,1,4,0,22,25,27,0,31,null,null,null,null,null,null,null,{"$f":"connected_load_plot+J946-B946","v":52},{"$f":"connected_load_plot+K946-C946","v":60},{"$f":"connected_load_plot+L946-D946","v":57},{"$f":"0","v":0}]
["2024-04-26T16:20:00",13,5,10,0,9,1,4,0,22,19,20,0,28,null,null,null,null,null,null,null,{"$f":"connected_load_plot+J947-B947","v":51},{"$f":"connected_load_plot+K947-C947","v":56},{"$f":"connected_load_plot+L947-D947","v":52},{"$f":"0","v":0}]
["2024-04-26T16:25:00",13,8,11,0,3,1,4,0,22,19,22,0,32,null,null,null,null,null,null,null,{"$f":"connected_load_plot+J948-B948","v":51},{"$f":"connected_load_plot+K948-C948","v":53},{"$f":"connected_load_plot+L948-D948","v":53},{"$f":"0","v":0}]
["2024-04-26T16:30:00",10,10,11,0,3,1,4,0,22,24,20,0,31,null,null,null,null,null,null,null,{"$f":"connected_load_plot+J949-B949","v":54},{"$f":"connected_load_plot+K949-C949","v":56},{"$f":"connected_load_plot+L949-D949","v":51},{"$f":"0","v":0}]
["2024-04-26T16:35:00",14,9,11,0,9,1,4,0,22,24,20,0,34,null,null,null,null,null,null,null,{"$f":"connected_load_plot+J950-B950","v":50},{"$f":"connected_load_plot+K950-C950","v":57},{"$f":"connected_load_plot+L950-D950","v":51},{"$f":"0","v":0}]
["2024-04-26T16:40:00",13,6,10,0,8,1,4,0,21,19,20,0,29,null,null,null,null,null,null,null,{"$f":"connected_load_plot+J951-B951","v":50},{"$f":"connected_load_plot+K951-C951","v":55},{"$f":"connected_load_plot+L951-D951","v":52},{"$f":"0","v":0}]
["2024-04-26T16:45:00",12,5,10,0,4,1,4,0,21,16,20,0,27,null,null,null,null,null,null,null,{"$f":"connected_load_plot+J952-B952","v":51},{"$f":"connected_load_plot+K952-C952","v":53},{"$f":"connected_load_plot+L952-D952","v":52},{"$f":"0","v":0}]
["2024-04-26T16:50:00",11,8,11,0,3,1,4,0,16,24,20,0,30,null,null,null,null,null,null,null,{"$f":"connected_load_plot+J953-B953","v":47},{"$f":"connected_load_plot+K953-C953","v":58},{"$f":"connected_load_plot+L953-D953","v":51},{"$f":"0","v":0}]
["2024-04-26T16:55:00",13,10,11,0,3,1,4,0,21,24,20,0,34,null,null,null,null,null,null,null,{"$f":"connected_load_plot+J954-B954","v":50},{"$f":"connected_load_plot+K954-C954","v":56},{"$f":"connected_load_plot+L954-D954","v":51},{"$f":"0","v":0}]
["2024-04-26T17:00:00",13,7,10,0,8,1,4,0,27,24,20,0,30,null,null,null,null,null,null,null,{"$f":"connected_load_plot+J955-B955","v":56},{"$f":"connected_load_plot+K955-C955","v":59},{"$f":"connected_load_plot+L955-D955","v":52},{"$f":"0","v":0}]
["2024-04-26T17:05:00",13,5,11,0,4,1,4,0,21,18,22,0,29,null,null,null,null,null,null,null,{"$f":"connected_load_plot+J956-B956","v":50},{"$f":"connected_load_plot+K956-C956","v":55},{"$f":"connected_load_plot+L956-D956","v":53},{"$f":"0","v":0}]
["2024-04-26T17:10:00",12,6,11,0,3,1,4,0,20,19,20,0,29,null,null,null,null,null,null,null,{"$f":"connected_load_plot+J957-B957","v":50},{"$f":"connected_load_plot+K957-C957","v":55},{"$f":"connected_load_plot+L957-D957","v":51},{"$f":"0","v":0}]
["2024-04-26T17:15:00",13,9,10,0,9,1,4,0,22,25,19,0,32,null,null,null,null,null,null,null,{"$f":"connected_load_plot+J958-B958","v":51},{"$f":"connected_load_plot+K958-C958","v":58},{"$f":"connected_load_plot+L958-D958","v":51},{"$f":"0","v":0}]
["2024-04-26T17:20:00",12,8,12,0,3,1,4,0,22,26,20,0,32,null,null,null,null,null,null,null,{"$f":"connected_load_plot+J959-B959","v":52},{"$f":"connected_load_plot+K959-C959","v":60},{"$f":"connected_load_plot+L959-D959","v":50},{"$f":"0","v":0}]
["2024-04-26T17:25:00",12,5,9,0,3,1,4,0,21,20,16,0,26,null,null,null,null,null,null,null,{"$f":"connected_load_plot+J960-B960","v":51},{"$f":"connected_load_plot+K960-C960","v":57},{"$f":"connected_load_plot+L960-D960","v":49},{"$f":"0","v":0}]
["2024-04-26T17:30:00",14,7,11,0,4,1,4,0,23,19,21,0,32,null,null,null,null,null,null,null,{"$f":"connected_load_plot+J961-B961","v":51},{"$f":"connected_load_plot+K961-C961","v":54},{"$f":"connected_load_plot+L961-D961","v":52},{"$f":"0","v":0}]
["2024-04-26T17:35:00",14,11,9,0,9,1,4,0,23,34,20,0,34,null,null,null,null,null,null,null,{"$f":"connected_load_plot+J962-B962","v":51},{"$f":"connected_load_plot+K962-C962","v":65},{"$f":"connected_load_plot+L962-D962","v":53},{"$f":"0","v":0}]
["2024-04-26T17:40:00",12,7,11,0,3,1,4,0,22,24,27,0,{"$f":"SUM(B963:D963)","v":30},null,null,null,null,null,null,null,{"$f":"connected_load_plot+J963-B963","v":52},{"$f":"connected_load_plot+K963-C963","v":59},{"$f":"connected_load_plot+L963-D963","v":58},{"$f":"0","v":0}]
["2024-04-26T17:45:00",11,6,12,0,3,1,4,0,16,19,22,0,29,null,null,null,null,null,null,null,{"$f":"connected_load_plot+J964-B964","v":47},{"$f":"connected_load_plot+K964-C964","v":55},{"$f":"connected_load_plot+L964-D964","v":52},{"$f":"0","v":0}]
["2024-04-26T17:50:00",13,8,11,0,9,1,4,0,22,20,19,0,32,null,null,null,null,null,null,null,{"$f":"connected_load_plot+J965-B965","v":51},{"$f":"connected_load_plot+K965-C965","v":54},{"$f":"connected_load_plot+L965-D965","v":50},{"$f":"0","v":0}]
["2024-04-26T17:55:00",14,10,8,0,9,1,4,0,22,26,15,0,32,null,null,null,null,null,null,null,{"$f":"connected_load_plot+J966-B966","v":50},{"$f":"connected_load_plot+K966-C966","v":58},{"$f":"connected_load_plot+L966-D966","v":49},{"$f":"0","v":0}]
["2024-04-26T18:00:00",12,8,11,0,4,1,4,0,22,24,20,0,31,null,null,null,null,null,null,null,{"$f":"connected_load_plot+J967-B967","v":52},{"$f":"connected_load_plot+K967-C967","v":58},{"$f":"connected_load_plot+L967-D967","v":51},{"$f":"0","v":0}]
["2024-04-26T18:05:00",11,7,10,0,3,1,4,0,16,18,19,0,28,null,null,null,null,null,null,null,{"$f":"connected_load_plot+J968-B968","v":47},{"$f":"connected_load_plot+K968-C968","v":53},{"$f":"connected_load_plot+L968-D968","v":51},{"$f":"0","v":0}]
["2024-04-26T18:10:00",14,7,12,0,9,1,4,0,21,13,20,0,33,null,null,null,null,null,null,null,{"$f":"connected_load_plot+J969-B969","v":49},{"$f":"connected_load_plot+K969-C969","v":48},{"$f":"connected_load_plot+L969-D969","v":50},{"$f":"0","v":0}]
["2024-04-26T18:15:00",14,7,10,0,4,1,4,0,23,15,18,0,31,null,null,null,null,null,null,null,{"$f":"connected_load_plot+J970-B970","v":51},{"$f":"connected_load_plot+K970-C970","v":50},{"$f":"connected_load_plot+L970-D970","v":50},{"$f":"0","v":0}]
["2024-04-26T18:20:00",11,6,13,0,3,1,5,0,17,14,22,0,30,null,null,null,null,null,null,null,{"$f":"connected_load_plot+J971-B971","v":48},{"$f":"connected_load_plot+K971-C971","v":50},{"$f":"connected_load_plot+L971-D971","v":51},{"$f":"0","v":0}]
["2024-04-26T18:25:00",12,10,10,0,3,1,5,0,22,20,17,0,32,null,null,null,null,null,null,null,{"$f":"connected_load_plot+J972-B972","v":52},{"$f":"connected_load_plot+K972-C972","v":52},{"$f":"connected_load_plot+L972-D972","v":49},{"$f":"0","v":0}]
["2024-04-26T18:30:00",12,8,12,0,3,1,5,0,22,20,22,0,32,null,null,null,null,null,null,null,{"$f":"connected_load_plot+J973-B973","v":52},{"$f":"connected_load_plot+K973-C973","v":54},{"$f":"connected_load_plot+L973-D973","v":52},{"$f":"0","v":0}]
["2024-04-26T18:35:00",14,6,11,0,9,1,5,0,23,14,18,0,31,null,null,null,null,null,null,null,{"$f":"connected_load_plot+J974-B974","v":51},{"$f":"connected_load_plot+K974-C974","v":50},{"$f":"connected_load_plot+L974-D974","v":49},{"$f":"0","v":0}]
["2024-04-26T18:40:00",15,6,13,0,4,1,5,0,23,14,22,0,34,null,null,null,null,null,null,null,{"$f":"connected_load_plot+J975-B975","v":50},{"$f":"connected_load_plot+K975-C975","v":50},{"$f":"connected_load_plot+L975-D975","v":51},{"$f":"0","v":0}]
["2024-04-26T18:45:00",11,8,9,0,3,1,5,0,17,15,17,0,28,null,null,null,null,null,null,null,{"$f":"connected_load_plot+J976-B976","v":48},{"$f":"connected_load_plot+K976-C976","v":49},{"$f":"connected_load_plot+L976-D976","v":50},{"$f":"0","v":0}]
["2024-04-26T18:50:00",13,6,9,0,4,1,4,0,23,20,16,0,28,null,null,null,null,null,null,null,{"$f":"connected_load_plot+J977-B977","v":52},{"$f":"connected_load_plot+K977-C977","v":56},{"$f":"connected_load_plot+L977-D977","v":49},{"$f":"0","v":0}]
["2024-04-26T18:55:00",16,7,8,0,10,1,4,0,23,20,15,0,31,null,null,null,null,null,null,null,{"$f":"connected_load_plot+J978-B978","v":49},{"$f":"connected_load_plot+K978-C978","v":55},{"$f":"connected_load_plot+L978-D978","v":49},{"$f":"0","v":0}]
["2024-04-26T19:00:00",15,6,11,0,9,1,5,0,23,14,15,0,32,null,null,null,null,null,null,null,{"$f":"connected_load_plot+J979-B979","v":50},{"$f":"connected_load_plot+K979-C979","v":50},{"$f":"connected_load_plot+L979-D979","v":46},{"$f":"0","v":0}]
["2024-04-26T19:05:00",12,7,8,0,4,1,5,0,22,14,15,0,27,null,null,null,null,null,null,null,{"$f":"connected_load_plot+J980-B980","v":52},{"$f":"connected_load_plot+K980-C980","v":49},{"$f":"connected_load_plot+L980-D980","v":49},{"$f":"0","v":0}]
["2024-04-26T19:10:00",15,8,11,0,4,1,5,0,23,15,15,0,34,null,null,null,null,null,null,null,{"$f":"connected_load_plot+J981-B981","v":50},{"$f":"connected_load_plot+K981-C981","v":49},{"$f":"connected_load_plot+L981-D981","v":46},{"$f":"0","v":0}]
["2024-04-26T19:15:00",13,7,9,0,4,1,5,0,22,20,15,0,29,null,null,null,null,null,null,null,{"$f":"connected_load_plot+J982-B982","v":51},{"$f":"connected_load_plot+K982-C982","v":55},{"$f":"connected_load_plot+L982-D982","v":48},{"$f":"0","v":0}]
["2024-04-26T19:20:00",15,7,11,0,9,1,5,0,23,20,19,0,33,null,null,null,null,null,null,null,{"$f":"connected_load_plot+J983-B983","v":50},{"$f":"connected_load_plot+K983-C983","v":55},{"$f":"connected_load_plot+L983-D983","v":50},{"$f":"0","v":0}]
["2024-04-26T19:25:00",13,8,9,0,4,1,5,0,22,13,15,0,30,null,null,null,null,null,null,null,{"$f":"connected_load_plot+J984-B984","v":51},{"$f":"connected_load_plot+K984-C984","v":47},{"$f":"connected_load_plot+L984-D984","v":48},{"$f":"0","v":0}]
["2024-04-26T19:30:00",13,7,10,0,4,1,5,0,22,14,15,0,30,null,null,null,null,null,null,null,{"$f":"connected_load_plot+J985-B985","v":51},{"$f":"connected_load_plot+K985-C985","v":49},{"$f":"connected_load_plot+L985-D985","v":47},{"$f":"0","v":0}]
["2024-04-26T19:35:00",15,7,9,0,9,1,5,0,21,16,17,0,31,null,null,null,null,null,null,null,{"$f":"connected_load_plot+J986-B986","v":48},{"$f":"connected_load_plot+K986-C986","v":51},{"$f":"connected_load_plot+L986-D986","v":50},{"$f":"0","v":0}]
["2024-04-26T19:40:00",14,7,11,0,9,1,5,0,22,16,22,0,32,null,null,null,null,null,null,null,{"$f":"connected_load_plot+J987-B987","v":50},{"$f":"connected_load_plot+K987-C987","v":51},{"$f":"connected_load_plot+L987-D987","v":53},{"$f":"0","v":0}]
["2024-04-26T19:45:00",14,5,11,0,4,1,5,0,23,14,23,0,30,null,null,null,null,null,null,null,{"$f":"connected_load_plot+J988-B988","v":51},{"$f":"connected_load_plot+K988-C988","v":51},{"$f":"connected_load_plot+L988-D988","v":54},{"$f":"0","v":0}]
["2024-04-26T19:50:00",13,5,9,0,4,2,5,0,23,14,15,0,27,null,null,null,null,null,null,null,{"$f":"connected_load_plot+J989-B989","v":52},{"$f":"connected_load_plot+K989-C989","v":51},{"$f":"connected_load_plot+L989-D989","v":48},{"$f":"0","v":0}]
["2024-04-26T19:55:00",15,5,9,0,9,1,5,0,23,14,15,0,29,null,null,null,null,null,null,null,{"$f":"connected_load_plot+J990-B990","v":50},{"$f":"connected_load_plot+K990-C990","v":51},{"$f":"connected_load_plot+L990-D990","v":48},{"$f":"0","v":0}]
["2024-04-26T20:00:00",15,4,13,0,9,1,5,0,23,14,24,0,32,null,null,null,null,null,null,null,{"$f":"connected_load_plot+J991-B991","v":50},{"$f":"connected_load_plot+K991-C991","v":52},{"$f":"connected_load_plot+L991-D991","v":53},{"$f":"0","v":0}]
["2024-04-26T20:05:00",13,5,9,0,4,1,5,0,22,19,17,0,27,null,null,null,null,null,null,null,{"$f":"connected_load_plot+J992-B992","v":51},{"$f":"connected_load_plot+K992-C992","v":56},{"$f":"connected_load_plot+L992-D992","v":50},{"$f":"0","v":0}]
["2024-04-26T20:10:00",13,7,10,0,4,1,5,0,22,19,19,0,30,null,null,null,null,null,null,null,{"$f":"connected_load_plot+J993-B993","v":51},{"$f":"connected_load_plot+K993-C993","v":54},{"$f":"connected_load_plot+L993-D993","v":51},{"$f":"0","v":0}]
["2024-04-26T20:15:00",15,4,6,0,4,1,5,0,22,9,17,0,25,null,null,null,null,null,null,null,{"$f":"connected_load_plot+J994-B994","v":49},{"$f":"connected_load_plot+K994-C994","v":47},{"$f":"connected_load_plot+L994-D994","v":53},{"$f":"0","v":0}]
["2024-04-26T20:20:00",16,5,7,0,10,1,5,0,28,13,12,0,28,null,null,null,null,null,null,null,{"$f":"connected_load_plot+J995-B995","v":54},{"$f":"connected_load_plot+K995-C995","v":50},{"$f":"connected_load_plot+L995-D995","v":47},{"$f":"0","v":0}]
["2024-04-26T20:25:00",16,7,5,0,11,1,5,0,24,15,10,0,28,null,null,null,null,null,null,null,{"$f":"connected_load_plot+J996-B996","v":50},{"$f":"connected_load_plot+K996-C996","v":50},{"$f":"connected_load_plot+L996-D996","v":47},{"$f":"0","v":0}]
["2024-04-26T20:30:00",14,4,7,0,5,1,5,0,23,14,10,0,25,null,null,null,null,null,null,null,{"$f":"connected_load_plot+J997-B997","v":51},{"$f":"connected_load_plot+K997-C997","v":52},{"$f":"connected_load_plot+L997-D997","v":45},{"$f":"0","v":0}]
["2024-04-26T20:35:00",15,6,6,0,5,1,4,0,24,14,21,0,27,null,null,null,null,null,null,null,{"$f":"connected_load_plot+J998-B998","v":51},{"$f":"connected_load_plot+K998-C998","v":50},{"$f":"connected_load_plot+L998-D998","v":57},{"$f":"0","v":0}]
["2024-04-26T20:40:00",16,6,8,0,5,1,4,0,24,14,21,0,30,null,null,null,null,null,null,null,{"$f":"connected_load_plot+J999-B999","v":50},{"$f":"connected_load_plot+K999-C999","v":50},{"$f":"connected_load_plot+L999-D999","v":55},{"$f":"0","v":0}]
["2024-04-26T20:45:00",14,6,5,0,5,1,4,0,24,14,11,0,25,null,null,null,null,null,null,null,{"$f":"connected_load_plot+J1000-B1000","v":52},{"$f":"connected_load_plot+K1000-C1000","v":50},{"$f":"connected_load_plot+L1000-D1000","v":48},{"$f":"0","v":0}]
["2024-04-26T20:50:00",15,4,10,0,4,1,8,0,24,14,14,0,29,null,null,null,null,null,null,null,{"$f":"connected_load_plot+J1001-B1001","v":51},{"$f":"connected_load_plot+K1001-C1001","v":52},{"$f":"connected_load_plot+L1001-D1001","v":46},{"$f":"0","v":0}]
["2024-04-26T20:55:00",13,6,10,0,4,1,9,0,17,20,14,0,29,null,null,null,null,null,null,null,{"$f":"connected_load_plot+J1002-B1002","v":46},{"$f":"connected_load_plot+K1002-C1002","v":56},{"$f":"connected_load_plot+L1002-D1002","v":46},{"$f":"0","v":0}]
["2024-04-26T21:00:00",14,6,11,0,9,1,9,0,23,20,15,0,31,null,null,null,null,null,null,null,{"$f":"connected_load_plot+J1003-B1003","v":51},{"$f":"connected_load_plot+K1003-C1003","v":56},{"$f":"connected_load_plot+L1003-D1003","v":46},{"$f":"0","v":0}]
["2024-04-26T21:05:00",16,5,11,0,9,1,9,0,23,14,21,0,32,null,null,null,null,null,null,null,{"$f":"connected_load_plot+J1004-B1004","v":49},{"$f":"connected_load_plot+K1004-C1004","v":51},{"$f":"connected_load_plot+L1004-D1004","v":52},{"$f":"0","v":0}]
["2024-04-26T21:10:00",16,5,12,0,11,1,9,0,24,14,21,0,33,null,null,null,null,null,null,null,{"$f":"connected_load_plot+J1005-B1005","v":50},{"$f":"connected_load_plot+K1005-C1005","v":51},{"$f":"connected_load_plot+L1005-D1005","v":51},{"$f":"0","v":0}]
["2024-04-26T21:15:00",13,6,10,0,5,1,9,0,19,20,15,0,29,null,null,null,null,null,null,null,{"$f":"connected_load_plot+J1006-B1006","v":48},{"$f":"connected_load_plot+K1006-C1006","v":56},{"$f":"connected_load_plot+L1006-D1006","v":47},{"$f":"0","v":0}]
["2024-04-26T21:20:00",15,6,9,0,5,1,4,0,24,20,14,0,30,null,null,null,null,null,null,null,{"$f":"connected_load_plot+J1007-B1007","v":51},{"$f":"connected_load_plot+K1007-C1007","v":56},{"$f":"connected_load_plot+L1007-D1007","v":47},{"$f":"0","v":0}]
["2024-04-26T21:25:00",16,4,5,0,10,1,4,0,24,9,14,0,25,null,null,null,null,null,null,null,{"$f":"connected_load_plot+J1008-B1008","v":50},{"$f":"connected_load_plot+K1008-C1008","v":47},{"$f":"connected_load_plot+L1008-D1008","v":51},{"$f":"0","v":0}]
["2024-04-26T21:30:00",15,5,7,0,10,1,4,0,23,14,15,0,27,null,null,null,null,null,null,null,{"$f":"connected_load_plot+J1009-B1009","v":50},{"$f":"connected_load_plot+K1009-C1009","v":51},{"$f":"connected_load_plot+L1009-D1009","v":50},{"$f":"0","v":0}]
["2024-04-26T21:35:00",14,6,5,0,5,1,4,0,24,15,10,0,25,null,null,null,null,null,null,null,{"$f":"connected_load_plot+J1010-B1010","v":52},{"$f":"connected_load_plot+K1010-C1010","v":51},{"$f":"connected_load_plot+L1010-D1010","v":47},{"$f":"0","v":0}]
["2024-04-26T21:40:00",15,7,6,0,5,1,4,0,24,20,9,0,28,null,null,null,null,null,null,null,{"$f":"connected_load_plot+J1011-B1011","v":51},{"$f":"connected_load_plot+K1011-C1011","v":55},{"$f":"connected_load_plot+L1011-D1011","v":45},{"$f":"0","v":0}]
["2024-04-26T21:45:00",16,5,5,0,11,1,4,0,24,14,9,0,26,null,null,null,null,null,null,null,{"$f":"connected_load_plot+J1012-B1012","v":50},{"$f":"connected_load_plot+K1012-C1012","v":51},{"$f":"connected_load_plot+L1012-D1012","v":46},{"$f":"0","v":0}]
["2024-04-26T21:50:00",15,5,7,0,5,1,4,0,24,14,17,0,27,null,null,null,null,null,null,null,{"$f":"connected_load_plot+J1013-B1013","v":51},{"$f":"connected_load_plot+K1013-C1013","v":51},{"$f":"connected_load_plot+L1013-D1013","v":52},{"$f":"0","v":0}]
["2024-04-26T21:55:00",15,7,7,0,5,1,4,0,24,14,16,0,29,null,null,null,null,null,null,null,{"$f":"connected_load_plot+J1014-B1014","v":51},{"$f":"connected_load_plot+K1014-C1014","v":49},{"$f":"connected_load_plot+L1014-D1014","v":51},{"$f":"0","v":0}]
["2024-04-26T22:00:00",15,6,7,0,5,1,4,0,24,14,21,0,28,null,null,null,null,null,null,null,{"$f":"connected_load_plot+J1015-B1015","v":51},{"$f":"connected_load_plot+K1015-C1015","v":50},{"$f":"connected_load_plot+L1015-D1015","v":56},{"$f":"0","v":0}]
["2024-04-26T22:05:00",15,5,5,0,11,1,4,0,24,14,8,0,25,null,null,null,null,null,null,null,{"$f":"connected_load_plot+J1016-B1016","v":51},{"$f":"connected_load_plot+K1016-C1016","v":51},{"$f":"connected_load_plot+L1016-D1016","v":45},{"$f":"0","v":0}]
["2024-04-26T22:10:00",16,5,6,0,6,1,4,0,25,13,10,0,27,null,null,null,null,null,null,null,{"$f":"connected_load_plot+J1017-B1017","v":51},{"$f":"connected_load_plot+K1017-C1017","v":50},{"$f":"connected_load_plot+L1017-D1017","v":46},{"$f":"0","v":0}]
["2024-04-26T22:15:00",16,6,8,0,6,1,4,0,25,19,21,0,30,null,null,null,null,null,null,null,{"$f":"connected_load_plot+J1018-B1018","v":51},{"$f":"connected_load_plot+K1018-C1018","v":55},{"$f":"connected_load_plot+L1018-D1018","v":55},{"$f":"0","v":0}]
["2024-04-26T22:20:00",14,7,7,0,4,1,4,0,23,20,21,0,28,null,null,null,null,null,null,null,{"$f":"connected_load_plot+J1019-B1019","v":51},{"$f":"connected_load_plot+K1019-C1019","v":55},{"$f":"connected_load_plot+L1019-D1019","v":56},{"$f":"0","v":0}]
["2024-04-26T22:25:00",16,8,5,0,4,1,4,0,23,20,8,0,29,null,null,null,null,null,null,null,{"$f":"connected_load_plot+J1020-B1020","v":49},{"$f":"connected_load_plot+K1020-C1020","v":54},{"$f":"connected_load_plot+L1020-D1020","v":45},{"$f":"0","v":0}]
["2024-04-26T22:30:00",14,8,6,0,4,1,4,0,23,21,10,0,28,null,null,null,null,null,null,null,{"$f":"connected_load_plot+J1021-B1021","v":51},{"$f":"connected_load_plot+K1021-C1021","v":55},{"$f":"connected_load_plot+L1021-D1021","v":46},{"$f":"0","v":0}]
["2024-04-26T22:35:00",16,13,7,0,5,1,4,0,24,23,16,0,36,null,null,null,null,null,null,null,{"$f":"connected_load_plot+J1022-B1022","v":50},{"$f":"connected_load_plot+K1022-C1022","v":52},{"$f":"connected_load_plot+L1022-D1022","v":51},{"$f":"0","v":0}]
["2024-04-26T22:40:00",14,10,8,0,5,1,4,0,24,29,21,0,32,null,null,null,null,null,null,null,{"$f":"connected_load_plot+J1023-B1023","v":52},{"$f":"connected_load_plot+K1023-C1023","v":61},{"$f":"connected_load_plot+L1023-D1023","v":55},{"$f":"0","v":0}]
["2024-04-26T22:45:00",16,7,5,0,5,1,4,0,24,21,10,0,28,null,null,null,null,null,null,null,{"$f":"connected_load_plot+J1024-B1024","v":50},{"$f":"connected_load_plot+K1024-C1024","v":56},{"$f":"connected_load_plot+L1024-D1024","v":47},{"$f":"0","v":0}]
["2024-04-26T22:50:00",15,10,6,0,5,2,4,0,24,22,9,0,31,null,null,null,null,null,null,null,{"$f":"connected_load_plot+J1025-B1025","v":51},{"$f":"connected_load_plot+K1025-C1025","v":54},{"$f":"connected_load_plot+L1025-D1025","v":45},{"$f":"0","v":0}]
["2024-04-26T22:55:00",15,7,5,0,5,3,4,0,24,22,14,0,27,null,null,null,null,null,null,null,{"$f":"connected_load_plot+J1026-B1026","v":51},{"$f":"connected_load_plot+K1026-C1026","v":57},{"$f":"connected_load_plot+L1026-D1026","v":51},{"$f":"0","v":0}]
["2024-04-26T23:00:00",16,8,8,0,11,2,4,0,24,16,21,0,{"$f":"SUM(B1027:D1027)","v":32},null,null,null,null,null,null,null,{"$f":"connected_load_plot+J1027-B1027","v":50},{"$f":"connected_load_plot+K1027-C1027","v":50},{"$f":"connected_load_plot+L1027-D1027","v":55},{"$f":"0","v":0}]
["2024-04-26T23:05:00",14,8,7,0,5,2,4,0,24,16,17,0,29,null,null,null,null,null,null,null,{"$f":"connected_load_plot+J1028-B1028","v":52},{"$f":"connected_load_plot+K1028-C1028","v":50},{"$f":"connected_load_plot+L1028-D1028","v":52},{"$f":"0","v":0}]
["2024-04-26T23:10:00",16,9,7,0,5,3,5,0,23,28,10,0,32,null,null,null,null,null,null,null,{"$f":"connected_load_plot+J1029-B1029","v":49},{"$f":"connected_load_plot+K1029-C1029","v":61},{"$f":"connected_load_plot+L1029-D1029","v":45},{"$f":"0","v":0}]
["2024-04-26T23:15:00",15,9,6,0,10,3,5,0,24,28,17,0,30,null,null,null,null,null,null,null,{"$f":"connected_load_plot+J1030-B1030","v":51},{"$f":"connected_load_plot+K1030-C1030","v":61},{"$f":"connected_load_plot+L1030-D1030","v":53},{"$f":"0","v":0}]
["2024-04-26T23:20:00",15,8,8,0,5,2,5,0,24,16,18,0,31,null,null,null,null,null,null,null,{"$f":"connected_load_plot+J1031-B1031","v":51},{"$f":"connected_load_plot+K1031-C1031","v":50},{"$f":"connected_load_plot+L1031-D1031","v":52},{"$f":"0","v":0}]
["2024-04-26T23:25:00",16,8,7,0,11,2,4,0,24,16,18,0,31,null,null,null,null,null,null,null,{"$f":"connected_load_plot+J1032-B1032","v":50},{"$f":"connected_load_plot+K1032-C1032","v":50},{"$f":"connected_load_plot+L1032-D1032","v":53},{"$f":"0","v":0}]
["2024-04-26T23:30:00",15,7,7,0,5,2,4,0,24,16,15,0,29,null,null,null,null,null,null,null,{"$f":"connected_load_plot+J1033-B1033","v":51},{"$f":"connected_load_plot+K1033-C1033","v":51},{"$f":"connected_load_plot+L1033-D1033","v":50},{"$f":"0","v":0}]
["2024-04-26T23:35:00",16,9,5,0,11,2,4,0,24,28,9,0,30,null,null,null,null,null,null,null,{"$f":"connected_load_plot+J1034-B1034","v":50},{"$f":"connected_load_plot+K1034-C1034","v":61},{"$f":"connected_load_plot+L1034-D1034","v":46},{"$f":"0","v":0}]
["2024-04-26T23:40:00",15,9,7,0,10,2,4,0,24,22,15,0,31,null,null,null,null,null,null,null,{"$f":"connected_load_plot+J1035-B1035","v":51},{"$f":"connected_load_plot+K1035-C1035","v":55},{"$f":"connected_load_plot+L1035-D1035","v":50},{"$f":"0","v":0}]
["2024-04-26T23:45:00",14,8,7,0,5,2,4,0,23,16,16,0,29,null,null,null,null,null,null,null,{"$f":"connected_load_plot+J1036-B1036","v":51},{"$f":"connected_load_plot+K1036-C1036","v":50},{"$f":"connected_load_plot+L1036-D1036","v":51},{"$f":"0","v":0}]
["2024-04-26T23:50:00",15,8,7,0,5,2,4,0,23,16,16,0,30,null,null,null,null,null,null,null,{"$f":"connected_load_plot+J1037-B1037","v":50},{"$f":"connected_load_plot+K1037-C1037","v":50},{"$f":"connected_load_plot+L1037-D1037","v":51},{"$f":"0","v":0}]
["2024-04-26T23:55:00",15,7,6,0,5,2,4,0,29,22,10,0,28,null,null,null,null,null,null,null,{"$f":"connected_load_plot+J1038-B1038","v":56},{"$f":"connected_load_plot+K1038-C1038","v":57},{"$f":"connected_load_plot+L1038-D1038","v":46},{"$f":"0","v":0}]
["2024-04-27",15,8,7,0,10,2,4,0,23,22,15,0,30,null,null,null,null,null,null,null,{"$f":"connected_load_plot+J1039-B1039","v":50},{"$f":"connected_load_plot+K1039-C1039","v":56},{"$f":"connected_load_plot+L1039-D1039","v":50},{"$f":"0","v":0}]
["2024-04-27T00:05:00",14,9,9,0,5,2,4,0,24,16,21,0,32,null,null,null,null,null,null,null,{"$f":"connected_load_plot+J1040-B1040","v":52},{"$f":"connected_load_plot+K1040-C1040","v":49},{"$f":"connected_load_plot+L1040-D1040","v":54},{"$f":"0","v":0}]
["2024-04-27T00:10:00",12,7,7,0,4,1,4,0,22,14,15,0,26,null,null,null,null,null,null,null,{"$f":"connected_load_plot+J1041-B1041","v":52},{"$f":"connected_load_plot+K1041-C1041","v":49},{"$f":"connected_load_plot+L1041-D1041","v":50},{"$f":"0","v":0}]
["2024-04-27T00:15:00",15,6,6,0,4,1,4,0,22,15,10,0,27,null,null,null,null,null,null,null,{"$f":"connected_load_plot+J1042-B1042","v":49},{"$f":"connected_load_plot+K1042-C1042","v":51},{"$f":"connected_load_plot+L1042-D1042","v":46},{"$f":"0","v":0}]
["2024-04-27T00:20:00",13,7,6,0,4,1,4,0,22,21,11,0,26,null,null,null,null,null,null,null,{"$f":"connected_load_plot+J1043-B1043","v":51},{"$f":"connected_load_plot+K1043-C1043","v":56},{"$f":"connected_load_plot+L1043-D1043","v":47},{"$f":"0","v":0}]
["2024-04-27T00:25:00",14,8,7,0,4,1,4,0,22,21,21,0,29,null,null,null,null,null,null,null,{"$f":"connected_load_plot+J1044-B1044","v":50},{"$f":"connected_load_plot+K1044-C1044","v":55},{"$f":"connected_load_plot+L1044-D1044","v":56},{"$f":"0","v":0}]
["2024-04-27T00:30:00",15,8,7,0,4,1,4,0,24,15,21,0,30,null,null,null,null,null,null,null,{"$f":"connected_load_plot+J1045-B1045","v":51},{"$f":"connected_load_plot+K1045-C1045","v":49},{"$f":"connected_load_plot+L1045-D1045","v":56},{"$f":"0","v":0}]
["2024-04-27T00:35:00",14,7,7,0,5,2,4,0,23,16,15,0,28,null,null,null,null,null,null,null,{"$f":"connected_load_plot+J1046-B1046","v":51},{"$f":"connected_load_plot+K1046-C1046","v":51},{"$f":"connected_load_plot+L1046-D1046","v":50},{"$f":"0","v":0}]
["2024-04-27T00:40:00",15,6,7,0,5,2,4,0,23,15,16,0,28,null,null,null,null,null,null,null,{"$f":"connected_load_plot+J1047-B1047","v":50},{"$f":"connected_load_plot+K1047-C1047","v":51},{"$f":"connected_load_plot+L1047-D1047","v":51},{"$f":"0","v":0}]
["2024-04-27T00:45:00",14,7,9,0,4,2,4,0,24,21,21,0,30,null,null,null,null,null,null,null,{"$f":"connected_load_plot+J1048-B1048","v":52},{"$f":"connected_load_plot+K1048-C1048","v":56},{"$f":"connected_load_plot+L1048-D1048","v":54},{"$f":"0","v":0}]
["2024-04-27T00:50:00",14,9,8,0,5,2,4,0,23,21,27,0,31,null,null,null,null,null,null,null,{"$f":"connected_load_plot+J1049-B1049","v":51},{"$f":"connected_load_plot+K1049-C1049","v":54},{"$f":"connected_load_plot+L1049-D1049","v":61},{"$f":"0","v":0}]
["2024-04-27T00:55:00",16,9,7,0,4,2,4,0,24,15,16,0,32,null,null,null,null,null,null,null,{"$f":"connected_load_plot+J1050-B1050","v":50},{"$f":"connected_load_plot+K1050-C1050","v":48},{"$f":"connected_load_plot+L1050-D1050","v":51},{"$f":"0","v":0}]
["2024-04-27T01:00:00",15,6,5,0,5,2,4,0,23,15,17,0,26,null,null,null,null,null,null,null,{"$f":"connected_load_plot+J1051-B1051","v":50},{"$f":"connected_load_plot+K1051-C1051","v":51},{"$f":"connected_load_plot+L1051-D1051","v":54},{"$f":"0","v":0}]
["2024-04-27T01:05:00",15,6,9,0,4,2,4,0,23,15,21,0,30,null,null,null,null,null,null,null,{"$f":"connected_load_plot+J1052-B1052","v":50},{"$f":"connected_load_plot+K1052-C1052","v":51},{"$f":"connected_load_plot+L1052-D1052","v":54},{"$f":"0","v":0}]
["2024-04-27T01:10:00",14,7,8,0,4,2,4,0,23,22,21,0,29,null,null,null,null,null,null,null,{"$f":"connected_load_plot+J1053-B1053","v":51},{"$f":"connected_load_plot+K1053-C1053","v":57},{"$f":"connected_load_plot+L1053-D1053","v":55},{"$f":"0","v":0}]
["2024-04-27T01:15:00",14,9,8,0,4,2,4,0,23,21,15,0,31,null,null,null,null,null,null,null,{"$f":"connected_load_plot+J1054-B1054","v":51},{"$f":"connected_load_plot+K1054-C1054","v":54},{"$f":"connected_load_plot+L1054-D1054","v":49},{"$f":"0","v":0}]
["2024-04-27T01:20:00",17,7,6,0,10,2,4,0,24,15,11,0,30,null,null,null,null,null,null,null,{"$f":"connected_load_plot+J1055-B1055","v":49},{"$f":"connected_load_plot+K1055-C1055","v":50},{"$f":"connected_load_plot+L1055-D1055","v":47},{"$f":"0","v":0}]
["2024-04-27T01:25:00",14,6,9,0,5,2,4,0,24,15,21,0,29,null,null,null,null,null,null,null,{"$f":"connected_load_plot+J1056-B1056","v":52},{"$f":"connected_load_plot+K1056-C1056","v":51},{"$f":"connected_load_plot+L1056-D1056","v":54},{"$f":"0","v":0}]
["2024-04-27T01:30:00",14,6,7,0,5,2,4,0,23,15,21,0,27,null,null,null,null,null,null,null,{"$f":"connected_load_plot+J1057-B1057","v":51},{"$f":"connected_load_plot+K1057-C1057","v":51},{"$f":"connected_load_plot+L1057-D1057","v":56},{"$f":"0","v":0}]
["2024-04-27T01:35:00",16,7,7,0,10,2,4,0,23,21,15,0,30,null,null,null,null,null,null,null,{"$f":"connected_load_plot+J1058-B1058","v":49},{"$f":"connected_load_plot+K1058-C1058","v":56},{"$f":"connected_load_plot+L1058-D1058","v":50},{"$f":"0","v":0}]
["2024-04-27T01:40:00",16,10,6,0,4,2,4,0,23,21,11,0,32,null,null,null,null,null,null,null,{"$f":"connected_load_plot+J1059-B1059","v":49},{"$f":"connected_load_plot+K1059-C1059","v":53},{"$f":"connected_load_plot+L1059-D1059","v":47},{"$f":"0","v":0}]
["2024-04-27T01:45:00",13,7,11,0,4,2,4,0,18,15,27,0,31,null,null,null,null,null,null,null,{"$f":"connected_load_plot+J1060-B1060","v":47},{"$f":"connected_load_plot+K1060-C1060","v":50},{"$f":"connected_load_plot+L1060-D1060","v":58},{"$f":"0","v":0}]
["2024-04-27T01:50:00",13,6,8,0,4,2,4,0,23,15,23,0,27,null,null,null,null,null,null,null,{"$f":"connected_load_plot+J1061-B1061","v":52},{"$f":"connected_load_plot+K1061-C1061","v":51},{"$f":"connected_load_plot+L1061-D1061","v":57},{"$f":"0","v":0}]
["2024-04-27T01:55:00",16,6,8,0,4,2,4,0,23,15,16,0,30,null,null,null,null,null,null,null,{"$f":"connected_load_plot+J1062-B1062","v":49},{"$f":"connected_load_plot+K1062-C1062","v":51},{"$f":"connected_load_plot+L1062-D1062","v":50},{"$f":"0","v":0}]
["2024-04-27T02:00:00",14,7,6,0,4,1,4,0,22,20,14,0,27,null,null,null,null,null,null,null,{"$f":"connected_load_plot+J1063-B1063","v":50},{"$f":"connected_load_plot+K1063-C1063","v":55},{"$f":"connected_load_plot+L1063-D1063","v":50},{"$f":"0","v":0}]
["2024-04-27T02:05:00",13,9,9,0,4,1,4,0,17,20,21,0,31,null,null,null,null,null,null,null,{"$f":"connected_load_plot+J1064-B1064","v":46},{"$f":"connected_load_plot+K1064-C1064","v":53},{"$f":"connected_load_plot+L1064-D1064","v":54},{"$f":"0","v":0}]
["2024-04-27T02:10:00",14,6,7,0,5,1,4,0,23,15,16,0,27,null,null,null,null,null,null,null,{"$f":"connected_load_plot+J1065-B1065","v":51},{"$f":"connected_load_plot+K1065-C1065","v":51},{"$f":"connected_load_plot+L1065-D1065","v":51},{"$f":"0","v":0}]
["2024-04-27T02:15:00",15,5,8,0,5,1,4,0,23,15,16,0,28,null,null,null,null,null,null,null,{"$f":"connected_load_plot+J1066-B1066","v":50},{"$f":"connected_load_plot+K1066-C1066","v":52},{"$f":"connected_load_plot+L1066-D1066","v":50},{"$f":"0","v":0}]
["2024-04-27T02:20:00",16,6,5,0,5,1,4,0,29,14,10,0,27,null,null,null,null,null,null,null,{"$f":"connected_load_plot+J1067-B1067","v":55},{"$f":"connected_load_plot+K1067-C1067","v":50},{"$f":"connected_load_plot+L1067-D1067","v":47},{"$f":"0","v":0}]
["2024-04-27T02:25:00",13,8,9,0,5,1,4,0,18,21,21,0,30,null,null,null,null,null,null,null,{"$f":"connected_load_plot+J1068-B1068","v":47},{"$f":"connected_load_plot+K1068-C1068","v":55},{"$f":"connected_load_plot+L1068-D1068","v":54},{"$f":"0","v":0}]
["2024-04-27T02:30:00",15,8,9,0,5,2,4,0,23,21,23,0,32,null,null,null,null,null,null,null,{"$f":"connected_load_plot+J1069-B1069","v":50},{"$f":"connected_load_plot+K1069-C1069","v":55},{"$f":"connected_load_plot+L1069-D1069","v":56},{"$f":"0","v":0}]
["2024-04-27T02:35:00",16,7,9,0,5,2,4,0,23,21,22,0,32,null,null,null,null,null,null,null,{"$f":"connected_load_plot+J1070-B1070","v":49},{"$f":"connected_load_plot+K1070-C1070","v":56},{"$f":"connected_load_plot+L1070-D1070","v":55},{"$f":"0","v":0}]
["2024-04-27T02:40:00",14,6,6,0,5,2,4,0,23,15,10,0,26,null,null,null,null,null,null,null,{"$f":"connected_load_plot+J1071-B1071","v":51},{"$f":"connected_load_plot+K1071-C1071","v":51},{"$f":"connected_load_plot+L1071-D1071","v":46},{"$f":"0","v":0}]
["2024-04-27T02:45:00",14,6,9,0,5,2,4,0,24,15,18,0,29,null,null,null,null,null,null,null,{"$f":"connected_load_plot+J1072-B1072","v":52},{"$f":"connected_load_plot+K1072-C1072","v":51},{"$f":"connected_load_plot+L1072-D1072","v":51},{"$f":"0","v":0}]
["2024-04-27T02:50:00",15,9,7,0,5,2,4,0,24,21,17,0,31,null,null,null,null,null,null,null,{"$f":"connected_load_plot+J1073-B1073","v":51},{"$f":"connected_load_plot+K1073-C1073","v":54},{"$f":"connected_load_plot+L1073-D1073","v":52},{"$f":"0","v":0}]
["2024-04-27T02:55:00",16,9,8,0,5,2,4,0,24,28,21,0,33,null,null,null,null,null,null,null,{"$f":"connected_load_plot+J1074-B1074","v":50},{"$f":"connected_load_plot+K1074-C1074","v":61},{"$f":"connected_load_plot+L1074-D1074","v":55},{"$f":"0","v":0}]
["2024-04-27T03:00:00",14,7,6,0,5,2,4,0,24,21,16,0,27,null,null,null,null,null,null,null,{"$f":"connected_load_plot+J1075-B1075","v":52},{"$f":"connected_load_plot+K1075-C1075","v":56},{"$f":"connected_load_plot+L1075-D1075","v":52},{"$f":"0","v":0}]
["2024-04-27T03:05:00",15,5,9,0,5,2,4,0,24,15,21,0,29,null,null,null,null,null,null,null,{"$f":"connected_load_plot+J1076-B1076","v":51},{"$f":"connected_load_plot+K1076-C1076","v":52},{"$f":"connected_load_plot+L1076-D1076","v":54},{"$f":"0","v":0}]
["2024-04-27T03:10:00",16,7,7,0,5,2,4,0,24,15,23,0,30,null,null,null,null,null,null,null,{"$f":"connected_load_plot+J1077-B1077","v":50},{"$f":"connected_load_plot+K1077-C1077","v":50},{"$f":"connected_load_plot+L1077-D1077","v":58},{"$f":"0","v":0}]
["2024-04-27T03:15:00",14,8,11,0,5,2,4,0,24,21,27,0,33,null,null,null,null,null,null,null,{"$f":"connected_load_plot+J1078-B1078","v":52},{"$f":"connected_load_plot+K1078-C1078","v":55},{"$f":"connected_load_plot+L1078-D1078","v":58},{"$f":"0","v":0}]
["2024-04-27T03:20:00",16,8,7,0,5,2,4,0,24,21,16,0,31,null,null,null,null,null,null,null,{"$f":"connected_load_plot+J1079-B1079","v":50},{"$f":"connected_load_plot+K1079-C1079","v":55},{"$f":"connected_load_plot+L1079-D1079","v":51},{"$f":"0","v":0}]
["2024-04-27T03:25:00",14,7,7,0,5,2,4,0,24,21,15,0,28,null,null,null,null,null,null,null,{"$f":"connected_load_plot+J1080-B1080","v":52},{"$f":"connected_load_plot+K1080-C1080","v":56},{"$f":"connected_load_plot+L1080-D1080","v":50},{"$f":"0","v":0}]
["2024-04-27T03:30:00",14,7,7,0,5,2,4,0,22,15,16,0,28,null,null,null,null,null,null,null,{"$f":"connected_load_plot+J1081-B1081","v":50},{"$f":"connected_load_plot+K1081-C1081","v":50},{"$f":"connected_load_plot+L1081-D1081","v":51},{"$f":"0","v":0}]
["2024-04-27T03:35:00",14,8,9,0,4,2,4,0,22,15,23,0,31,null,null,null,null,null,null,null,{"$f":"connected_load_plot+J1082-B1082","v":50},{"$f":"connected_load_plot+K1082-C1082","v":49},{"$f":"connected_load_plot+L1082-D1082","v":56},{"$f":"0","v":0}]
["2024-04-27T03:40:00",14,6,7,0,4,2,4,0,22,15,17,0,27,null,null,null,null,null,null,null,{"$f":"connected_load_plot+J1083-B1083","v":50},{"$f":"connected_load_plot+K1083-C1083","v":51},{"$f":"connected_load_plot+L1083-D1083","v":52},{"$f":"0","v":0}]
["2024-04-27T03:45:00",14,8,8,0,4,1,4,0,24,21,21,0,30,null,null,null,null,null,null,null,{"$f":"connected_load_plot+J1084-B1084","v":52},{"$f":"connected_load_plot+K1084-C1084","v":55},{"$f":"connected_load_plot+L1084-D1084","v":55},{"$f":"0","v":0}]
["2024-04-27T03:50:00",14,7,6,0,5,1,4,0,24,21,17,0,27,null,null,null,null,null,null,null,{"$f":"connected_load_plot+J1085-B1085","v":52},{"$f":"connected_load_plot+K1085-C1085","v":56},{"$f":"connected_load_plot+L1085-D1085","v":53},{"$f":"0","v":0}]
["2024-04-27T03:55:00",17,6,11,0,5,1,4,0,23,15,27,0,34,null,null,null,null,null,null,null,{"$f":"connected_load_plot+J1086-B1086","v":48},{"$f":"connected_load_plot+K1086-C1086","v":51},{"$f":"connected_load_plot+L1086-D1086","v":58},{"$f":"0","v":0}]
["2024-04-27T04:00:00",14,5,7,0,5,1,4,0,23,14,23,0,26,null,null,null,null,null,null,null,{"$f":"connected_load_plot+J1087-B1087","v":51},{"$f":"connected_load_plot+K1087-C1087","v":51},{"$f":"connected_load_plot+L1087-D1087","v":58},{"$f":"0","v":0}]
["2024-04-27T04:05:00",14,5,8,0,5,1,4,0,24,14,15,0,27,null,null,null,null,null,null,null,{"$f":"connected_load_plot+J1088-B1088","v":52},{"$f":"connected_load_plot+K1088-C1088","v":51},{"$f":"connected_load_plot+L1088-D1088","v":49},{"$f":"0","v":0}]
["2024-04-27T04:10:00",17,6,7,0,10,1,4,0,24,20,23,0,30,null,null,null,null,null,null,null,{"$f":"connected_load_plot+J1089-B1089","v":49},{"$f":"connected_load_plot+K1089-C1089","v":56},{"$f":"connected_load_plot+L1089-D1089","v":58},{"$f":"0","v":0}]
["2024-04-27T04:15:00",15,7,11,0,5,1,4,0,24,21,28,0,33,null,null,null,null,null,null,null,{"$f":"connected_load_plot+J1090-B1090","v":51},{"$f":"connected_load_plot+K1090-C1090","v":56},{"$f":"connected_load_plot+L1090-D1090","v":59},{"$f":"0","v":0}]
["2024-04-27T04:20:00",14,7,6,0,5,1,4,0,24,20,17,0,{"$f":"SUM(B1091:D1091)","v":27},null,null,null,null,null,null,null,{"$f":"connected_load_plot+J1091-B1091","v":52},{"$f":"connected_load_plot+K1091-C1091","v":55},{"$f":"connected_load_plot+L1091-D1091","v":53},{"$f":"0","v":0}]
["2024-04-27T04:25:00",14,6,7,0,5,1,4,0,24,15,15,0,27,null,null,null,null,null,null,null,{"$f":"connected_load_plot+J1092-B1092","v":52},{"$f":"connected_load_plot+K1092-C1092","v":51},{"$f":"connected_load_plot+L1092-D1092","v":50},{"$f":"0","v":0}]
["2024-04-27T04:30:00",16,6,8,0,5,1,4,0,24,14,22,0,30,null,null,null,null,null,null,null,{"$f":"connected_load_plot+J1093-B1093","v":50},{"$f":"connected_load_plot+K1093-C1093","v":50},{"$f":"connected_load_plot+L1093-D1093","v":56},{"$f":"0","v":0}]
["2024-04-27T04:35:00",16,6,11,0,5,1,4,0,24,21,27,0,33,null,null,null,null,null,null,null,{"$f":"connected_load_plot+J1094-B1094","v":50},{"$f":"connected_load_plot+K1094-C1094","v":57},{"$f":"connected_load_plot+L1094-D1094","v":58},{"$f":"0","v":0}]
["2024-04-27T04:40:00",13,8,8,0,5,2,4,0,23,21,23,0,29,null,null,null,null,null,null,null,{"$f":"connected_load_plot+J1095-B1095","v":52},{"$f":"connected_load_plot+K1095-C1095","v":55},{"$f":"connected_load_plot+L1095-D1095","v":57},{"$f":"0","v":0}]
["2024-04-27T04:45:00",15,9,9,0,4,2,4,0,24,21,21,0,33,null,null,null,null,null,null,null,{"$f":"connected_load_plot+J1096-B1096","v":51},{"$f":"connected_load_plot+K1096-C1096","v":54},{"$f":"connected_load_plot+L1096-D1096","v":54},{"$f":"0","v":0}]
["2024-04-27T04:50:00",14,6,6,0,4,2,4,0,23,15,11,0,26,null,null,null,null,null,null,null,{"$f":"connected_load_plot+J1097-B1097","v":51},{"$f":"connected_load_plot+K1097-C1097","v":51},{"$f":"connected_load_plot+L1097-D1097","v":47},{"$f":"0","v":0}]
["2024-04-27T04:55:00",14,6,9,0,4,2,4,0,22,15,21,0,29,null,null,null,null,null,null,null,{"$f":"connected_load_plot+J1098-B1098","v":50},{"$f":"connected_load_plot+K1098-C1098","v":51},{"$f":"connected_load_plot+L1098-D1098","v":54},{"$f":"0","v":0}]
["2024-04-27T05:00:00",15,7,7,0,4,2,4,0,24,21,17,0,29,null,null,null,null,null,null,null,{"$f":"connected_load_plot+J1099-B1099","v":51},{"$f":"connected_load_plot+K1099-C1099","v":56},{"$f":"connected_load_plot+L1099-D1099","v":52},{"$f":"0","v":0}]
["2024-04-27T05:05:00",15,8,8,0,5,2,4,0,24,21,21,0,31,null,null,null,null,null,null,null,{"$f":"connected_load_plot+J1100-B1100","v":51},{"$f":"connected_load_plot+K1100-C1100","v":55},{"$f":"connected_load_plot+L1100-D1100","v":55},{"$f":"0","v":0}]
["2024-04-27T05:10:00",15,8,10,0,5,2,4,0,24,21,27,0,33,null,null,null,null,null,null,null,{"$f":"connected_load_plot+J1101-B1101","v":51},{"$f":"connected_load_plot+K1101-C1101","v":55},{"$f":"connected_load_plot+L1101-D1101","v":59},{"$f":"0","v":0}]
["2024-04-27T05:15:00",15,6,11,0,5,2,4,0,24,16,28,0,32,null,null,null,null,null,null,null,{"$f":"connected_load_plot+J1102-B1102","v":51},{"$f":"connected_load_plot+K1102-C1102","v":52},{"$f":"connected_load_plot+L1102-D1102","v":59},{"$f":"0","v":0}]
["2024-04-27T05:20:00",16,6,7,0,5,2,4,0,24,15,17,0,29,null,null,null,null,null,null,null,{"$f":"connected_load_plot+J1103-B1103","v":50},{"$f":"connected_load_plot+K1103-C1103","v":51},{"$f":"connected_load_plot+L1103-D1103","v":52},{"$f":"0","v":0}]
["2024-04-27T05:25:00",14,7,7,0,5,2,4,0,23,21,15,0,28,null,null,null,null,null,null,null,{"$f":"connected_load_plot+J1104-B1104","v":51},{"$f":"connected_load_plot+K1104-C1104","v":56},{"$f":"connected_load_plot+L1104-D1104","v":50},{"$f":"0","v":0}]
["2024-04-27T05:30:00",14,8,6,0,4,1,4,0,23,21,15,0,28,null,null,null,null,null,null,null,{"$f":"connected_load_plot+J1105-B1105","v":51},{"$f":"connected_load_plot+K1105-C1105","v":55},{"$f":"connected_load_plot+L1105-D1105","v":51},{"$f":"0","v":0}]
["2024-04-27T05:35:00",16,7,8,0,5,1,4,0,23,14,23,0,31,null,null,null,null,null,null,null,{"$f":"connected_load_plot+J1106-B1106","v":49},{"$f":"connected_load_plot+K1106-C1106","v":49},{"$f":"connected_load_plot+L1106-D1106","v":57},{"$f":"0","v":0}]
["2024-04-27T05:40:00",16,5,11,0,4,1,4,0,30,14,34,0,32,null,null,null,null,null,null,null,{"$f":"connected_load_plot+J1107-B1107","v":56},{"$f":"connected_load_plot+K1107-C1107","v":51},{"$f":"connected_load_plot+L1107-D1107","v":65},{"$f":"0","v":0}]
["2024-04-27T05:45:00",14,6,11,0,4,1,4,0,24,14,34,0,31,null,null,null,null,null,null,null,{"$f":"connected_load_plot+J1108-B1108","v":52},{"$f":"connected_load_plot+K1108-C1108","v":50},{"$f":"connected_load_plot+L1108-D1108","v":65},{"$f":"0","v":0}]
["2024-04-27T05:50:00",12,8,6,0,4,1,4,0,22,21,15,0,26,null,null,null,null,null,null,null,{"$f":"connected_load_plot+J1109-B1109","v":52},{"$f":"connected_load_plot+K1109-C1109","v":55},{"$f":"connected_load_plot+L1109-D1109","v":51},{"$f":"0","v":0}]
["2024-04-27T05:55:00",14,7,8,0,3,1,4,0,22,21,17,0,29,null,null,null,null,null,null,null,{"$f":"connected_load_plot+J1110-B1110","v":50},{"$f":"connected_load_plot+K1110-C1110","v":56},{"$f":"connected_load_plot+L1110-D1110","v":51},{"$f":"0","v":0}]
["2024-04-27T06:00:00",15,7,8,0,3,2,4,0,22,15,21,0,30,null,null,null,null,null,null,null,{"$f":"connected_load_plot+J1111-B1111","v":49},{"$f":"connected_load_plot+K1111-C1111","v":50},{"$f":"connected_load_plot+L1111-D1111","v":55},{"$f":"0","v":0}]
["2024-04-27T06:05:00",12,7,8,0,3,2,4,0,21,15,21,0,27,null,null,null,null,null,null,null,{"$f":"connected_load_plot+J1112-B1112","v":51},{"$f":"connected_load_plot+K1112-C1112","v":50},{"$f":"connected_load_plot+L1112-D1112","v":55},{"$f":"0","v":0}]
["2024-04-27T06:10:00",13,6,7,0,2,2,4,0,21,15,17,0,26,null,null,null,null,null,null,null,{"$f":"connected_load_plot+J1113-B1113","v":50},{"$f":"connected_load_plot+K1113-C1113","v":51},{"$f":"connected_load_plot+L1113-D1113","v":52},{"$f":"0","v":0}]
["2024-04-27T06:15:00",13,8,11,0,2,2,4,0,21,22,27,0,32,null,null,null,null,null,null,null,{"$f":"connected_load_plot+J1114-B1114","v":50},{"$f":"connected_load_plot+K1114-C1114","v":56},{"$f":"connected_load_plot+L1114-D1114","v":58},{"$f":"0","v":0}]
["2024-04-27T06:20:00",12,9,9,0,2,2,4,0,20,22,23,0,30,null,null,null,null,null,null,null,{"$f":"connected_load_plot+J1115-B1115","v":50},{"$f":"connected_load_plot+K1115-C1115","v":55},{"$f":"connected_load_plot+L1115-D1115","v":56},{"$f":"0","v":0}]
["2024-04-27T06:25:00",12,6,8,0,3,2,4,0,16,21,21,0,26,null,null,null,null,null,null,null,{"$f":"connected_load_plot+J1116-B1116","v":46},{"$f":"connected_load_plot+K1116-C1116","v":57},{"$f":"connected_load_plot+L1116-D1116","v":55},{"$f":"0","v":0}]
["2024-04-27T06:30:00",13,7,6,0,3,2,4,0,21,15,15,0,26,null,null,null,null,null,null,null,{"$f":"connected_load_plot+J1117-B1117","v":50},{"$f":"connected_load_plot+K1117-C1117","v":50},{"$f":"connected_load_plot+L1117-D1117","v":51},{"$f":"0","v":0}]
["2024-04-27T06:35:00",15,6,7,0,9,2,4,0,22,15,17,0,28,null,null,null,null,null,null,null,{"$f":"connected_load_plot+J1118-B1118","v":49},{"$f":"connected_load_plot+K1118-C1118","v":51},{"$f":"connected_load_plot+L1118-D1118","v":52},{"$f":"0","v":0}]
["2024-04-27T06:40:00",12,7,9,0,3,2,4,0,22,15,23,0,28,null,null,null,null,null,null,null,{"$f":"connected_load_plot+J1119-B1119","v":52},{"$f":"connected_load_plot+K1119-C1119","v":50},{"$f":"connected_load_plot+L1119-D1119","v":56},{"$f":"0","v":0}]
["2024-04-27T06:45:00",13,8,11,0,3,2,4,0,22,21,29,0,32,null,null,null,null,null,null,null,{"$f":"connected_load_plot+J1120-B1120","v":51},{"$f":"connected_load_plot+K1120-C1120","v":55},{"$f":"connected_load_plot+L1120-D1120","v":60},{"$f":"0","v":0}]
["2024-04-27T06:50:00",14,8,8,0,3,2,4,0,22,22,21,0,30,null,null,null,null,null,null,null,{"$f":"connected_load_plot+J1121-B1121","v":50},{"$f":"connected_load_plot+K1121-C1121","v":56},{"$f":"connected_load_plot+L1121-D1121","v":55},{"$f":"0","v":0}]
["2024-04-27T06:55:00",14,6,8,0,3,2,4,0,22,15,15,0,28,null,null,null,null,null,null,null,{"$f":"connected_load_plot+J1122-B1122","v":50},{"$f":"connected_load_plot+K1122-C1122","v":51},{"$f":"connected_load_plot+L1122-D1122","v":49},{"$f":"0","v":0}]
["2024-04-27T07:00:00",12,6,12,0,3,2,4,0,22,15,25,0,30,null,null,null,null,null,null,null,{"$f":"connected_load_plot+J1123-B1123","v":52},{"$f":"connected_load_plot+K1123-C1123","v":51},{"$f":"connected_load_plot+L1123-D1123","v":55},{"$f":"0","v":0}]
["2024-04-27T07:05:00",14,7,8,0,3,2,4,0,22,15,23,0,29,null,null,null,null,null,null,null,{"$f":"connected_load_plot+J1124-B1124","v":50},{"$f":"connected_load_plot+K1124-C1124","v":50},{"$f":"connected_load_plot+L1124-D1124","v":57},{"$f":"0","v":0}]
["2024-04-27T07:10:00",14,6,8,0,3,1,4,0,22,21,21,0,28,null,null,null,null,null,null,null,{"$f":"connected_load_plot+J1125-B1125","v":50},{"$f":"connected_load_plot+K1125-C1125","v":57},{"$f":"connected_load_plot+L1125-D1125","v":55},{"$f":"0","v":0}]
["2024-04-27T07:15:00",13,7,8,0,3,1,4,0,22,20,21,0,28,null,null,null,null,null,null,null,{"$f":"connected_load_plot+J1126-B1126","v":51},{"$f":"connected_load_plot+K1126-C1126","v":55},{"$f":"connected_load_plot+L1126-D1126","v":55},{"$f":"0","v":0}]
["2024-04-27T07:20:00",13,7,9,0,3,1,4,0,22,14,27,0,29,null,null,null,null,null,null,null,{"$f":"connected_load_plot+J1127-B1127","v":51},{"$f":"connected_load_plot+K1127-C1127","v":49},{"$f":"connected_load_plot+L1127-D1127","v":60},{"$f":"0","v":0}]
["2024-04-27T07:25:00",12,4,9,0,3,1,4,0,22,14,27,0,25,null,null,null,null,null,null,null,{"$f":"connected_load_plot+J1128-B1128","v":52},{"$f":"connected_load_plot+K1128-C1128","v":52},{"$f":"connected_load_plot+L1128-D1128","v":60},{"$f":"0","v":0}]
["2024-04-27T07:30:00",11,5,7,0,2,1,4,0,21,13,14,0,23,null,null,null,null,null,null,null,{"$f":"connected_load_plot+J1129-B1129","v":52},{"$f":"connected_load_plot+K1129-C1129","v":50},{"$f":"connected_load_plot+L1129-D1129","v":49},{"$f":"0","v":0}]
["2024-04-27T07:35:00",12,5,6,0,3,1,4,0,27,14,15,0,23,null,null,null,null,null,null,null,{"$f":"connected_load_plot+J1130-B1130","v":57},{"$f":"connected_load_plot+K1130-C1130","v":51},{"$f":"connected_load_plot+L1130-D1130","v":51},{"$f":"0","v":0}]
["2024-04-27T07:40:00",12,8,10,0,3,1,4,0,22,32,29,0,30,null,null,null,null,null,null,null,{"$f":"connected_load_plot+J1131-B1131","v":52},{"$f":"connected_load_plot+K1131-C1131","v":66},{"$f":"connected_load_plot+L1131-D1131","v":61},{"$f":"0","v":0}]
["2024-04-27T07:45:00",12,13,9,0,3,6,4,0,22,32,32,0,34,null,null,null,null,null,null,null,{"$f":"connected_load_plot+J1132-B1132","v":52},{"$f":"connected_load_plot+K1132-C1132","v":61},{"$f":"connected_load_plot+L1132-D1132","v":65},{"$f":"0","v":0}]
["2024-04-27T07:50:00",15,13,8,0,3,1,5,0,29,28,23,0,36,null,null,null,null,null,null,null,{"$f":"connected_load_plot+J1133-B1133","v":56},{"$f":"connected_load_plot+K1133-C1133","v":57},{"$f":"connected_load_plot+L1133-D1133","v":57},{"$f":"0","v":0}]
["2024-04-27T07:55:00",13,6,6,0,3,1,4,0,22,20,15,0,25,null,null,null,null,null,null,null,{"$f":"connected_load_plot+J1134-B1134","v":51},{"$f":"connected_load_plot+K1134-C1134","v":56},{"$f":"connected_load_plot+L1134-D1134","v":51},{"$f":"0","v":0}]
["2024-04-27T08:00:00",12,6,10,0,4,1,4,0,22,14,21,0,28,null,null,null,null,null,null,null,{"$f":"connected_load_plot+J1135-B1135","v":52},{"$f":"connected_load_plot+K1135-C1135","v":50},{"$f":"connected_load_plot+L1135-D1135","v":53},{"$f":"0","v":0}]
["2024-04-27T08:05:00",12,7,12,0,4,1,8,0,17,21,27,0,31,null,null,null,null,null,null,null,{"$f":"connected_load_plot+J1136-B1136","v":47},{"$f":"connected_load_plot+K1136-C1136","v":56},{"$f":"connected_load_plot+L1136-D1136","v":57},{"$f":"0","v":0}]
["2024-04-27T08:10:00",15,7,10,0,4,2,5,0,30,15,23,0,32,null,null,null,null,null,null,null,{"$f":"connected_load_plot+J1137-B1137","v":57},{"$f":"connected_load_plot+K1137-C1137","v":50},{"$f":"connected_load_plot+L1137-D1137","v":55},{"$f":"0","v":0}]
["2024-04-27T08:15:00",14,8,9,0,4,2,5,0,24,23,17,0,31,null,null,null,null,null,null,null,{"$f":"connected_load_plot+J1138-B1138","v":52},{"$f":"connected_load_plot+K1138-C1138","v":57},{"$f":"connected_load_plot+L1138-D1138","v":50},{"$f":"0","v":0}]
["2024-04-27T08:20:00",13,10,5,0,4,2,5,0,22,29,12,0,28,null,null,null,null,null,null,null,{"$f":"connected_load_plot+J1139-B1139","v":51},{"$f":"connected_load_plot+K1139-C1139","v":61},{"$f":"connected_load_plot+L1139-D1139","v":49},{"$f":"0","v":0}]
["2024-04-27T08:25:00",13,10,8,0,4,2,5,0,22,23,25,0,31,null,null,null,null,null,null,null,{"$f":"connected_load_plot+J1140-B1140","v":51},{"$f":"connected_load_plot+K1140-C1140","v":55},{"$f":"connected_load_plot+L1140-D1140","v":59},{"$f":"0","v":0}]
["2024-04-27T08:30:00",12,6,11,0,4,2,4,0,22,15,32,0,29,null,null,null,null,null,null,null,{"$f":"connected_load_plot+J1141-B1141","v":52},{"$f":"connected_load_plot+K1141-C1141","v":51},{"$f":"connected_load_plot+L1141-D1141","v":63},{"$f":"0","v":0}]
["2024-04-27T08:35:00",13,8,7,0,4,2,4,0,22,16,16,0,28,null,null,null,null,null,null,null,{"$f":"connected_load_plot+J1142-B1142","v":51},{"$f":"connected_load_plot+K1142-C1142","v":50},{"$f":"connected_load_plot+L1142-D1142","v":51},{"$f":"0","v":0}]
["2024-04-27T08:40:00",13,7,6,0,4,2,4,0,22,21,14,0,26,null,null,null,null,null,null,null,{"$f":"connected_load_plot+J1143-B1143","v":51},{"$f":"connected_load_plot+K1143-C1143","v":56},{"$f":"connected_load_plot+L1143-D1143","v":50},{"$f":"0","v":0}]
["2024-04-27T08:45:00",12,6,6,0,4,2,4,0,22,11,17,0,24,null,null,null,null,null,null,null,{"$f":"connected_load_plot+J1144-B1144","v":52},{"$f":"connected_load_plot+K1144-C1144","v":47},{"$f":"connected_load_plot+L1144-D1144","v":53},{"$f":"0","v":0}]
["2024-04-27T08:50:00",11,7,7,0,4,2,4,0,17,16,21,0,25,null,null,null,null,null,null,null,{"$f":"connected_load_plot+J1145-B1145","v":48},{"$f":"connected_load_plot+K1145-C1145","v":51},{"$f":"connected_load_plot+L1145-D1145","v":56},{"$f":"0","v":0}]
["2024-04-27T08:55:00",13,6,7,0,4,2,4,0,22,16,11,0,26,null,null,null,null,null,null,null,{"$f":"connected_load_plot+J1146-B1146","v":51},{"$f":"connected_load_plot+K1146-C1146","v":52},{"$f":"connected_load_plot+L1146-D1146","v":46},{"$f":"0","v":0}]
["2024-04-27T09:00:00",13,8,6,0,4,2,4,0,23,22,11,0,27,null,null,null,null,null,null,null,{"$f":"connected_load_plot+J1147-B1147","v":52},{"$f":"connected_load_plot+K1147-C1147","v":56},{"$f":"connected_load_plot+L1147-D1147","v":47},{"$f":"0","v":0}]
["2024-04-27T09:05:00",13,8,5,0,4,2,4,0,23,22,17,0,26,null,null,null,null,null,null,null,{"$f":"connected_load_plot+J1148-B1148","v":52},{"$f":"connected_load_plot+K1148-C1148","v":56},{"$f":"connected_load_plot+L1148-D1148","v":54},{"$f":"0","v":0}]
["2024-04-27T09:10:00",12,9,8,0,4,2,5,0,23,22,24,0,29,null,null,null,null,null,null,null,{"$f":"connected_load_plot+J1149-B1149","v":53},{"$f":"connected_load_plot+K1149-C1149","v":55},{"$f":"connected_load_plot+L1149-D1149","v":58},{"$f":"0","v":0}]
["2024-04-27T09:15:00",11,10,6,0,4,2,5,0,16,21,17,0,27,null,null,null,null,null,null,null,{"$f":"connected_load_plot+J1150-B1150","v":47},{"$f":"connected_load_plot+K1150-C1150","v":53},{"$f":"connected_load_plot+L1150-D1150","v":53},{"$f":"0","v":0}]
["2024-04-27T09:20:00",13,8,6,0,4,2,4,0,22,21,11,0,27,null,null,null,null,null,null,null,{"$f":"connected_load_plot+J1151-B1151","v":51},{"$f":"connected_load_plot+K1151-C1151","v":55},{"$f":"connected_load_plot+L1151-D1151","v":47},{"$f":"0","v":0}]
["2024-04-27T09:25:00",13,9,9,0,4,2,4,0,23,22,19,0,31,null,null,null,null,null,null,null,{"$f":"connected_load_plot+J1152-B1152","v":52},{"$f":"connected_load_plot+K1152-C1152","v":55},{"$f":"connected_load_plot+L1152-D1152","v":52},{"$f":"0","v":0}]
["2024-04-27T09:30:00",12,12,9,0,4,2,4,0,17,30,25,0,33,null,null,null,null,null,null,null,{"$f":"connected_load_plot+J1153-B1153","v":47},{"$f":"connected_load_plot+K1153-C1153","v":60},{"$f":"connected_load_plot+L1153-D1153","v":58},{"$f":"0","v":0}]
["2024-04-27T09:35:00",12,12,5,0,3,2,4,0,17,23,9,0,29,null,null,null,null,null,null,null,{"$f":"connected_load_plot+J1154-B1154","v":47},{"$f":"connected_load_plot+K1154-C1154","v":53},{"$f":"connected_load_plot+L1154-D1154","v":46},{"$f":"0","v":0}]
["2024-04-27T09:40:00",13,8,6,0,4,2,4,0,22,16,16,0,{"$f":"SUM(B1155:D1155)","v":27},null,null,null,null,null,null,null,{"$f":"connected_load_plot+J1155-B1155","v":51},{"$f":"connected_load_plot+K1155-C1155","v":50},{"$f":"connected_load_plot+L1155-D1155","v":52},{"$f":"0","v":0}]
["2024-04-27T09:45:00",13,9,9,0,4,2,4,0,22,16,23,0,31,null,null,null,null,null,null,null,{"$f":"connected_load_plot+J1156-B1156","v":51},{"$f":"connected_load_plot+K1156-C1156","v":49},{"$f":"connected_load_plot+L1156-D1156","v":56},{"$f":"0","v":0}]
["2024-04-27T09:50:00",12,9,8,0,3,2,4,0,17,22,23,0,29,null,null,null,null,null,null,null,{"$f":"connected_load_plot+J1157-B1157","v":47},{"$f":"connected_load_plot+K1157-C1157","v":55},{"$f":"connected_load_plot+L1157-D1157","v":57},{"$f":"0","v":0}]
["2024-04-27T09:55:00",12,11,5,0,4,2,4,0,17,22,11,0,28,null,null,null,null,null,null,null,{"$f":"connected_load_plot+J1158-B1158","v":47},{"$f":"connected_load_plot+K1158-C1158","v":53},{"$f":"connected_load_plot+L1158-D1158","v":48},{"$f":"0","v":0}]
["2024-04-27T10:00:00",13,9,5,0,4,2,4,0,23,22,15,0,27,null,null,null,null,null,null,null,{"$f":"connected_load_plot+J1159-B1159","v":52},{"$f":"connected_load_plot+K1159-C1159","v":55},{"$f":"connected_load_plot+L1159-D1159","v":52},{"$f":"0","v":0}]
["2024-04-27T10:05:00",13,7,9,0,4,2,4,0,23,16,23,0,29,null,null,null,null,null,null,null,{"$f":"connected_load_plot+J1160-B1160","v":52},{"$f":"connected_load_plot+K1160-C1160","v":51},{"$f":"connected_load_plot+L1160-D1160","v":56},{"$f":"0","v":0}]
["2024-04-27T10:10:00",19,6,12,0,4,2,4,0,29,16,23,0,37,null,null,null,null,null,null,null,{"$f":"connected_load_plot+J1161-B1161","v":52},{"$f":"connected_load_plot+K1161-C1161","v":52},{"$f":"connected_load_plot+L1161-D1161","v":53},{"$f":"0","v":0}]
["2024-04-27T10:15:00",13,9,9,0,3,2,8,0,24,22,15,0,31,null,null,null,null,null,null,null,{"$f":"connected_load_plot+J1162-B1162","v":53},{"$f":"connected_load_plot+K1162-C1162","v":55},{"$f":"connected_load_plot+L1162-D1162","v":48},{"$f":"0","v":0}]
["2024-04-27T10:20:00",13,13,8,0,4,2,8,0,23,29,15,0,34,null,null,null,null,null,null,null,{"$f":"connected_load_plot+J1163-B1163","v":52},{"$f":"connected_load_plot+K1163-C1163","v":58},{"$f":"connected_load_plot+L1163-D1163","v":49},{"$f":"0","v":0}]
["2024-04-27T10:25:00",13,10,10,0,4,3,8,0,22,22,27,0,33,null,null,null,null,null,null,null,{"$f":"connected_load_plot+J1164-B1164","v":51},{"$f":"connected_load_plot+K1164-C1164","v":54},{"$f":"connected_load_plot+L1164-D1164","v":59},{"$f":"0","v":0}]
["2024-04-27T10:30:00",11,8,12,0,4,3,8,0,17,22,27,0,31,null,null,null,null,null,null,null,{"$f":"connected_load_plot+J1165-B1165","v":48},{"$f":"connected_load_plot+K1165-C1165","v":56},{"$f":"connected_load_plot+L1165-D1165","v":57},{"$f":"0","v":0}]
["2024-04-27T10:35:00",12,6,9,0,4,2,8,0,22,16,21,0,27,null,null,null,null,null,null,null,{"$f":"connected_load_plot+J1166-B1166","v":52},{"$f":"connected_load_plot+K1166-C1166","v":52},{"$f":"connected_load_plot+L1166-D1166","v":54},{"$f":"0","v":0}]
["2024-04-27T10:40:00",13,7,8,0,3,2,7,0,22,16,14,0,28,null,null,null,null,null,null,null,{"$f":"connected_load_plot+J1167-B1167","v":51},{"$f":"connected_load_plot+K1167-C1167","v":51},{"$f":"connected_load_plot+L1167-D1167","v":48},{"$f":"0","v":0}]
["2024-04-27T10:45:00",11,10,9,0,3,2,7,0,21,22,15,0,30,null,null,null,null,null,null,null,{"$f":"connected_load_plot+J1168-B1168","v":52},{"$f":"connected_load_plot+K1168-C1168","v":54},{"$f":"connected_load_plot+L1168-D1168","v":48},{"$f":"0","v":0}]
["2024-04-27T10:50:00",11,9,10,0,3,2,7,0,16,22,14,0,30,null,null,null,null,null,null,null,{"$f":"connected_load_plot+J1169-B1169","v":47},{"$f":"connected_load_plot+K1169-C1169","v":55},{"$f":"connected_load_plot+L1169-D1169","v":46},{"$f":"0","v":0}]
["2024-04-27T10:55:00",12,8,9,0,3,2,7,0,21,21,23,0,29,null,null,null,null,null,null,null,{"$f":"connected_load_plot+J1170-B1170","v":51},{"$f":"connected_load_plot+K1170-C1170","v":55},{"$f":"connected_load_plot+L1170-D1170","v":56},{"$f":"0","v":0}]
["2024-04-27T11:00:00",12,9,10,0,3,2,7,0,22,20,21,0,31,null,null,null,null,null,null,null,{"$f":"connected_load_plot+J1171-B1171","v":52},{"$f":"connected_load_plot+K1171-C1171","v":53},{"$f":"connected_load_plot+L1171-D1171","v":53},{"$f":"0","v":0}]
["2024-04-27T11:05:00",12,16,9,0,3,7,7,0,21,26,21,0,37,null,null,null,null,null,null,null,{"$f":"connected_load_plot+J1172-B1172","v":51},{"$f":"connected_load_plot+K1172-C1172","v":52},{"$f":"connected_load_plot+L1172-D1172","v":54},{"$f":"0","v":0}]
["2024-04-27T11:10:00",11,11,9,0,3,2,7,0,21,20,14,0,31,null,null,null,null,null,null,null,{"$f":"connected_load_plot+J1173-B1173","v":52},{"$f":"connected_load_plot+K1173-C1173","v":51},{"$f":"connected_load_plot+L1173-D1173","v":47},{"$f":"0","v":0}]
["2024-04-27T11:15:00",11,12,9,0,3,9,7,0,23,16,15,0,32,null,null,null,null,null,null,null,{"$f":"connected_load_plot+J1174-B1174","v":54},{"$f":"connected_load_plot+K1174-C1174","v":46},{"$f":"connected_load_plot+L1174-D1174","v":48},{"$f":"0","v":0}]
["2024-04-27T11:20:00",14,7,10,0,4,2,7,0,23,16,21,0,31,null,null,null,null,null,null,null,{"$f":"connected_load_plot+J1175-B1175","v":51},{"$f":"connected_load_plot+K1175-C1175","v":51},{"$f":"connected_load_plot+L1175-D1175","v":53},{"$f":"0","v":0}]
["2024-04-27T11:25:00",12,6,10,0,3,1,7,0,22,15,27,0,28,null,null,null,null,null,null,null,{"$f":"connected_load_plot+J1176-B1176","v":52},{"$f":"connected_load_plot+K1176-C1176","v":51},{"$f":"connected_load_plot+L1176-D1176","v":59},{"$f":"0","v":0}]
["2024-04-27T11:30:00",11,5,14,0,3,1,7,0,16,14,27,0,30,null,null,null,null,null,null,null,{"$f":"connected_load_plot+J1177-B1177","v":47},{"$f":"connected_load_plot+K1177-C1177","v":51},{"$f":"connected_load_plot+L1177-D1177","v":55},{"$f":"0","v":0}]
["2024-04-27T11:35:00",12,4,22,0,3,1,20,0,22,9,27,0,38,null,null,null,null,null,null,null,{"$f":"connected_load_plot+J1178-B1178","v":52},{"$f":"connected_load_plot+K1178-C1178","v":47},{"$f":"connected_load_plot+L1178-D1178","v":47},{"$f":"0","v":0}]
["2024-04-27T11:40:00",12,7,20,0,3,1,20,0,22,20,21,0,39,null,null,null,null,null,null,null,{"$f":"connected_load_plot+J1179-B1179","v":52},{"$f":"connected_load_plot+K1179-C1179","v":55},{"$f":"connected_load_plot+L1179-D1179","v":43},{"$f":"0","v":0}]
["2024-04-27T11:45:00",11,6,20,0,3,1,20,0,22,20,24,0,37,null,null,null,null,null,null,null,{"$f":"connected_load_plot+J1180-B1180","v":53},{"$f":"connected_load_plot+K1180-C1180","v":56},{"$f":"connected_load_plot+L1180-D1180","v":46},{"$f":"0","v":0}]
["2024-04-27T11:50:00",11,4,20,0,3,1,14,0,16,9,27,0,35,null,null,null,null,null,null,null,{"$f":"connected_load_plot+J1181-B1181","v":47},{"$f":"connected_load_plot+K1181-C1181","v":47},{"$f":"connected_load_plot+L1181-D1181","v":49},{"$f":"0","v":0}]
["2024-04-27T11:55:00",12,5,19,0,3,1,8,0,22,14,27,0,36,null,null,null,null,null,null,null,{"$f":"connected_load_plot+J1182-B1182","v":52},{"$f":"connected_load_plot+K1182-C1182","v":51},{"$f":"connected_load_plot+L1182-D1182","v":50},{"$f":"0","v":0}]
["2024-04-27T12:00:00",12,5,20,0,3,1,8,0,22,14,30,0,37,null,null,null,null,null,null,null,{"$f":"connected_load_plot+J1183-B1183","v":52},{"$f":"connected_load_plot+K1183-C1183","v":51},{"$f":"connected_load_plot+L1183-D1183","v":52},{"$f":"0","v":0}]
["2024-04-27T12:05:00",10,5,17,0,3,1,7,0,22,20,21,0,32,null,null,null,null,null,null,null,{"$f":"connected_load_plot+J1184-B1184","v":54},{"$f":"connected_load_plot+K1184-C1184","v":57},{"$f":"connected_load_plot+L1184-D1184","v":46},{"$f":"0","v":0}]
["2024-04-27T12:10:00",11,4,17,0,3,1,7,0,16,20,21,0,32,null,null,null,null,null,null,null,{"$f":"connected_load_plot+J1185-B1185","v":47},{"$f":"connected_load_plot+K1185-C1185","v":58},{"$f":"connected_load_plot+L1185-D1185","v":46},{"$f":"0","v":0}]
["2024-04-27T12:15:00",12,5,19,0,3,1,13,0,22,20,27,0,36,null,null,null,null,null,null,null,{"$f":"connected_load_plot+J1186-B1186","v":52},{"$f":"connected_load_plot+K1186-C1186","v":57},{"$f":"connected_load_plot+L1186-D1186","v":50},{"$f":"0","v":0}]
["2024-04-27T12:20:00",13,4,20,0,3,1,13,0,22,14,32,0,37,null,null,null,null,null,null,null,{"$f":"connected_load_plot+J1187-B1187","v":51},{"$f":"connected_load_plot+K1187-C1187","v":52},{"$f":"connected_load_plot+L1187-D1187","v":54},{"$f":"0","v":0}]
["2024-04-27T12:25:00",11,4,20,0,3,1,10,0,16,14,27,0,35,null,null,null,null,null,null,null,{"$f":"connected_load_plot+J1188-B1188","v":47},{"$f":"connected_load_plot+K1188-C1188","v":52},{"$f":"connected_load_plot+L1188-D1188","v":49},{"$f":"0","v":0}]
["2024-04-27T12:30:00",10,5,17,0,3,1,10,0,16,20,23,0,32,null,null,null,null,null,null,null,{"$f":"connected_load_plot+J1189-B1189","v":48},{"$f":"connected_load_plot+K1189-C1189","v":57},{"$f":"connected_load_plot+L1189-D1189","v":48},{"$f":"0","v":0}]
["2024-04-27T12:35:00",12,5,17,0,3,1,7,0,22,20,20,0,34,null,null,null,null,null,null,null,{"$f":"connected_load_plot+J1190-B1190","v":52},{"$f":"connected_load_plot+K1190-C1190","v":57},{"$f":"connected_load_plot+L1190-D1190","v":45},{"$f":"0","v":0}]
["2024-04-27T12:40:00",13,5,17,0,4,1,7,0,22,14,26,0,35,null,null,null,null,null,null,null,{"$f":"connected_load_plot+J1191-B1191","v":51},{"$f":"connected_load_plot+K1191-C1191","v":51},{"$f":"connected_load_plot+L1191-D1191","v":51},{"$f":"0","v":0}]
["2024-04-27T12:45:00",12,3,18,0,4,1,7,0,17,14,26,0,33,null,null,null,null,null,null,null,{"$f":"connected_load_plot+J1192-B1192","v":47},{"$f":"connected_load_plot+K1192-C1192","v":53},{"$f":"connected_load_plot+L1192-D1192","v":50},{"$f":"0","v":0}]
["2024-04-27T12:50:00",11,4,18,0,3,1,13,0,16,14,26,0,33,null,null,null,null,null,null,null,{"$f":"connected_load_plot+J1193-B1193","v":47},{"$f":"connected_load_plot+K1193-C1193","v":52},{"$f":"connected_load_plot+L1193-D1193","v":50},{"$f":"0","v":0}]
["2024-04-27T12:55:00",11,6,18,0,3,1,7,0,21,20,26,0,35,null,null,null,null,null,null,null,{"$f":"connected_load_plot+J1194-B1194","v":52},{"$f":"connected_load_plot+K1194-C1194","v":56},{"$f":"connected_load_plot+L1194-D1194","v":50},{"$f":"0","v":0}]
["2024-04-27T13:00:00",12,5,19,0,3,1,7,0,22,20,27,0,36,null,null,null,null,null,null,null,{"$f":"connected_load_plot+J1195-B1195","v":52},{"$f":"connected_load_plot+K1195-C1195","v":57},{"$f":"connected_load_plot+L1195-D1195","v":50},{"$f":"0","v":0}]
["2024-04-27T13:05:00",17,3,17,0,3,1,8,0,30,14,24,0,37,null,null,null,null,null,null,null,{"$f":"connected_load_plot+J1196-B1196","v":55},{"$f":"connected_load_plot+K1196-C1196","v":53},{"$f":"connected_load_plot+L1196-D1196","v":49},{"$f":"0","v":0}]
["2024-04-27T13:10:00",20,5,18,0,11,1,8,0,24,16,21,0,43,null,null,null,null,null,null,null,{"$f":"connected_load_plot+J1197-B1197","v":46},{"$f":"connected_load_plot+K1197-C1197","v":53},{"$f":"connected_load_plot+L1197-D1197","v":45},{"$f":"0","v":0}]
["2024-04-27T13:15:00",13,4,18,0,4,1,8,0,24,14,21,0,35,null,null,null,null,null,null,null,{"$f":"connected_load_plot+J1198-B1198","v":53},{"$f":"connected_load_plot+K1198-C1198","v":52},{"$f":"connected_load_plot+L1198-D1198","v":45},{"$f":"0","v":0}]
["2024-04-27T13:20:00",13,5,18,0,3,1,7,0,30,21,27,0,36,null,null,null,null,null,null,null,{"$f":"connected_load_plot+J1199-B1199","v":59},{"$f":"connected_load_plot+K1199-C1199","v":58},{"$f":"connected_load_plot+L1199-D1199","v":51},{"$f":"0","v":0}]
["2024-04-27T13:25:00",18,5,19,0,10,1,7,0,24,20,30,0,42,null,null,null,null,null,null,null,{"$f":"connected_load_plot+J1200-B1200","v":48},{"$f":"connected_load_plot+K1200-C1200","v":57},{"$f":"connected_load_plot+L1200-D1200","v":53},{"$f":"0","v":0}]
["2024-04-27T13:30:00",19,4,20,0,10,1,7,0,23,20,30,0,43,null,null,null,null,null,null,null,{"$f":"connected_load_plot+J1201-B1201","v":46},{"$f":"connected_load_plot+K1201-C1201","v":58},{"$f":"connected_load_plot+L1201-D1201","v":52},{"$f":"0","v":0}]
["2024-04-27T13:35:00",17,4,18,0,3,1,7,0,29,14,26,0,39,null,null,null,null,null,null,null,{"$f":"connected_load_plot+J1202-B1202","v":54},{"$f":"connected_load_plot+K1202-C1202","v":52},{"$f":"connected_load_plot+L1202-D1202","v":50},{"$f":"0","v":0}]
["2024-04-27T13:40:00",13,5,21,0,4,1,13,0,22,14,33,0,39,null,null,null,null,null,null,null,{"$f":"connected_load_plot+J1203-B1203","v":51},{"$f":"connected_load_plot+K1203-C1203","v":51},{"$f":"connected_load_plot+L1203-D1203","v":54},{"$f":"0","v":0}]
["2024-04-27T13:45:00",11,4,23,0,3,1,10,0,22,15,30,0,38,null,null,null,null,null,null,null,{"$f":"connected_load_plot+J1204-B1204","v":53},{"$f":"connected_load_plot+K1204-C1204","v":53},{"$f":"connected_load_plot+L1204-D1204","v":49},{"$f":"0","v":0}]
["2024-04-27T13:50:00",11,4,22,0,3,1,10,0,17,14,33,0,37,null,null,null,null,null,null,null,{"$f":"connected_load_plot+J1205-B1205","v":48},{"$f":"connected_load_plot+K1205-C1205","v":52},{"$f":"connected_load_plot+L1205-D1205","v":53},{"$f":"0","v":0}]
["2024-04-27T13:55:00",12,6,18,0,4,1,9,0,22,20,27,0,36,null,null,null,null,null,null,null,{"$f":"connected_load_plot+J1206-B1206","v":52},{"$f":"connected_load_plot+K1206-C1206","v":56},{"$f":"connected_load_plot+L1206-D1206","v":51},{"$f":"0","v":0}]
["2024-04-27T14:00:00",13,4,15,0,3,1,4,0,22,14,22,0,32,null,null,null,null,null,null,null,{"$f":"connected_load_plot+J1207-B1207","v":51},{"$f":"connected_load_plot+K1207-C1207","v":52},{"$f":"connected_load_plot+L1207-D1207","v":49},{"$f":"0","v":0}]
["2024-04-27T14:05:00",12,4,17,0,3,1,9,0,22,14,28,0,33,null,null,null,null,null,null,null,{"$f":"connected_load_plot+J1208-B1208","v":52},{"$f":"connected_load_plot+K1208-C1208","v":52},{"$f":"connected_load_plot+L1208-D1208","v":53},{"$f":"0","v":0}]
["2024-04-27T14:10:00",11,5,13,0,3,1,4,0,17,14,22,0,29,null,null,null,null,null,null,null,{"$f":"connected_load_plot+J1209-B1209","v":48},{"$f":"connected_load_plot+K1209-C1209","v":51},{"$f":"connected_load_plot+L1209-D1209","v":51},{"$f":"0","v":0}]
["2024-04-27T14:15:00",13,5,12,0,3,1,4,0,22,20,16,0,30,null,null,null,null,null,null,null,{"$f":"connected_load_plot+J1210-B1210","v":51},{"$f":"connected_load_plot+K1210-C1210","v":57},{"$f":"connected_load_plot+L1210-D1210","v":46},{"$f":"0","v":0}]
["2024-04-27T14:20:00",13,5,13,0,3,1,4,0,22,20,16,0,31,null,null,null,null,null,null,null,{"$f":"connected_load_plot+J1211-B1211","v":51},{"$f":"connected_load_plot+K1211-C1211","v":57},{"$f":"connected_load_plot+L1211-D1211","v":45},{"$f":"0","v":0}]
["2024-04-27T14:25:00",10,4,15,0,3,1,9,0,17,14,23,0,29,null,null,null,null,null,null,null,{"$f":"connected_load_plot+J1212-B1212","v":49},{"$f":"connected_load_plot+K1212-C1212","v":52},{"$f":"connected_load_plot+L1212-D1212","v":50},{"$f":"0","v":0}]
["2024-04-27T14:30:00",15,4,17,0,10,1,4,0,24,14,29,0,36,null,null,null,null,null,null,null,{"$f":"connected_load_plot+J1213-B1213","v":51},{"$f":"connected_load_plot+K1213-C1213","v":52},{"$f":"connected_load_plot+L1213-D1213","v":54},{"$f":"0","v":0}]
["2024-04-27T14:35:00",18,5,14,0,11,1,4,0,24,20,23,0,37,null,null,null,null,null,null,null,{"$f":"connected_load_plot+J1214-B1214","v":48},{"$f":"connected_load_plot+K1214-C1214","v":57},{"$f":"connected_load_plot+L1214-D1214","v":51},{"$f":"0","v":0}]
["2024-04-27T14:40:00",15,5,14,0,10,1,9,0,24,20,16,0,34,null,null,null,null,null,null,null,{"$f":"connected_load_plot+J1215-B1215","v":51},{"$f":"connected_load_plot+K1215-C1215","v":57},{"$f":"connected_load_plot+L1215-D1215","v":44},{"$f":"0","v":0}]
["2024-04-27T14:45:00",7,4,14,0,3,1,9,0,17,14,22,0,25,null,null,null,null,null,null,null,{"$f":"connected_load_plot+J1216-B1216","v":52},{"$f":"connected_load_plot+K1216-C1216","v":52},{"$f":"connected_load_plot+L1216-D1216","v":50},{"$f":"0","v":0}]
["2024-04-27T14:50:00",8,4,12,0,3,1,4,0,16,14,17,0,24,null,null,null,null,null,null,null,{"$f":"connected_load_plot+J1217-B1217","v":50},{"$f":"connected_load_plot+K1217-C1217","v":52},{"$f":"connected_load_plot+L1217-D1217","v":47},{"$f":"0","v":0}]
["2024-04-27T14:55:00",8,5,14,0,3,1,4,0,22,14,22,0,27,null,null,null,null,null,null,null,{"$f":"connected_load_plot+J1218-B1218","v":56},{"$f":"connected_load_plot+K1218-C1218","v":51},{"$f":"connected_load_plot+L1218-D1218","v":50},{"$f":"0","v":0}]
["2024-04-27T15:00:00",8,4,15,0,3,1,9,0,16,14,23,0,{"$f":"SUM(B1219:D1219)","v":27},null,null,null,null,null,null,null,{"$f":"connected_load_plot+J1219-B1219","v":50},{"$f":"connected_load_plot+K1219-C1219","v":52},{"$f":"connected_load_plot+L1219-D1219","v":50},{"$f":"0","v":0}]
["2024-04-27T15:05:00",6,5,14,0,2,1,4,0,11,20,22,0,25,null,null,null,null,null,null,null,{"$f":"connected_load_plot+J1220-B1220","v":47},{"$f":"connected_load_plot+K1220-C1220","v":57},{"$f":"connected_load_plot+L1220-D1220","v":50},{"$f":"0","v":0}]
["2024-04-27T15:10:00",7,6,15,0,2,1,4,0,15,21,23,0,28,null,null,null,null,null,null,null,{"$f":"connected_load_plot+J1221-B1221","v":50},{"$f":"connected_load_plot+K1221-C1221","v":57},{"$f":"connected_load_plot+L1221-D1221","v":50},{"$f":"0","v":0}]
["2024-04-27T15:15:00",8,4,14,0,2,1,9,0,15,14,23,0,26,null,null,null,null,null,null,null,{"$f":"connected_load_plot+J1222-B1222","v":49},{"$f":"connected_load_plot+K1222-C1222","v":52},{"$f":"connected_load_plot+L1222-D1222","v":51},{"$f":"0","v":0}]
["2024-04-27T15:20:00",7,3,14,0,2,1,9,0,15,9,23,0,24,null,null,null,null,null,null,null,{"$f":"connected_load_plot+J1223-B1223","v":50},{"$f":"connected_load_plot+K1223-C1223","v":48},{"$f":"connected_load_plot+L1223-D1223","v":51},{"$f":"0","v":0}]
["2024-04-27T15:25:00",7,6,14,0,3,1,4,0,16,20,23,0,27,null,null,null,null,null,null,null,{"$f":"connected_load_plot+J1224-B1224","v":51},{"$f":"connected_load_plot+K1224-C1224","v":56},{"$f":"connected_load_plot+L1224-D1224","v":51},{"$f":"0","v":0}]
["2024-04-27T15:30:00",7,5,13,0,3,1,4,0,16,20,23,0,25,null,null,null,null,null,null,null,{"$f":"connected_load_plot+J1225-B1225","v":51},{"$f":"connected_load_plot+K1225-C1225","v":57},{"$f":"connected_load_plot+L1225-D1225","v":52},{"$f":"0","v":0}]
["2024-04-27T15:35:00",9,4,14,0,3,1,10,0,16,14,17,0,27,null,null,null,null,null,null,null,{"$f":"connected_load_plot+J1226-B1226","v":49},{"$f":"connected_load_plot+K1226-C1226","v":52},{"$f":"connected_load_plot+L1226-D1226","v":45},{"$f":"0","v":0}]
["2024-04-27T15:40:00",8,4,14,0,3,1,4,0,16,14,23,0,26,null,null,null,null,null,null,null,{"$f":"connected_load_plot+J1227-B1227","v":50},{"$f":"connected_load_plot+K1227-C1227","v":52},{"$f":"connected_load_plot+L1227-D1227","v":51},{"$f":"0","v":0}]
["2024-04-27T15:45:00",6,3,13,0,3,1,4,0,16,14,26,0,22,null,null,null,null,null,null,null,{"$f":"connected_load_plot+J1228-B1228","v":52},{"$f":"connected_load_plot+K1228-C1228","v":53},{"$f":"connected_load_plot+L1228-D1228","v":55},{"$f":"0","v":0}]
["2024-04-27T15:50:00",8,6,15,0,3,1,4,0,17,20,24,0,29,null,null,null,null,null,null,null,{"$f":"connected_load_plot+J1229-B1229","v":51},{"$f":"connected_load_plot+K1229-C1229","v":56},{"$f":"connected_load_plot+L1229-D1229","v":51},{"$f":"0","v":0}]
["2024-04-27T15:55:00",9,7,15,0,3,1,10,0,17,26,23,0,31,null,null,null,null,null,null,null,{"$f":"connected_load_plot+J1230-B1230","v":50},{"$f":"connected_load_plot+K1230-C1230","v":61},{"$f":"connected_load_plot+L1230-D1230","v":50},{"$f":"0","v":0}]
["2024-04-27T16:00:00",7,4,12,0,3,1,4,0,11,14,23,0,23,null,null,null,null,null,null,null,{"$f":"connected_load_plot+J1231-B1231","v":46},{"$f":"connected_load_plot+K1231-C1231","v":52},{"$f":"connected_load_plot+L1231-D1231","v":53},{"$f":"0","v":0}]
["2024-04-27T16:05:00",6,3,13,0,3,1,4,0,14,14,23,0,22,null,null,null,null,null,null,null,{"$f":"connected_load_plot+J1232-B1232","v":50},{"$f":"connected_load_plot+K1232-C1232","v":53},{"$f":"connected_load_plot+L1232-D1232","v":52},{"$f":"0","v":0}]
["2024-04-27T16:10:00",9,5,13,0,3,1,9,0,17,14,17,0,27,null,null,null,null,null,null,null,{"$f":"connected_load_plot+J1233-B1233","v":50},{"$f":"connected_load_plot+K1233-C1233","v":51},{"$f":"connected_load_plot+L1233-D1233","v":46},{"$f":"0","v":0}]
["2024-04-27T16:15:00",10,5,17,0,3,1,9,0,23,20,29,0,32,null,null,null,null,null,null,null,{"$f":"connected_load_plot+J1234-B1234","v":55},{"$f":"connected_load_plot+K1234-C1234","v":57},{"$f":"connected_load_plot+L1234-D1234","v":54},{"$f":"0","v":0}]
["2024-04-27T16:20:00",7,5,22,0,3,1,9,0,16,27,30,0,34,null,null,null,null,null,null,null,{"$f":"connected_load_plot+J1235-B1235","v":51},{"$f":"connected_load_plot+K1235-C1235","v":64},{"$f":"connected_load_plot+L1235-D1235","v":50},{"$f":"0","v":0}]
["2024-04-27T16:25:00",7,4,22,0,3,2,17,0,11,14,30,0,33,null,null,null,null,null,null,null,{"$f":"connected_load_plot+J1236-B1236","v":46},{"$f":"connected_load_plot+K1236-C1236","v":52},{"$f":"connected_load_plot+L1236-D1236","v":50},{"$f":"0","v":0}]
["2024-04-27T16:30:00",9,4,20,0,3,1,10,0,16,14,29,0,33,null,null,null,null,null,null,null,{"$f":"connected_load_plot+J1237-B1237","v":49},{"$f":"connected_load_plot+K1237-C1237","v":52},{"$f":"connected_load_plot+L1237-D1237","v":51},{"$f":"0","v":0}]
["2024-04-27T16:35:00",8,3,20,0,3,1,10,0,16,15,29,0,31,null,null,null,null,null,null,null,{"$f":"connected_load_plot+J1238-B1238","v":50},{"$f":"connected_load_plot+K1238-C1238","v":54},{"$f":"connected_load_plot+L1238-D1238","v":51},{"$f":"0","v":0}]
["2024-04-27T16:40:00",6,6,21,0,3,1,17,0,11,20,25,0,33,null,null,null,null,null,null,null,{"$f":"connected_load_plot+J1239-B1239","v":47},{"$f":"connected_load_plot+K1239-C1239","v":56},{"$f":"connected_load_plot+L1239-D1239","v":46},{"$f":"0","v":0}]
["2024-04-27T16:45:00",7,6,20,0,3,1,5,0,16,26,37,0,33,null,null,null,null,null,null,null,{"$f":"connected_load_plot+J1240-B1240","v":51},{"$f":"connected_load_plot+K1240-C1240","v":62},{"$f":"connected_load_plot+L1240-D1240","v":59},{"$f":"0","v":0}]
["2024-04-27T16:50:00",10,3,21,0,3,1,5,0,17,14,37,0,34,null,null,null,null,null,null,null,{"$f":"connected_load_plot+J1241-B1241","v":49},{"$f":"connected_load_plot+K1241-C1241","v":53},{"$f":"connected_load_plot+L1241-D1241","v":58},{"$f":"0","v":0}]
["2024-04-27T16:55:00",11,5,21,0,3,1,17,0,24,14,26,0,37,null,null,null,null,null,null,null,{"$f":"connected_load_plot+J1242-B1242","v":55},{"$f":"connected_load_plot+K1242-C1242","v":51},{"$f":"connected_load_plot+L1242-D1242","v":47},{"$f":"0","v":0}]
["2024-04-27T17:00:00",6,4,21,0,3,1,11,0,10,14,30,0,31,null,null,null,null,null,null,null,{"$f":"connected_load_plot+J1243-B1243","v":46},{"$f":"connected_load_plot+K1243-C1243","v":52},{"$f":"connected_load_plot+L1243-D1243","v":51},{"$f":"0","v":0}]
["2024-04-27T17:05:00",7,4,19,0,3,1,5,0,16,14,24,0,30,null,null,null,null,null,null,null,{"$f":"connected_load_plot+J1244-B1244","v":51},{"$f":"connected_load_plot+K1244-C1244","v":52},{"$f":"connected_load_plot+L1244-D1244","v":47},{"$f":"0","v":0}]
["2024-04-27T17:10:00",8,8,21,0,3,1,11,0,16,26,31,0,37,null,null,null,null,null,null,null,{"$f":"connected_load_plot+J1245-B1245","v":50},{"$f":"connected_load_plot+K1245-C1245","v":60},{"$f":"connected_load_plot+L1245-D1245","v":52},{"$f":"0","v":0}]
["2024-04-27T17:15:00",9,4,19,0,3,1,5,0,16,14,31,0,32,null,null,null,null,null,null,null,{"$f":"connected_load_plot+J1246-B1246","v":49},{"$f":"connected_load_plot+K1246-C1246","v":52},{"$f":"connected_load_plot+L1246-D1246","v":54},{"$f":"0","v":0}]
["2024-04-27T17:20:00",6,3,20,0,3,1,5,0,10,14,32,0,29,null,null,null,null,null,null,null,{"$f":"connected_load_plot+J1247-B1247","v":46},{"$f":"connected_load_plot+K1247-C1247","v":53},{"$f":"connected_load_plot+L1247-D1247","v":54},{"$f":"0","v":0}]
["2024-04-27T17:25:00",8,5,20,0,3,1,10,0,16,14,30,0,33,null,null,null,null,null,null,null,{"$f":"connected_load_plot+J1248-B1248","v":50},{"$f":"connected_load_plot+K1248-C1248","v":51},{"$f":"connected_load_plot+L1248-D1248","v":52},{"$f":"0","v":0}]
["2024-04-27T17:30:00",9,4,19,0,3,1,5,0,17,14,30,0,32,null,null,null,null,null,null,null,{"$f":"connected_load_plot+J1249-B1249","v":50},{"$f":"connected_load_plot+K1249-C1249","v":52},{"$f":"connected_load_plot+L1249-D1249","v":53},{"$f":"0","v":0}]
["2024-04-27T17:35:00",8,6,21,0,3,1,5,0,16,26,30,0,35,null,null,null,null,null,null,null,{"$f":"connected_load_plot+J1250-B1250","v":50},{"$f":"connected_load_plot+K1250-C1250","v":62},{"$f":"connected_load_plot+L1250-D1250","v":51},{"$f":"0","v":0}]
["2024-04-27T17:40:00",7,5,24,0,3,1,17,0,16,20,36,0,36,null,null,null,null,null,null,null,{"$f":"connected_load_plot+J1251-B1251","v":51},{"$f":"connected_load_plot+K1251-C1251","v":57},{"$f":"connected_load_plot+L1251-D1251","v":54},{"$f":"0","v":0}]
["2024-04-27T17:45:00",9,4,19,0,3,1,10,0,22,14,30,0,32,null,null,null,null,null,null,null,{"$f":"connected_load_plot+J1252-B1252","v":55},{"$f":"connected_load_plot+K1252-C1252","v":52},{"$f":"connected_load_plot+L1252-D1252","v":53},{"$f":"0","v":0}]
["2024-04-27T17:50:00",11,4,20,0,3,1,10,0,17,14,24,0,35,null,null,null,null,null,null,null,{"$f":"connected_load_plot+J1253-B1253","v":48},{"$f":"connected_load_plot+K1253-C1253","v":52},{"$f":"connected_load_plot+L1253-D1253","v":46},{"$f":"0","v":0}]
["2024-04-27T17:55:00",8,5,19,0,3,1,10,0,17,20,24,0,32,null,null,null,null,null,null,null,{"$f":"connected_load_plot+J1254-B1254","v":51},{"$f":"connected_load_plot+K1254-C1254","v":57},{"$f":"connected_load_plot+L1254-D1254","v":47},{"$f":"0","v":0}]
["2024-04-27T18:00:00",6,6,18,0,3,1,5,0,11,26,24,0,30,null,null,null,null,null,null,null,{"$f":"connected_load_plot+J1255-B1255","v":47},{"$f":"connected_load_plot+K1255-C1255","v":62},{"$f":"connected_load_plot+L1255-D1255","v":48},{"$f":"0","v":0}]
["2024-04-27T18:05:00",10,4,20,0,3,1,5,0,23,14,36,0,34,null,null,null,null,null,null,null,{"$f":"connected_load_plot+J1256-B1256","v":55},{"$f":"connected_load_plot+K1256-C1256","v":52},{"$f":"connected_load_plot+L1256-D1256","v":58},{"$f":"0","v":0}]
["2024-04-27T18:10:00",11,5,24,0,4,1,16,0,23,14,36,0,40,null,null,null,null,null,null,null,{"$f":"connected_load_plot+J1257-B1257","v":54},{"$f":"connected_load_plot+K1257-C1257","v":51},{"$f":"connected_load_plot+L1257-D1257","v":54},{"$f":"0","v":0}]
["2024-04-27T18:15:00",9,4,21,0,4,1,6,0,18,14,30,0,34,null,null,null,null,null,null,null,{"$f":"connected_load_plot+J1258-B1258","v":51},{"$f":"connected_load_plot+K1258-C1258","v":52},{"$f":"connected_load_plot+L1258-D1258","v":51},{"$f":"0","v":0}]
["2024-04-27T18:20:00",7,4,18,0,4,1,5,0,12,14,25,0,29,null,null,null,null,null,null,null,{"$f":"connected_load_plot+J1259-B1259","v":47},{"$f":"connected_load_plot+K1259-C1259","v":52},{"$f":"connected_load_plot+L1259-D1259","v":49},{"$f":"0","v":0}]
["2024-04-27T18:25:00",8,8,21,0,4,1,17,0,17,26,25,0,37,null,null,null,null,null,null,null,{"$f":"connected_load_plot+J1260-B1260","v":51},{"$f":"connected_load_plot+K1260-C1260","v":60},{"$f":"connected_load_plot+L1260-D1260","v":46},{"$f":"0","v":0}]
["2024-04-27T18:30:00",11,7,20,0,4,1,6,0,17,27,25,0,38,null,null,null,null,null,null,null,{"$f":"connected_load_plot+J1261-B1261","v":48},{"$f":"connected_load_plot+K1261-C1261","v":62},{"$f":"connected_load_plot+L1261-D1261","v":47},{"$f":"0","v":0}]
["2024-04-27T18:35:00",8,5,21,0,3,1,6,0,17,14,31,0,34,null,null,null,null,null,null,null,{"$f":"connected_load_plot+J1262-B1262","v":51},{"$f":"connected_load_plot+K1262-C1262","v":51},{"$f":"connected_load_plot+L1262-D1262","v":52},{"$f":"0","v":0}]
["2024-04-27T18:40:00",8,4,20,0,4,1,5,0,12,14,31,0,32,null,null,null,null,null,null,null,{"$f":"connected_load_plot+J1263-B1263","v":46},{"$f":"connected_load_plot+K1263-C1263","v":52},{"$f":"connected_load_plot+L1263-D1263","v":53},{"$f":"0","v":0}]
["2024-04-27T18:45:00",9,5,22,0,4,1,11,0,17,20,31,0,36,null,null,null,null,null,null,null,{"$f":"connected_load_plot+J1264-B1264","v":50},{"$f":"connected_load_plot+K1264-C1264","v":57},{"$f":"connected_load_plot+L1264-D1264","v":51},{"$f":"0","v":0}]
["2024-04-27T18:50:00",9,5,24,0,3,1,7,0,17,20,37,0,38,null,null,null,null,null,null,null,{"$f":"connected_load_plot+J1265-B1265","v":50},{"$f":"connected_load_plot+K1265-C1265","v":57},{"$f":"connected_load_plot+L1265-D1265","v":55},{"$f":"0","v":0}]
["2024-04-27T18:55:00",9,10,19,0,3,7,6,0,22,20,30,0,38,null,null,null,null,null,null,null,{"$f":"connected_load_plot+J1266-B1266","v":55},{"$f":"connected_load_plot+K1266-C1266","v":52},{"$f":"connected_load_plot+L1266-D1266","v":53},{"$f":"0","v":0}]
["2024-04-27T19:00:00",7,9,19,0,3,7,5,0,11,20,31,0,35,null,null,null,null,null,null,null,{"$f":"connected_load_plot+J1267-B1267","v":46},{"$f":"connected_load_plot+K1267-C1267","v":53},{"$f":"connected_load_plot+L1267-D1267","v":54},{"$f":"0","v":0}]
["2024-04-27T19:05:00",8,10,24,0,3,7,13,0,16,26,37,0,42,null,null,null,null,null,null,null,{"$f":"connected_load_plot+J1268-B1268","v":50},{"$f":"connected_load_plot+K1268-C1268","v":58},{"$f":"connected_load_plot+L1268-D1268","v":55},{"$f":"0","v":0}]
["2024-04-27T19:10:00",10,9,27,0,4,7,11,0,17,26,36,0,46,null,null,null,null,null,null,null,{"$f":"connected_load_plot+J1269-B1269","v":49},{"$f":"connected_load_plot+K1269-C1269","v":59},{"$f":"connected_load_plot+L1269-D1269","v":51},{"$f":"0","v":0}]
["2024-04-27T19:15:00",8,10,25,0,3,6,11,0,17,26,35,0,43,null,null,null,null,null,null,null,{"$f":"connected_load_plot+J1270-B1270","v":51},{"$f":"connected_load_plot+K1270-C1270","v":58},{"$f":"connected_load_plot+L1270-D1270","v":52},{"$f":"0","v":0}]
["2024-04-27T19:20:00",8,10,24,0,3,6,16,0,15,25,35,0,42,null,null,null,null,null,null,null,{"$f":"connected_load_plot+J1271-B1271","v":49},{"$f":"connected_load_plot+K1271-C1271","v":57},{"$f":"connected_load_plot+L1271-D1271","v":53},{"$f":"0","v":0}]
["2024-04-27T19:25:00",10,11,26,0,3,7,12,0,16,21,41,0,47,null,null,null,null,null,null,null,{"$f":"connected_load_plot+J1272-B1272","v":48},{"$f":"connected_load_plot+K1272-C1272","v":52},{"$f":"connected_load_plot+L1272-D1272","v":57},{"$f":"0","v":0}]
["2024-04-27T19:30:00",9,11,25,0,3,8,11,0,17,28,36,0,45,null,null,null,null,null,null,null,{"$f":"connected_load_plot+J1273-B1273","v":50},{"$f":"connected_load_plot+K1273-C1273","v":59},{"$f":"connected_load_plot+L1273-D1273","v":53},{"$f":"0","v":0}]
["2024-04-27T19:35:00",9,10,24,0,3,8,11,0,17,27,37,0,43,null,null,null,null,null,null,null,{"$f":"connected_load_plot+J1274-B1274","v":50},{"$f":"connected_load_plot+K1274-C1274","v":59},{"$f":"connected_load_plot+L1274-D1274","v":55},{"$f":"0","v":0}]
["2024-04-27T19:40:00",9,13,23,0,4,8,11,0,17,27,30,0,45,null,null,null,null,null,null,null,{"$f":"connected_load_plot+J1275-B1275","v":50},{"$f":"connected_load_plot+K1275-C1275","v":56},{"$f":"connected_load_plot+L1275-D1275","v":49},{"$f":"0","v":0}]
["2024-04-27T19:45:00",9,10,23,0,3,8,11,0,16,21,34,0,42,null,null,null,null,null,null,null,{"$f":"connected_load_plot+J1276-B1276","v":49},{"$f":"connected_load_plot+K1276-C1276","v":53},{"$f":"connected_load_plot+L1276-D1276","v":53},{"$f":"0","v":0}]
["2024-04-27T19:50:00",10,11,23,0,3,8,11,0,16,28,30,0,44,null,null,null,null,null,null,null,{"$f":"connected_load_plot+J1277-B1277","v":48},{"$f":"connected_load_plot+K1277-C1277","v":59},{"$f":"connected_load_plot+L1277-D1277","v":49},{"$f":"0","v":0}]
["2024-04-27T19:55:00",8,12,26,0,3,8,17,0,16,28,37,0,46,null,null,null,null,null,null,null,{"$f":"connected_load_plot+J1278-B1278","v":50},{"$f":"connected_load_plot+K1278-C1278","v":58},{"$f":"connected_load_plot+L1278-D1278","v":53},{"$f":"0","v":0}]
["2024-04-27T20:00:00",8,11,26,0,3,8,16,0,16,28,40,0,45,null,null,null,null,null,null,null,{"$f":"connected_load_plot+J1279-B1279","v":50},{"$f":"connected_load_plot+K1279-C1279","v":59},{"$f":"connected_load_plot+L1279-D1279","v":56},{"$f":"0","v":0}]
["2024-04-27T20:05:00",10,11,22,0,3,8,11,0,22,28,34,0,43,null,null,null,null,null,null,null,{"$f":"connected_load_plot+J1280-B1280","v":54},{"$f":"connected_load_plot+K1280-C1280","v":59},{"$f":"connected_load_plot+L1280-D1280","v":54},{"$f":"0","v":0}]
["2024-04-27T20:10:00",8,11,22,0,3,8,11,0,16,21,31,0,41,null,null,null,null,null,null,null,{"$f":"connected_load_plot+J1281-B1281","v":50},{"$f":"connected_load_plot+K1281-C1281","v":52},{"$f":"connected_load_plot+L1281-D1281","v":51},{"$f":"0","v":0}]
["2024-04-27T20:15:00",7,12,25,0,3,8,17,0,15,28,41,0,44,null,null,null,null,null,null,null,{"$f":"connected_load_plot+J1282-B1282","v":50},{"$f":"connected_load_plot+K1282-C1282","v":58},{"$f":"connected_load_plot+L1282-D1282","v":58},{"$f":"0","v":0}]
["2024-04-27T20:20:00",10,11,24,0,3,8,17,0,17,21,35,0,{"$f":"SUM(B1283:D1283)","v":45},null,null,null,null,null,null,null,{"$f":"connected_load_plot+J1283-B1283","v":49},{"$f":"connected_load_plot+K1283-C1283","v":52},{"$f":"connected_load_plot+L1283-D1283","v":53},{"$f":"0","v":0}]
["2024-04-27T20:25:00",10,11,24,0,4,8,11,0,16,27,37,0,45,null,null,null,null,null,null,null,{"$f":"connected_load_plot+J1284-B1284","v":48},{"$f":"connected_load_plot+K1284-C1284","v":58},{"$f":"connected_load_plot+L1284-D1284","v":55},{"$f":"0","v":0}]
["2024-04-27T20:30:00",10,11,26,0,4,8,16,0,23,28,37,0,47,null,null,null,null,null,null,null,{"$f":"connected_load_plot+J1285-B1285","v":55},{"$f":"connected_load_plot+K1285-C1285","v":59},{"$f":"connected_load_plot+L1285-D1285","v":53},{"$f":"0","v":0}]
["2024-04-27T20:35:00",9,12,24,0,4,8,11,0,17,27,35,0,45,null,null,null,null,null,null,null,{"$f":"connected_load_plot+J1286-B1286","v":50},{"$f":"connected_load_plot+K1286-C1286","v":57},{"$f":"connected_load_plot+L1286-D1286","v":53},{"$f":"0","v":0}]
["2024-04-27T20:40:00",10,10,23,0,4,8,17,0,18,27,29,0,43,null,null,null,null,null,null,null,{"$f":"connected_load_plot+J1287-B1287","v":50},{"$f":"connected_load_plot+K1287-C1287","v":59},{"$f":"connected_load_plot+L1287-D1287","v":48},{"$f":"0","v":0}]
["2024-04-27T20:45:00",11,10,23,0,5,8,11,0,18,21,35,0,44,null,null,null,null,null,null,null,{"$f":"connected_load_plot+J1288-B1288","v":49},{"$f":"connected_load_plot+K1288-C1288","v":53},{"$f":"connected_load_plot+L1288-D1288","v":54},{"$f":"0","v":0}]
["2024-04-27T20:50:00",9,12,28,0,5,8,17,0,17,27,41,0,49,null,null,null,null,null,null,null,{"$f":"connected_load_plot+J1289-B1289","v":50},{"$f":"connected_load_plot+K1289-C1289","v":57},{"$f":"connected_load_plot+L1289-D1289","v":55},{"$f":"0","v":0}]
["2024-04-27T20:55:00",11,11,31,0,5,7,17,0,24,27,41,0,53,null,null,null,null,null,null,null,{"$f":"connected_load_plot+J1290-B1290","v":55},{"$f":"connected_load_plot+K1290-C1290","v":58},{"$f":"connected_load_plot+L1290-D1290","v":52},{"$f":"0","v":0}]
["2024-04-27T21:00:00",12,11,26,0,5,7,11,0,24,27,37,0,49,null,null,null,null,null,null,null,{"$f":"connected_load_plot+J1291-B1291","v":54},{"$f":"connected_load_plot+K1291-C1291","v":58},{"$f":"connected_load_plot+L1291-D1291","v":53},{"$f":"0","v":0}]
["2024-04-27T21:05:00",12,10,25,0,5,7,17,0,18,20,39,0,47,null,null,null,null,null,null,null,{"$f":"connected_load_plot+J1292-B1292","v":48},{"$f":"connected_load_plot+K1292-C1292","v":52},{"$f":"connected_load_plot+L1292-D1292","v":56},{"$f":"0","v":0}]
["2024-04-27T21:10:00",9,11,27,0,5,7,21,0,12,20,46,0,47,null,null,null,null,null,null,null,{"$f":"connected_load_plot+J1293-B1293","v":45},{"$f":"connected_load_plot+K1293-C1293","v":51},{"$f":"connected_load_plot+L1293-D1293","v":61},{"$f":"0","v":0}]
["2024-04-27T21:15:00",11,11,31,0,5,7,18,0,25,28,49,0,53,null,null,null,null,null,null,null,{"$f":"connected_load_plot+J1294-B1294","v":56},{"$f":"connected_load_plot+K1294-C1294","v":59},{"$f":"connected_load_plot+L1294-D1294","v":60},{"$f":"0","v":0}]
["2024-04-27T21:20:00",13,11,28,0,6,8,17,0,25,28,41,0,52,null,null,null,null,null,null,null,{"$f":"connected_load_plot+J1295-B1295","v":54},{"$f":"connected_load_plot+K1295-C1295","v":59},{"$f":"connected_load_plot+L1295-D1295","v":55},{"$f":"0","v":0}]
["2024-04-27T21:25:00",12,17,28,0,6,14,18,0,19,28,42,0,57,null,null,null,null,null,null,null,{"$f":"connected_load_plot+J1296-B1296","v":49},{"$f":"connected_load_plot+K1296-C1296","v":53},{"$f":"connected_load_plot+L1296-D1296","v":56},{"$f":"0","v":0}]
["2024-04-27T21:30:00",11,15,23,0,5,8,17,0,18,21,35,0,49,null,null,null,null,null,null,null,{"$f":"connected_load_plot+J1297-B1297","v":49},{"$f":"connected_load_plot+K1297-C1297","v":48},{"$f":"connected_load_plot+L1297-D1297","v":54},{"$f":"0","v":0}]
["2024-04-27T21:35:00",16,26,34,0,6,14,17,0,26,47,50,0,76,null,null,null,null,null,null,null,{"$f":"connected_load_plot+J1298-B1298","v":52},{"$f":"connected_load_plot+K1298-C1298","v":63},{"$f":"connected_load_plot+L1298-D1298","v":58},{"$f":"0","v":0}]
["2024-04-27T21:40:00",14,26,40,0,5,14,23,0,25,47,56,0,80,null,null,null,null,null,null,null,{"$f":"connected_load_plot+J1299-B1299","v":53},{"$f":"connected_load_plot+K1299-C1299","v":63},{"$f":"connected_load_plot+L1299-D1299","v":58},{"$f":"0","v":0}]
["2024-04-27T21:45:00",14,21,38,0,5,8,22,0,19,34,56,0,73,null,null,null,null,null,null,null,{"$f":"connected_load_plot+J1300-B1300","v":47},{"$f":"connected_load_plot+K1300-C1300","v":55},{"$f":"connected_load_plot+L1300-D1300","v":60},{"$f":"0","v":0}]
["2024-04-27T21:50:00",12,20,35,0,5,8,23,0,24,34,53,0,67,null,null,null,null,null,null,null,{"$f":"connected_load_plot+J1301-B1301","v":54},{"$f":"connected_load_plot+K1301-C1301","v":56},{"$f":"connected_load_plot+L1301-D1301","v":60},{"$f":"0","v":0}]
["2024-04-27T21:55:00",15,20,38,0,5,8,23,0,25,28,53,0,73,null,null,null,null,null,null,null,{"$f":"connected_load_plot+J1302-B1302","v":52},{"$f":"connected_load_plot+K1302-C1302","v":50},{"$f":"connected_load_plot+L1302-D1302","v":57},{"$f":"0","v":0}]
["2024-04-27T22:00:00",13,19,38,0,5,8,23,0,19,34,59,0,70,null,null,null,null,null,null,null,{"$f":"connected_load_plot+J1303-B1303","v":48},{"$f":"connected_load_plot+K1303-C1303","v":57},{"$f":"connected_load_plot+L1303-D1303","v":63},{"$f":"0","v":0}]
["2024-04-27T22:05:00",12,23,33,0,4,8,23,0,18,40,55,0,68,null,null,null,null,null,null,null,{"$f":"connected_load_plot+J1304-B1304","v":48},{"$f":"connected_load_plot+K1304-C1304","v":59},{"$f":"connected_load_plot+L1304-D1304","v":64},{"$f":"0","v":0}]
["2024-04-27T22:10:00",12,20,34,0,4,8,22,0,18,34,55,0,66,null,null,null,null,null,null,null,{"$f":"connected_load_plot+J1305-B1305","v":48},{"$f":"connected_load_plot+K1305-C1305","v":56},{"$f":"connected_load_plot+L1305-D1305","v":63},{"$f":"0","v":0}]
["2024-04-27T22:15:00",12,19,38,0,5,10,23,0,24,29,59,0,69,null,null,null,null,null,null,null,{"$f":"connected_load_plot+J1306-B1306","v":54},{"$f":"connected_load_plot+K1306-C1306","v":52},{"$f":"connected_load_plot+L1306-D1306","v":63},{"$f":"0","v":0}]
["2024-04-27T22:20:00",13,21,35,0,5,9,22,0,18,29,58,0,69,null,null,null,null,null,null,null,{"$f":"connected_load_plot+J1307-B1307","v":47},{"$f":"connected_load_plot+K1307-C1307","v":50},{"$f":"connected_load_plot+L1307-D1307","v":65},{"$f":"0","v":0}]
["2024-04-27T22:25:00",13,20,34,0,5,9,23,0,19,35,46,0,67,null,null,null,null,null,null,null,{"$f":"connected_load_plot+J1308-B1308","v":48},{"$f":"connected_load_plot+K1308-C1308","v":57},{"$f":"connected_load_plot+L1308-D1308","v":54},{"$f":"0","v":0}]
["2024-04-27T22:30:00",12,22,36,0,5,9,22,0,19,41,65,0,70,null,null,null,null,null,null,null,{"$f":"connected_load_plot+J1309-B1309","v":49},{"$f":"connected_load_plot+K1309-C1309","v":61},{"$f":"connected_load_plot+L1309-D1309","v":71},{"$f":"0","v":0}]
["2024-04-27T22:35:00",16,21,37,0,6,9,22,0,27,35,65,0,74,null,null,null,null,null,null,null,{"$f":"connected_load_plot+J1310-B1310","v":53},{"$f":"connected_load_plot+K1310-C1310","v":56},{"$f":"connected_load_plot+L1310-D1310","v":70},{"$f":"0","v":0}]
["2024-04-27T22:40:00",17,22,35,0,6,10,22,0,27,29,58,0,74,null,null,null,null,null,null,null,{"$f":"connected_load_plot+J1311-B1311","v":52},{"$f":"connected_load_plot+K1311-C1311","v":49},{"$f":"connected_load_plot+L1311-D1311","v":65},{"$f":"0","v":0}]
["2024-04-27T22:45:00",14,21,32,0,5,9,22,0,19,29,48,0,67,null,null,null,null,null,null,null,{"$f":"connected_load_plot+J1312-B1312","v":47},{"$f":"connected_load_plot+K1312-C1312","v":50},{"$f":"connected_load_plot+L1312-D1312","v":58},{"$f":"0","v":0}]
["2024-04-27T22:50:00",11,21,36,0,5,9,22,0,19,35,59,0,68,null,null,null,null,null,null,null,{"$f":"connected_load_plot+J1313-B1313","v":50},{"$f":"connected_load_plot+K1313-C1313","v":56},{"$f":"connected_load_plot+L1313-D1313","v":65},{"$f":"0","v":0}]
["2024-04-27T22:55:00",13,21,37,0,5,9,23,0,25,35,65,0,71,null,null,null,null,null,null,null,{"$f":"connected_load_plot+J1314-B1314","v":54},{"$f":"connected_load_plot+K1314-C1314","v":56},{"$f":"connected_load_plot+L1314-D1314","v":70},{"$f":"0","v":0}]
["2024-04-27T23:00:00",15,21,35,0,6,9,24,0,20,35,59,0,71,null,null,null,null,null,null,null,{"$f":"connected_load_plot+J1315-B1315","v":47},{"$f":"connected_load_plot+K1315-C1315","v":56},{"$f":"connected_load_plot+L1315-D1315","v":66},{"$f":"0","v":0}]
["2024-04-27T23:05:00",13,22,34,0,6,9,23,0,20,35,55,0,69,null,null,null,null,null,null,null,{"$f":"connected_load_plot+J1316-B1316","v":49},{"$f":"connected_load_plot+K1316-C1316","v":55},{"$f":"connected_load_plot+L1316-D1316","v":63},{"$f":"0","v":0}]
["2024-04-27T23:10:00",13,22,37,0,6,9,23,0,19,29,59,0,72,null,null,null,null,null,null,null,{"$f":"connected_load_plot+J1317-B1317","v":48},{"$f":"connected_load_plot+K1317-C1317","v":49},{"$f":"connected_load_plot+L1317-D1317","v":64},{"$f":"0","v":0}]
["2024-04-27T23:15:00",11,19,38,0,5,9,23,0,19,29,55,0,68,null,null,null,null,null,null,null,{"$f":"connected_load_plot+J1318-B1318","v":50},{"$f":"connected_load_plot+K1318-C1318","v":52},{"$f":"connected_load_plot+L1318-D1318","v":59},{"$f":"0","v":0}]
["2024-04-27T23:20:00",14,20,35,0,5,9,29,0,18,35,49,0,69,null,null,null,null,null,null,null,{"$f":"connected_load_plot+J1319-B1319","v":46},{"$f":"connected_load_plot+K1319-C1319","v":57},{"$f":"connected_load_plot+L1319-D1319","v":56},{"$f":"0","v":0}]
["2024-04-27T23:25:00",14,22,37,0,5,9,29,0,25,35,65,0,73,null,null,null,null,null,null,null,{"$f":"connected_load_plot+J1320-B1320","v":53},{"$f":"connected_load_plot+K1320-C1320","v":55},{"$f":"connected_load_plot+L1320-D1320","v":70},{"$f":"0","v":0}]
["2024-04-27T23:30:00",14,22,38,0,5,15,23,0,25,35,66,0,74,null,null,null,null,null,null,null,{"$f":"connected_load_plot+J1321-B1321","v":53},{"$f":"connected_load_plot+K1321-C1321","v":55},{"$f":"connected_load_plot+L1321-D1321","v":70},{"$f":"0","v":0}]
["2024-04-27T23:35:00",12,20,35,0,5,9,17,0,18,29,51,0,67,null,null,null,null,null,null,null,{"$f":"connected_load_plot+J1322-B1322","v":48},{"$f":"connected_load_plot+K1322-C1322","v":51},{"$f":"connected_load_plot+L1322-D1322","v":58},{"$f":"0","v":0}]
["2024-04-27T23:40:00",12,20,39,0,5,9,23,0,19,29,55,0,71,null,null,null,null,null,null,null,{"$f":"connected_load_plot+J1323-B1323","v":49},{"$f":"connected_load_plot+K1323-C1323","v":51},{"$f":"connected_load_plot+L1323-D1323","v":58},{"$f":"0","v":0}]
["2024-04-27T23:45:00",14,19,38,0,5,9,23,0,18,29,59,0,71,null,null,null,null,null,null,null,{"$f":"connected_load_plot+J1324-B1324","v":46},{"$f":"connected_load_plot+K1324-C1324","v":52},{"$f":"connected_load_plot+L1324-D1324","v":63},{"$f":"0","v":0}]
["2024-04-27T23:50:00",12,24,36,0,5,9,28,0,18,35,53,0,72,null,null,null,null,null,null,null,{"$f":"connected_load_plot+J1325-B1325","v":48},{"$f":"connected_load_plot+K1325-C1325","v":53},{"$f":"connected_load_plot+L1325-D1325","v":59},{"$f":"0","v":0}]
["2024-04-27T23:55:00",13,21,32,0,5,9,23,0,19,35,49,0,66,null,null,null,null,null,null,null,{"$f":"connected_load_plot+J1326-B1326","v":48},{"$f":"connected_load_plot+K1326-C1326","v":56},{"$f":"connected_load_plot+L1326-D1326","v":59},{"$f":"0","v":0}]
["2024-04-28",12,16,31,0,4,9,16,0,19,28,47,0,59,null,null,null,null,null,null,null,{"$f":"connected_load_plot+J1327-B1327","v":49},{"$f":"connected_load_plot+K1327-C1327","v":54},{"$f":"connected_load_plot+L1327-D1327","v":58},{"$f":"0","v":0}]
["2024-04-28T00:05:00",12,19,31,0,4,9,16,0,18,29,49,0,62,null,null,null,null,null,null,null,{"$f":"connected_load_plot+J1328-B1328","v":48},{"$f":"connected_load_plot+K1328-C1328","v":52},{"$f":"connected_load_plot+L1328-D1328","v":60},{"$f":"0","v":0}]
["2024-04-28T00:10:00",13,22,30,0,4,9,17,0,17,29,46,0,65,null,null,null,null,null,null,null,{"$f":"connected_load_plot+J1329-B1329","v":46},{"$f":"connected_load_plot+K1329-C1329","v":49},{"$f":"connected_load_plot+L1329-D1329","v":58},{"$f":"0","v":0}]
["2024-04-28T00:15:00",12,19,29,0,4,9,17,0,18,35,47,0,60,null,null,null,null,null,null,null,{"$f":"connected_load_plot+J1330-B1330","v":48},{"$f":"connected_load_plot+K1330-C1330","v":58},{"$f":"connected_load_plot+L1330-D1330","v":60},{"$f":"0","v":0}]
["2024-04-28T00:20:00",11,21,32,0,5,9,23,0,18,35,55,0,64,null,null,null,null,null,null,null,{"$f":"connected_load_plot+J1331-B1331","v":49},{"$f":"connected_load_plot+K1331-C1331","v":56},{"$f":"connected_load_plot+L1331-D1331","v":65},{"$f":"0","v":0}]
["2024-04-28T00:25:00",15,20,30,0,5,9,16,0,25,35,43,0,65,null,null,null,null,null,null,null,{"$f":"connected_load_plot+J1332-B1332","v":52},{"$f":"connected_load_plot+K1332-C1332","v":57},{"$f":"connected_load_plot+L1332-D1332","v":55},{"$f":"0","v":0}]
["2024-04-28T00:30:00",13,20,31,0,5,9,17,0,19,35,49,0,64,null,null,null,null,null,null,null,{"$f":"connected_load_plot+J1333-B1333","v":48},{"$f":"connected_load_plot+K1333-C1333","v":57},{"$f":"connected_load_plot+L1333-D1333","v":60},{"$f":"0","v":0}]
["2024-04-28T00:35:00",12,17,31,0,5,8,17,0,19,29,52,0,60,null,null,null,null,null,null,null,{"$f":"connected_load_plot+J1334-B1334","v":49},{"$f":"connected_load_plot+K1334-C1334","v":54},{"$f":"connected_load_plot+L1334-D1334","v":63},{"$f":"0","v":0}]
["2024-04-28T00:40:00",12,12,30,0,5,3,22,0,19,22,48,0,54,null,null,null,null,null,null,null,{"$f":"connected_load_plot+J1335-B1335","v":49},{"$f":"connected_load_plot+K1335-C1335","v":52},{"$f":"connected_load_plot+L1335-D1335","v":60},{"$f":"0","v":0}]
["2024-04-28T00:45:00",13,17,32,0,5,3,22,0,19,29,52,0,62,null,null,null,null,null,null,null,{"$f":"connected_load_plot+J1336-B1336","v":48},{"$f":"connected_load_plot+K1336-C1336","v":54},{"$f":"connected_load_plot+L1336-D1336","v":62},{"$f":"0","v":0}]
["2024-04-28T00:50:00",14,18,27,0,5,9,16,0,25,29,48,0,59,null,null,null,null,null,null,null,{"$f":"connected_load_plot+J1337-B1337","v":53},{"$f":"connected_load_plot+K1337-C1337","v":53},{"$f":"connected_load_plot+L1337-D1337","v":63},{"$f":"0","v":0}]
["2024-04-28T00:55:00",12,15,30,0,5,8,16,0,19,28,46,0,57,null,null,null,null,null,null,null,{"$f":"connected_load_plot+J1338-B1338","v":49},{"$f":"connected_load_plot+K1338-C1338","v":55},{"$f":"connected_load_plot+L1338-D1338","v":58},{"$f":"0","v":0}]
["2024-04-28T01:00:00",12,15,30,0,5,8,22,0,18,22,46,0,57,null,null,null,null,null,null,null,{"$f":"connected_load_plot+J1339-B1339","v":48},{"$f":"connected_load_plot+K1339-C1339","v":49},{"$f":"connected_load_plot+L1339-D1339","v":58},{"$f":"0","v":0}]
["2024-04-28T01:05:00",12,18,28,0,5,15,16,0,18,23,43,0,58,null,null,null,null,null,null,null,{"$f":"connected_load_plot+J1340-B1340","v":48},{"$f":"connected_load_plot+K1340-C1340","v":47},{"$f":"connected_load_plot+L1340-D1340","v":57},{"$f":"0","v":0}]
["2024-04-28T01:10:00",13,16,30,0,5,8,23,0,19,22,49,0,59,null,null,null,null,null,null,null,{"$f":"connected_load_plot+J1341-B1341","v":48},{"$f":"connected_load_plot+K1341-C1341","v":48},{"$f":"connected_load_plot+L1341-D1341","v":61},{"$f":"0","v":0}]
["2024-04-28T01:15:00",13,16,30,0,5,8,17,0,18,35,53,0,59,null,null,null,null,null,null,null,{"$f":"connected_load_plot+J1342-B1342","v":47},{"$f":"connected_load_plot+K1342-C1342","v":61},{"$f":"connected_load_plot+L1342-D1342","v":65},{"$f":"0","v":0}]
["2024-04-28T01:20:00",11,18,27,0,4,8,12,0,23,35,47,0,56,null,null,null,null,null,null,null,{"$f":"connected_load_plot+J1343-B1343","v":54},{"$f":"connected_load_plot+K1343-C1343","v":59},{"$f":"connected_load_plot+L1343-D1343","v":62},{"$f":"0","v":0}]
["2024-04-28T01:25:00",12,15,25,0,4,8,11,0,18,23,44,0,52,null,null,null,null,null,null,null,{"$f":"connected_load_plot+J1344-B1344","v":48},{"$f":"connected_load_plot+K1344-C1344","v":50},{"$f":"connected_load_plot+L1344-D1344","v":61},{"$f":"0","v":0}]
["2024-04-28T01:30:00",11,16,27,0,4,8,12,0,18,22,54,0,54,null,null,null,null,null,null,null,{"$f":"connected_load_plot+J1345-B1345","v":49},{"$f":"connected_load_plot+K1345-C1345","v":48},{"$f":"connected_load_plot+L1345-D1345","v":69},{"$f":"0","v":0}]
["2024-04-28T01:35:00",13,15,30,0,5,3,16,0,18,22,53,0,58,null,null,null,null,null,null,null,{"$f":"connected_load_plot+J1346-B1346","v":47},{"$f":"connected_load_plot+K1346-C1346","v":49},{"$f":"connected_load_plot+L1346-D1346","v":65},{"$f":"0","v":0}]
["2024-04-28T01:40:00",11,16,28,0,5,3,16,0,18,28,46,0,{"$f":"SUM(B1347:D1347)","v":55},null,null,null,null,null,null,null,{"$f":"connected_load_plot+J1347-B1347","v":49},{"$f":"connected_load_plot+K1347-C1347","v":54},{"$f":"connected_load_plot+L1347-D1347","v":60},{"$f":"0","v":0}]
["2024-04-28T01:45:00",12,18,28,0,5,8,11,0,24,29,54,0,58,null,null,null,null,null,null,null,{"$f":"connected_load_plot+J1348-B1348","v":54},{"$f":"connected_load_plot+K1348-C1348","v":53},{"$f":"connected_load_plot+L1348-D1348","v":68},{"$f":"0","v":0}]
["2024-04-28T01:50:00",12,16,25,0,5,8,11,0,18,22,47,0,53,null,null,null,null,null,null,null,{"$f":"connected_load_plot+J1349-B1349","v":48},{"$f":"connected_load_plot+K1349-C1349","v":48},{"$f":"connected_load_plot+L1349-D1349","v":64},{"$f":"0","v":0}]
["2024-04-28T01:55:00",13,16,27,0,5,8,17,0,18,22,46,0,56,null,null,null,null,null,null,null,{"$f":"connected_load_plot+J1350-B1350","v":47},{"$f":"connected_load_plot+K1350-C1350","v":48},{"$f":"connected_load_plot+L1350-D1350","v":61},{"$f":"0","v":0}]
["2024-04-28T02:00:00",12,16,28,0,5,8,16,0,18,22,46,0,56,null,null,null,null,null,null,null,{"$f":"connected_load_plot+J1351-B1351","v":48},{"$f":"connected_load_plot+K1351-C1351","v":48},{"$f":"connected_load_plot+L1351-D1351","v":60},{"$f":"0","v":0}]
["2024-04-28T02:05:00",10,15,29,0,5,3,16,0,18,28,58,0,54,null,null,null,null,null,null,null,{"$f":"connected_load_plot+J1352-B1352","v":50},{"$f":"connected_load_plot+K1352-C1352","v":55},{"$f":"connected_load_plot+L1352-D1352","v":71},{"$f":"0","v":0}]
["2024-04-28T02:10:00",14,15,26,0,5,3,11,0,24,28,59,0,55,null,null,null,null,null,null,null,{"$f":"connected_load_plot+J1353-B1353","v":52},{"$f":"connected_load_plot+K1353-C1353","v":55},{"$f":"connected_load_plot+L1353-D1353","v":75},{"$f":"0","v":0}]
["2024-04-28T02:15:00",13,17,22,0,5,9,11,0,18,28,40,0,52,null,null,null,null,null,null,null,{"$f":"connected_load_plot+J1354-B1354","v":47},{"$f":"connected_load_plot+K1354-C1354","v":53},{"$f":"connected_load_plot+L1354-D1354","v":60},{"$f":"0","v":0}]
["2024-04-28T02:20:00",12,17,27,0,5,3,15,0,23,28,46,0,56,null,null,null,null,null,null,null,{"$f":"connected_load_plot+J1355-B1355","v":53},{"$f":"connected_load_plot+K1355-C1355","v":53},{"$f":"connected_load_plot+L1355-D1355","v":61},{"$f":"0","v":0}]
["2024-04-28T02:25:00",12,15,32,0,5,8,16,0,18,22,52,0,59,null,null,null,null,null,null,null,{"$f":"connected_load_plot+J1356-B1356","v":48},{"$f":"connected_load_plot+K1356-C1356","v":49},{"$f":"connected_load_plot+L1356-D1356","v":62},{"$f":"0","v":0}]
["2024-04-28T02:30:00",10,15,27,0,5,8,17,0,18,22,42,0,52,null,null,null,null,null,null,null,{"$f":"connected_load_plot+J1357-B1357","v":50},{"$f":"connected_load_plot+K1357-C1357","v":49},{"$f":"connected_load_plot+L1357-D1357","v":57},{"$f":"0","v":0}]
["2024-04-28T02:35:00",13,16,22,0,5,3,11,0,24,29,43,0,51,null,null,null,null,null,null,null,{"$f":"connected_load_plot+J1358-B1358","v":53},{"$f":"connected_load_plot+K1358-C1358","v":55},{"$f":"connected_load_plot+L1358-D1358","v":63},{"$f":"0","v":0}]
["2024-04-28T02:40:00",13,16,25,0,5,2,11,0,19,22,49,0,54,null,null,null,null,null,null,null,{"$f":"connected_load_plot+J1359-B1359","v":48},{"$f":"connected_load_plot+K1359-C1359","v":48},{"$f":"connected_load_plot+L1359-D1359","v":66},{"$f":"0","v":0}]
["2024-04-28T02:45:00",10,15,29,0,4,3,16,0,17,22,48,0,54,null,null,null,null,null,null,null,{"$f":"connected_load_plot+J1360-B1360","v":49},{"$f":"connected_load_plot+K1360-C1360","v":49},{"$f":"connected_load_plot+L1360-D1360","v":61},{"$f":"0","v":0}]
["2024-04-28T02:50:00",12,15,30,0,4,3,16,0,23,23,42,0,57,null,null,null,null,null,null,null,{"$f":"connected_load_plot+J1361-B1361","v":53},{"$f":"connected_load_plot+K1361-C1361","v":50},{"$f":"connected_load_plot+L1361-D1361","v":54},{"$f":"0","v":0}]
["2024-04-28T02:55:00",12,17,24,0,4,8,11,0,23,28,42,0,53,null,null,null,null,null,null,null,{"$f":"connected_load_plot+J1362-B1362","v":53},{"$f":"connected_load_plot+K1362-C1362","v":53},{"$f":"connected_load_plot+L1362-D1362","v":60},{"$f":"0","v":0}]
["2024-04-28T03:00:00",12,17,23,0,5,3,10,0,18,28,48,0,52,null,null,null,null,null,null,null,{"$f":"connected_load_plot+J1363-B1363","v":48},{"$f":"connected_load_plot+K1363-C1363","v":53},{"$f":"connected_load_plot+L1363-D1363","v":67},{"$f":"0","v":0}]
["2024-04-28T03:05:00",12,15,27,0,5,8,16,0,18,22,51,0,54,null,null,null,null,null,null,null,{"$f":"connected_load_plot+J1364-B1364","v":48},{"$f":"connected_load_plot+K1364-C1364","v":49},{"$f":"connected_load_plot+L1364-D1364","v":66},{"$f":"0","v":0}]
["2024-04-28T03:10:00",12,13,29,0,5,8,19,0,24,22,54,0,54,null,null,null,null,null,null,null,{"$f":"connected_load_plot+J1365-B1365","v":54},{"$f":"connected_load_plot+K1365-C1365","v":51},{"$f":"connected_load_plot+L1365-D1365","v":67},{"$f":"0","v":0}]
["2024-04-28T03:15:00",12,15,26,0,5,2,15,0,24,23,46,0,53,null,null,null,null,null,null,null,{"$f":"connected_load_plot+J1366-B1366","v":54},{"$f":"connected_load_plot+K1366-C1366","v":50},{"$f":"connected_load_plot+L1366-D1366","v":62},{"$f":"0","v":0}]
["2024-04-28T03:20:00",13,18,24,0,5,3,10,0,19,35,40,0,55,null,null,null,null,null,null,null,{"$f":"connected_load_plot+J1367-B1367","v":48},{"$f":"connected_load_plot+K1367-C1367","v":59},{"$f":"connected_load_plot+L1367-D1367","v":58},{"$f":"0","v":0}]
["2024-04-28T03:25:00",12,17,24,0,5,3,10,0,18,35,42,0,53,null,null,null,null,null,null,null,{"$f":"connected_load_plot+J1368-B1368","v":48},{"$f":"connected_load_plot+K1368-C1368","v":60},{"$f":"connected_load_plot+L1368-D1368","v":60},{"$f":"0","v":0}]
["2024-04-28T03:30:00",12,14,29,0,5,3,16,0,23,22,52,0,55,null,null,null,null,null,null,null,{"$f":"connected_load_plot+J1369-B1369","v":53},{"$f":"connected_load_plot+K1369-C1369","v":50},{"$f":"connected_load_plot+L1369-D1369","v":65},{"$f":"0","v":0}]
["2024-04-28T03:35:00",12,15,27,0,5,8,16,0,24,22,48,0,54,null,null,null,null,null,null,null,{"$f":"connected_load_plot+J1370-B1370","v":54},{"$f":"connected_load_plot+K1370-C1370","v":49},{"$f":"connected_load_plot+L1370-D1370","v":63},{"$f":"0","v":0}]
["2024-04-28T03:40:00",13,15,28,0,5,3,17,0,24,22,52,0,56,null,null,null,null,null,null,null,{"$f":"connected_load_plot+J1371-B1371","v":53},{"$f":"connected_load_plot+K1371-C1371","v":49},{"$f":"connected_load_plot+L1371-D1371","v":66},{"$f":"0","v":0}]
["2024-04-28T03:45:00",14,17,26,0,5,3,11,0,18,35,53,0,57,null,null,null,null,null,null,null,{"$f":"connected_load_plot+J1372-B1372","v":46},{"$f":"connected_load_plot+K1372-C1372","v":60},{"$f":"connected_load_plot+L1372-D1372","v":69},{"$f":"0","v":0}]
["2024-04-28T03:50:00",10,20,25,0,5,9,11,0,18,29,46,0,55,null,null,null,null,null,null,null,{"$f":"connected_load_plot+J1373-B1373","v":50},{"$f":"connected_load_plot+K1373-C1373","v":51},{"$f":"connected_load_plot+L1373-D1373","v":63},{"$f":"0","v":0}]
["2024-04-28T03:55:00",12,13,29,0,4,2,16,0,23,22,52,0,54,null,null,null,null,null,null,null,{"$f":"connected_load_plot+J1374-B1374","v":53},{"$f":"connected_load_plot+K1374-C1374","v":51},{"$f":"connected_load_plot+L1374-D1374","v":65},{"$f":"0","v":0}]
["2024-04-28T04:00:00",11,15,32,0,4,3,16,0,17,22,59,0,58,null,null,null,null,null,null,null,{"$f":"connected_load_plot+J1375-B1375","v":48},{"$f":"connected_load_plot+K1375-C1375","v":49},{"$f":"connected_load_plot+L1375-D1375","v":69},{"$f":"0","v":0}]
["2024-04-28T04:05:00",11,19,24,0,4,9,11,0,17,29,53,0,54,null,null,null,null,null,null,null,{"$f":"connected_load_plot+J1376-B1376","v":48},{"$f":"connected_load_plot+K1376-C1376","v":52},{"$f":"connected_load_plot+L1376-D1376","v":71},{"$f":"0","v":0}]
["2024-04-28T04:10:00",13,17,22,0,4,3,11,0,24,35,35,0,52,null,null,null,null,null,null,null,{"$f":"connected_load_plot+J1377-B1377","v":53},{"$f":"connected_load_plot+K1377-C1377","v":60},{"$f":"connected_load_plot+L1377-D1377","v":55},{"$f":"0","v":0}]
["2024-04-28T04:15:00",12,16,30,0,5,8,11,0,24,29,59,0,58,null,null,null,null,null,null,null,{"$f":"connected_load_plot+J1378-B1378","v":54},{"$f":"connected_load_plot+K1378-C1378","v":55},{"$f":"connected_load_plot+L1378-D1378","v":71},{"$f":"0","v":0}]
["2024-04-28T04:20:00",12,15,31,0,4,3,16,0,18,22,52,0,58,null,null,null,null,null,null,null,{"$f":"connected_load_plot+J1379-B1379","v":48},{"$f":"connected_load_plot+K1379-C1379","v":49},{"$f":"connected_load_plot+L1379-D1379","v":63},{"$f":"0","v":0}]
["2024-04-28T04:25:00",12,15,25,0,4,3,11,0,18,22,52,0,52,null,null,null,null,null,null,null,{"$f":"connected_load_plot+J1380-B1380","v":48},{"$f":"connected_load_plot+K1380-C1380","v":49},{"$f":"connected_load_plot+L1380-D1380","v":69},{"$f":"0","v":0}]
["2024-04-28T04:30:00",12,17,21,0,4,8,11,0,18,29,41,0,50,null,null,null,null,null,null,null,{"$f":"connected_load_plot+J1381-B1381","v":48},{"$f":"connected_load_plot+K1381-C1381","v":54},{"$f":"connected_load_plot+L1381-D1381","v":62},{"$f":"0","v":0}]
["2024-04-28T04:35:00",11,18,25,0,4,3,11,0,18,35,43,0,54,null,null,null,null,null,null,null,{"$f":"connected_load_plot+J1382-B1382","v":49},{"$f":"connected_load_plot+K1382-C1382","v":59},{"$f":"connected_load_plot+L1382-D1382","v":60},{"$f":"0","v":0}]
["2024-04-28T04:40:00",12,15,31,0,5,3,20,0,24,22,48,0,58,null,null,null,null,null,null,null,{"$f":"connected_load_plot+J1383-B1383","v":54},{"$f":"connected_load_plot+K1383-C1383","v":49},{"$f":"connected_load_plot+L1383-D1383","v":59},{"$f":"0","v":0}]
["2024-04-28T04:45:00",14,16,27,0,4,7,16,0,18,22,40,0,57,null,null,null,null,null,null,null,{"$f":"connected_load_plot+J1384-B1384","v":46},{"$f":"connected_load_plot+K1384-C1384","v":48},{"$f":"connected_load_plot+L1384-D1384","v":55},{"$f":"0","v":0}]
["2024-04-28T04:50:00",11,16,24,0,4,3,11,0,18,29,47,0,51,null,null,null,null,null,null,null,{"$f":"connected_load_plot+J1385-B1385","v":49},{"$f":"connected_load_plot+K1385-C1385","v":55},{"$f":"connected_load_plot+L1385-D1385","v":65},{"$f":"0","v":0}]
["2024-04-28T04:55:00",11,17,25,0,4,3,10,0,18,29,53,0,53,null,null,null,null,null,null,null,{"$f":"connected_load_plot+J1386-B1386","v":49},{"$f":"connected_load_plot+K1386-C1386","v":54},{"$f":"connected_load_plot+L1386-D1386","v":70},{"$f":"0","v":0}]
["2024-04-28T05:00:00",11,17,26,0,4,3,16,0,18,35,53,0,54,null,null,null,null,null,null,null,{"$f":"connected_load_plot+J1387-B1387","v":49},{"$f":"connected_load_plot+K1387-C1387","v":60},{"$f":"connected_load_plot+L1387-D1387","v":69},{"$f":"0","v":0}]
["2024-04-28T05:05:00",12,15,26,0,5,3,16,0,24,22,39,0,53,null,null,null,null,null,null,null,{"$f":"connected_load_plot+J1388-B1388","v":54},{"$f":"connected_load_plot+K1388-C1388","v":49},{"$f":"connected_load_plot+L1388-D1388","v":55},{"$f":"0","v":0}]
["2024-04-28T05:10:00",13,15,29,0,5,3,16,0,18,28,48,0,57,null,null,null,null,null,null,null,{"$f":"connected_load_plot+J1389-B1389","v":47},{"$f":"connected_load_plot+K1389-C1389","v":55},{"$f":"connected_load_plot+L1389-D1389","v":61},{"$f":"0","v":0}]
["2024-04-28T05:15:00",11,15,27,0,4,3,16,0,18,29,48,0,53,null,null,null,null,null,null,null,{"$f":"connected_load_plot+J1390-B1390","v":49},{"$f":"connected_load_plot+K1390-C1390","v":56},{"$f":"connected_load_plot+L1390-D1390","v":63},{"$f":"0","v":0}]
["2024-04-28T05:20:00",10,19,22,0,4,9,10,0,18,35,46,0,51,null,null,null,null,null,null,null,{"$f":"connected_load_plot+J1391-B1391","v":50},{"$f":"connected_load_plot+K1391-C1391","v":58},{"$f":"connected_load_plot+L1391-D1391","v":66},{"$f":"0","v":0}]
["2024-04-28T05:25:00",11,16,25,0,4,3,10,0,17,35,45,0,52,null,null,null,null,null,null,null,{"$f":"connected_load_plot+J1392-B1392","v":48},{"$f":"connected_load_plot+K1392-C1392","v":61},{"$f":"connected_load_plot+L1392-D1392","v":62},{"$f":"0","v":0}]
["2024-04-28T05:30:00",11,11,27,0,4,3,15,0,17,22,45,0,49,null,null,null,null,null,null,null,{"$f":"connected_load_plot+J1393-B1393","v":48},{"$f":"connected_load_plot+K1393-C1393","v":53},{"$f":"connected_load_plot+L1393-D1393","v":60},{"$f":"0","v":0}]
["2024-04-28T05:35:00",12,10,26,0,4,3,15,0,24,22,45,0,48,null,null,null,null,null,null,null,{"$f":"connected_load_plot+J1394-B1394","v":54},{"$f":"connected_load_plot+K1394-C1394","v":54},{"$f":"connected_load_plot+L1394-D1394","v":61},{"$f":"0","v":0}]
["2024-04-28T05:40:00",11,11,23,0,4,3,10,0,18,22,46,0,45,null,null,null,null,null,null,null,{"$f":"connected_load_plot+J1395-B1395","v":49},{"$f":"connected_load_plot+K1395-C1395","v":53},{"$f":"connected_load_plot+L1395-D1395","v":65},{"$f":"0","v":0}]
["2024-04-28T05:45:00",11,13,25,0,4,3,10,0,18,28,42,0,49,null,null,null,null,null,null,null,{"$f":"connected_load_plot+J1396-B1396","v":49},{"$f":"connected_load_plot+K1396-C1396","v":57},{"$f":"connected_load_plot+L1396-D1396","v":59},{"$f":"0","v":0}]
["2024-04-28T05:50:00",11,10,27,0,4,2,16,0,18,28,52,0,48,null,null,null,null,null,null,null,{"$f":"connected_load_plot+J1397-B1397","v":49},{"$f":"connected_load_plot+K1397-C1397","v":60},{"$f":"connected_load_plot+L1397-D1397","v":67},{"$f":"0","v":0}]
["2024-04-28T05:55:00",13,9,30,0,4,2,22,0,18,21,46,0,52,null,null,null,null,null,null,null,{"$f":"connected_load_plot+J1398-B1398","v":47},{"$f":"connected_load_plot+K1398-C1398","v":54},{"$f":"connected_load_plot+L1398-D1398","v":58},{"$f":"0","v":0}]
["2024-04-28T06:00:00",11,9,28,0,4,2,16,0,22,22,52,0,48,null,null,null,null,null,null,null,{"$f":"connected_load_plot+J1399-B1399","v":53},{"$f":"connected_load_plot+K1399-C1399","v":55},{"$f":"connected_load_plot+L1399-D1399","v":66},{"$f":"0","v":0}]
["2024-04-28T06:05:00",10,10,20,0,4,2,11,0,18,21,37,0,40,null,null,null,null,null,null,null,{"$f":"connected_load_plot+J1400-B1400","v":50},{"$f":"connected_load_plot+K1400-C1400","v":53},{"$f":"connected_load_plot+L1400-D1400","v":59},{"$f":"0","v":0}]
["2024-04-28T06:10:00",12,13,24,0,4,2,11,0,18,27,43,0,49,null,null,null,null,null,null,null,{"$f":"connected_load_plot+J1401-B1401","v":48},{"$f":"connected_load_plot+K1401-C1401","v":56},{"$f":"connected_load_plot+L1401-D1401","v":61},{"$f":"0","v":0}]
["2024-04-28T06:15:00",11,10,32,0,3,2,22,0,17,21,41,0,53,null,null,null,null,null,null,null,{"$f":"connected_load_plot+J1402-B1402","v":48},{"$f":"connected_load_plot+K1402-C1402","v":53},{"$f":"connected_load_plot+L1402-D1402","v":51},{"$f":"0","v":0}]
["2024-04-28T06:20:00",16,16,25,0,4,2,15,0,32,31,42,0,57,null,null,null,null,null,null,null,{"$f":"connected_load_plot+J1403-B1403","v":58},{"$f":"connected_load_plot+K1403-C1403","v":57},{"$f":"connected_load_plot+L1403-D1403","v":59},{"$f":"0","v":0}]
["2024-04-28T06:25:00",14,19,24,0,4,10,11,0,24,30,42,0,57,null,null,null,null,null,null,null,{"$f":"connected_load_plot+J1404-B1404","v":52},{"$f":"connected_load_plot+K1404-C1404","v":53},{"$f":"connected_load_plot+L1404-D1404","v":60},{"$f":"0","v":0}]
["2024-04-28T06:30:00",16,18,25,0,10,3,11,0,23,30,36,0,59,null,null,null,null,null,null,null,{"$f":"connected_load_plot+J1405-B1405","v":49},{"$f":"connected_load_plot+K1405-C1405","v":54},{"$f":"connected_load_plot+L1405-D1405","v":53},{"$f":"0","v":0}]
["2024-04-28T06:35:00",19,13,25,0,10,3,11,0,24,28,35,0,57,null,null,null,null,null,null,null,{"$f":"connected_load_plot+J1406-B1406","v":47},{"$f":"connected_load_plot+K1406-C1406","v":57},{"$f":"connected_load_plot+L1406-D1406","v":52},{"$f":"0","v":0}]
["2024-04-28T06:40:00",18,11,30,0,4,3,16,0,24,20,48,0,59,null,null,null,null,null,null,null,{"$f":"connected_load_plot+J1407-B1407","v":48},{"$f":"connected_load_plot+K1407-C1407","v":51},{"$f":"connected_load_plot+L1407-D1407","v":60},{"$f":"0","v":0}]
["2024-04-28T06:45:00",16,10,29,0,4,3,15,0,24,16,41,0,55,null,null,null,null,null,null,null,{"$f":"connected_load_plot+J1408-B1408","v":50},{"$f":"connected_load_plot+K1408-C1408","v":48},{"$f":"connected_load_plot+L1408-D1408","v":54},{"$f":"0","v":0}]
["2024-04-28T06:50:00",15,11,24,0,3,3,11,0,23,22,34,0,50,null,null,null,null,null,null,null,{"$f":"connected_load_plot+J1409-B1409","v":50},{"$f":"connected_load_plot+K1409-C1409","v":53},{"$f":"connected_load_plot+L1409-D1409","v":52},{"$f":"0","v":0}]
["2024-04-28T06:55:00",16,12,22,0,3,3,10,0,23,22,36,0,50,null,null,null,null,null,null,null,{"$f":"connected_load_plot+J1410-B1410","v":49},{"$f":"connected_load_plot+K1410-C1410","v":52},{"$f":"connected_load_plot+L1410-D1410","v":56},{"$f":"0","v":0}]
["2024-04-28T07:00:00",17,11,26,0,3,2,10,0,23,28,52,0,{"$f":"SUM(B1411:D1411)","v":54},null,null,null,null,null,null,null,{"$f":"connected_load_plot+J1411-B1411","v":48},{"$f":"connected_load_plot+K1411-C1411","v":59},{"$f":"connected_load_plot+L1411-D1411","v":68},{"$f":"0","v":0}]
["2024-04-28T07:05:00",16,11,29,0,4,3,15,0,30,16,48,0,56,null,null,null,null,null,null,null,{"$f":"connected_load_plot+J1412-B1412","v":56},{"$f":"connected_load_plot+K1412-C1412","v":47},{"$f":"connected_load_plot+L1412-D1412","v":61},{"$f":"0","v":0}]
["2024-04-28T07:10:00",16,11,32,0,4,3,16,0,29,22,52,0,59,null,null,null,null,null,null,null,{"$f":"connected_load_plot+J1413-B1413","v":55},{"$f":"connected_load_plot+K1413-C1413","v":53},{"$f":"connected_load_plot+L1413-D1413","v":62},{"$f":"0","v":0}]
["2024-04-28T07:15:00",17,11,32,0,4,2,11,0,29,28,51,0,60,null,null,null,null,null,null,null,{"$f":"connected_load_plot+J1414-B1414","v":54},{"$f":"connected_load_plot+K1414-C1414","v":59},{"$f":"connected_load_plot+L1414-D1414","v":61},{"$f":"0","v":0}]
["2024-04-28T07:20:00",16,13,24,0,4,3,11,0,23,28,46,0,53,null,null,null,null,null,null,null,{"$f":"connected_load_plot+J1415-B1415","v":49},{"$f":"connected_load_plot+K1415-C1415","v":57},{"$f":"connected_load_plot+L1415-D1415","v":64},{"$f":"0","v":0}]
["2024-04-28T07:25:00",15,12,23,0,4,2,10,0,24,28,35,0,50,null,null,null,null,null,null,null,{"$f":"connected_load_plot+J1416-B1416","v":51},{"$f":"connected_load_plot+K1416-C1416","v":58},{"$f":"connected_load_plot+L1416-D1416","v":54},{"$f":"0","v":0}]
["2024-04-28T07:30:00",17,9,30,0,4,2,15,0,29,16,47,0,56,null,null,null,null,null,null,null,{"$f":"connected_load_plot+J1417-B1417","v":54},{"$f":"connected_load_plot+K1417-C1417","v":49},{"$f":"connected_load_plot+L1417-D1417","v":59},{"$f":"0","v":0}]
["2024-04-28T07:35:00",15,12,30,0,4,8,15,0,30,28,45,0,57,null,null,null,null,null,null,null,{"$f":"connected_load_plot+J1418-B1418","v":57},{"$f":"connected_load_plot+K1418-C1418","v":58},{"$f":"connected_load_plot+L1418-D1418","v":57},{"$f":"0","v":0}]
["2024-04-28T07:40:00",18,11,24,0,4,2,10,0,31,22,41,0,53,null,null,null,null,null,null,null,{"$f":"connected_load_plot+J1419-B1419","v":55},{"$f":"connected_load_plot+K1419-C1419","v":53},{"$f":"connected_load_plot+L1419-D1419","v":59},{"$f":"0","v":0}]
["2024-04-28T07:45:00",16,11,24,0,4,2,10,0,24,27,40,0,51,null,null,null,null,null,null,null,{"$f":"connected_load_plot+J1420-B1420","v":50},{"$f":"connected_load_plot+K1420-C1420","v":58},{"$f":"connected_load_plot+L1420-D1420","v":58},{"$f":"0","v":0}]
["2024-04-28T07:50:00",14,12,32,0,5,2,16,0,24,27,52,0,58,null,null,null,null,null,null,null,{"$f":"connected_load_plot+J1421-B1421","v":52},{"$f":"connected_load_plot+K1421-C1421","v":57},{"$f":"connected_load_plot+L1421-D1421","v":62},{"$f":"0","v":0}]
["2024-04-28T07:55:00",17,11,30,0,5,2,16,0,30,21,45,0,58,null,null,null,null,null,null,null,{"$f":"connected_load_plot+J1422-B1422","v":55},{"$f":"connected_load_plot+K1422-C1422","v":52},{"$f":"connected_load_plot+L1422-D1422","v":57},{"$f":"0","v":0}]
["2024-04-28T08:00:00",17,10,27,0,5,2,16,0,31,23,45,0,54,null,null,null,null,null,null,null,{"$f":"connected_load_plot+J1423-B1423","v":56},{"$f":"connected_load_plot+K1423-C1423","v":55},{"$f":"connected_load_plot+L1423-D1423","v":60},{"$f":"0","v":0}]
["2024-04-28T08:05:00",17,9,25,0,5,2,11,0,25,21,40,0,51,null,null,null,null,null,null,null,{"$f":"connected_load_plot+J1424-B1424","v":50},{"$f":"connected_load_plot+K1424-C1424","v":54},{"$f":"connected_load_plot+L1424-D1424","v":57},{"$f":"0","v":0}]
["2024-04-28T08:10:00",17,11,26,0,4,2,11,0,25,21,43,0,54,null,null,null,null,null,null,null,{"$f":"connected_load_plot+J1425-B1425","v":50},{"$f":"connected_load_plot+K1425-C1425","v":52},{"$f":"connected_load_plot+L1425-D1425","v":59},{"$f":"0","v":0}]
["2024-04-28T08:15:00",14,9,29,0,4,2,11,0,24,21,46,0,52,null,null,null,null,null,null,null,{"$f":"connected_load_plot+J1426-B1426","v":52},{"$f":"connected_load_plot+K1426-C1426","v":54},{"$f":"connected_load_plot+L1426-D1426","v":59},{"$f":"0","v":0}]
["2024-04-28T08:20:00",15,9,37,0,4,2,16,0,24,21,55,0,61,null,null,null,null,null,null,null,{"$f":"connected_load_plot+J1427-B1427","v":51},{"$f":"connected_load_plot+K1427-C1427","v":54},{"$f":"connected_load_plot+L1427-D1427","v":60},{"$f":"0","v":0}]
["2024-04-28T08:25:00",17,11,37,0,5,2,17,0,30,27,57,0,65,null,null,null,null,null,null,null,{"$f":"connected_load_plot+J1428-B1428","v":55},{"$f":"connected_load_plot+K1428-C1428","v":58},{"$f":"connected_load_plot+L1428-D1428","v":62},{"$f":"0","v":0}]
["2024-04-28T08:30:00",15,8,26,0,4,1,12,0,23,20,40,0,49,null,null,null,null,null,null,null,{"$f":"connected_load_plot+J1429-B1429","v":50},{"$f":"connected_load_plot+K1429-C1429","v":54},{"$f":"connected_load_plot+L1429-D1429","v":56},{"$f":"0","v":0}]
["2024-04-28T08:35:00",15,12,23,0,4,2,11,0,24,33,46,0,50,null,null,null,null,null,null,null,{"$f":"connected_load_plot+J1430-B1430","v":51},{"$f":"connected_load_plot+K1430-C1430","v":63},{"$f":"connected_load_plot+L1430-D1430","v":65},{"$f":"0","v":0}]
["2024-04-28T08:40:00",16,10,30,0,5,2,13,0,30,25,45,0,56,null,null,null,null,null,null,null,{"$f":"connected_load_plot+J1431-B1431","v":56},{"$f":"connected_load_plot+K1431-C1431","v":57},{"$f":"connected_load_plot+L1431-D1431","v":57},{"$f":"0","v":0}]
["2024-04-28T08:45:00",15,10,33,0,5,2,18,0,24,26,50,0,58,null,null,null,null,null,null,null,{"$f":"connected_load_plot+J1432-B1432","v":51},{"$f":"connected_load_plot+K1432-C1432","v":58},{"$f":"connected_load_plot+L1432-D1432","v":59},{"$f":"0","v":0}]
["2024-04-28T08:50:00",16,8,33,0,5,2,17,0,24,20,49,0,57,null,null,null,null,null,null,null,{"$f":"connected_load_plot+J1433-B1433","v":50},{"$f":"connected_load_plot+K1433-C1433","v":54},{"$f":"connected_load_plot+L1433-D1433","v":58},{"$f":"0","v":0}]
["2024-04-28T08:55:00",15,9,30,0,4,2,19,0,24,20,54,0,54,null,null,null,null,null,null,null,{"$f":"connected_load_plot+J1434-B1434","v":51},{"$f":"connected_load_plot+K1434-C1434","v":53},{"$f":"connected_load_plot+L1434-D1434","v":66},{"$f":"0","v":0}]
["2024-04-28T09:00:00",16,11,23,0,5,2,12,0,31,26,32,0,50,null,null,null,null,null,null,null,{"$f":"connected_load_plot+J1435-B1435","v":57},{"$f":"connected_load_plot+K1435-C1435","v":57},{"$f":"connected_load_plot+L1435-D1435","v":51},{"$f":"0","v":0}]
["2024-04-28T09:05:00",16,9,27,0,5,1,12,0,25,20,41,0,52,null,null,null,null,null,null,null,{"$f":"connected_load_plot+J1436-B1436","v":51},{"$f":"connected_load_plot+K1436-C1436","v":53},{"$f":"connected_load_plot+L1436-D1436","v":56},{"$f":"0","v":0}]
["2024-04-28T09:10:00",17,9,33,0,5,2,19,0,25,21,45,0,59,null,null,null,null,null,null,null,{"$f":"connected_load_plot+J1437-B1437","v":50},{"$f":"connected_load_plot+K1437-C1437","v":54},{"$f":"connected_load_plot+L1437-D1437","v":54},{"$f":"0","v":0}]
["2024-04-28T09:15:00",15,9,31,0,5,2,23,0,24,21,47,0,55,null,null,null,null,null,null,null,{"$f":"connected_load_plot+J1438-B1438","v":51},{"$f":"connected_load_plot+K1438-C1438","v":54},{"$f":"connected_load_plot+L1438-D1438","v":58},{"$f":"0","v":0}]
["2024-04-28T09:20:00",15,11,26,0,5,2,17,0,24,28,37,0,52,null,null,null,null,null,null,null,{"$f":"connected_load_plot+J1439-B1439","v":51},{"$f":"connected_load_plot+K1439-C1439","v":59},{"$f":"connected_load_plot+L1439-D1439","v":53},{"$f":"0","v":0}]
["2024-04-28T09:25:00",19,11,30,0,5,2,14,0,31,21,44,0,60,null,null,null,null,null,null,null,{"$f":"connected_load_plot+J1440-B1440","v":54},{"$f":"connected_load_plot+K1440-C1440","v":52},{"$f":"connected_load_plot+L1440-D1440","v":56},{"$f":"0","v":0}]
["2024-04-28T09:30:00",17,10,36,0,5,2,20,0,25,21,48,0,63,null,null,null,null,null,null,null,{"$f":"connected_load_plot+J1441-B1441","v":50},{"$f":"connected_load_plot+K1441-C1441","v":53},{"$f":"connected_load_plot+L1441-D1441","v":54},{"$f":"0","v":0}]
["2024-04-28T09:35:00",14,11,31,0,5,2,25,0,25,21,42,0,56,null,null,null,null,null,null,null,{"$f":"connected_load_plot+J1442-B1442","v":53},{"$f":"connected_load_plot+K1442-C1442","v":52},{"$f":"connected_load_plot+L1442-D1442","v":53},{"$f":"0","v":0}]
["2024-04-28T09:40:00",16,11,32,0,5,2,18,0,24,27,47,0,59,null,null,null,null,null,null,null,{"$f":"connected_load_plot+J1443-B1443","v":50},{"$f":"connected_load_plot+K1443-C1443","v":58},{"$f":"connected_load_plot+L1443-D1443","v":57},{"$f":"0","v":0}]
["2024-04-28T09:45:00",16,9,32,0,5,2,19,0,24,27,47,0,57,null,null,null,null,null,null,null,{"$f":"connected_load_plot+J1444-B1444","v":50},{"$f":"connected_load_plot+K1444-C1444","v":60},{"$f":"connected_load_plot+L1444-D1444","v":57},{"$f":"0","v":0}]
["2024-04-28T09:50:00",15,10,25,0,5,2,17,0,24,21,36,0,50,null,null,null,null,null,null,null,{"$f":"connected_load_plot+J1445-B1445","v":51},{"$f":"connected_load_plot+K1445-C1445","v":53},{"$f":"connected_load_plot+L1445-D1445","v":53},{"$f":"0","v":0}]
["2024-04-28T09:55:00",15,11,26,0,5,2,13,0,25,21,42,0,52,null,null,null,null,null,null,null,{"$f":"connected_load_plot+J1446-B1446","v":52},{"$f":"connected_load_plot+K1446-C1446","v":52},{"$f":"connected_load_plot+L1446-D1446","v":58},{"$f":"0","v":0}]
["2024-04-28T10:00:00",17,10,34,0,5,2,25,0,25,21,48,0,61,null,null,null,null,null,null,null,{"$f":"connected_load_plot+J1447-B1447","v":50},{"$f":"connected_load_plot+K1447-C1447","v":53},{"$f":"connected_load_plot+L1447-D1447","v":56},{"$f":"0","v":0}]
["2024-04-28T10:05:00",21,11,34,0,5,2,18,0,33,27,44,0,66,null,null,null,null,null,null,null,{"$f":"connected_load_plot+J1448-B1448","v":54},{"$f":"connected_load_plot+K1448-C1448","v":58},{"$f":"connected_load_plot+L1448-D1448","v":52},{"$f":"0","v":0}]
["2024-04-28T10:10:00",20,12,27,0,5,2,18,0,39,27,37,0,59,null,null,null,null,null,null,null,{"$f":"connected_load_plot+J1449-B1449","v":61},{"$f":"connected_load_plot+K1449-C1449","v":57},{"$f":"connected_load_plot+L1449-D1449","v":52},{"$f":"0","v":0}]
["2024-04-28T10:15:00",17,9,30,0,5,2,21,0,25,21,47,0,56,null,null,null,null,null,null,null,{"$f":"connected_load_plot+J1450-B1450","v":50},{"$f":"connected_load_plot+K1450-C1450","v":54},{"$f":"connected_load_plot+L1450-D1450","v":59},{"$f":"0","v":0}]
["2024-04-28T10:20:00",16,10,33,0,5,2,22,0,24,21,48,0,59,null,null,null,null,null,null,null,{"$f":"connected_load_plot+J1451-B1451","v":50},{"$f":"connected_load_plot+K1451-C1451","v":53},{"$f":"connected_load_plot+L1451-D1451","v":57},{"$f":"0","v":0}]
["2024-04-28T10:25:00",16,11,29,0,5,2,15,0,25,22,47,0,56,null,null,null,null,null,null,null,{"$f":"connected_load_plot+J1452-B1452","v":51},{"$f":"connected_load_plot+K1452-C1452","v":53},{"$f":"connected_load_plot+L1452-D1452","v":60},{"$f":"0","v":0}]
["2024-04-28T10:30:00",16,12,25,0,5,2,14,0,24,27,35,0,53,null,null,null,null,null,null,null,{"$f":"connected_load_plot+J1453-B1453","v":50},{"$f":"connected_load_plot+K1453-C1453","v":57},{"$f":"connected_load_plot+L1453-D1453","v":52},{"$f":"0","v":0}]
["2024-04-28T10:35:00",15,11,30,0,4,2,20,0,24,22,42,0,56,null,null,null,null,null,null,null,{"$f":"connected_load_plot+J1454-B1454","v":51},{"$f":"connected_load_plot+K1454-C1454","v":53},{"$f":"connected_load_plot+L1454-D1454","v":54},{"$f":"0","v":0}]
["2024-04-28T10:40:00",16,14,34,0,4,2,21,0,24,28,49,0,64,null,null,null,null,null,null,null,{"$f":"connected_load_plot+J1455-B1455","v":50},{"$f":"connected_load_plot+K1455-C1455","v":56},{"$f":"connected_load_plot+L1455-D1455","v":57},{"$f":"0","v":0}]
["2024-04-28T10:45:00",15,11,26,0,4,2,14,0,24,22,40,0,52,null,null,null,null,null,null,null,{"$f":"connected_load_plot+J1456-B1456","v":51},{"$f":"connected_load_plot+K1456-C1456","v":53},{"$f":"connected_load_plot+L1456-D1456","v":56},{"$f":"0","v":0}]
["2024-04-28T10:50:00",16,10,26,0,4,2,14,0,24,22,34,0,52,null,null,null,null,null,null,null,{"$f":"connected_load_plot+J1457-B1457","v":50},{"$f":"connected_load_plot+K1457-C1457","v":54},{"$f":"connected_load_plot+L1457-D1457","v":50},{"$f":"0","v":0}]
["2024-04-28T10:55:00",17,12,30,0,5,2,21,0,30,28,41,0,59,null,null,null,null,null,null,null,{"$f":"connected_load_plot+J1458-B1458","v":55},{"$f":"connected_load_plot+K1458-C1458","v":58},{"$f":"connected_load_plot+L1458-D1458","v":53},{"$f":"0","v":0}]
["2024-04-28T11:00:00",17,11,28,0,5,2,20,0,25,29,41,0,56,null,null,null,null,null,null,null,{"$f":"connected_load_plot+J1459-B1459","v":50},{"$f":"connected_load_plot+K1459-C1459","v":60},{"$f":"connected_load_plot+L1459-D1459","v":55},{"$f":"0","v":0}]
["2024-04-28T11:05:00",22,9,25,0,5,2,13,0,32,22,33,0,56,null,null,null,null,null,null,null,{"$f":"connected_load_plot+J1460-B1460","v":52},{"$f":"connected_load_plot+K1460-C1460","v":55},{"$f":"connected_load_plot+L1460-D1460","v":50},{"$f":"0","v":0}]
["2024-04-28T11:10:00",17,11,29,0,5,2,20,0,24,29,40,0,57,null,null,null,null,null,null,null,{"$f":"connected_load_plot+J1461-B1461","v":49},{"$f":"connected_load_plot+K1461-C1461","v":60},{"$f":"connected_load_plot+L1461-D1461","v":53},{"$f":"0","v":0}]
["2024-04-28T11:15:00",16,16,32,0,5,3,20,0,24,35,47,0,64,null,null,null,null,null,null,null,{"$f":"connected_load_plot+J1462-B1462","v":50},{"$f":"connected_load_plot+K1462-C1462","v":61},{"$f":"connected_load_plot+L1462-D1462","v":57},{"$f":"0","v":0}]
["2024-04-28T11:20:00",15,12,28,0,5,2,20,0,24,29,40,0,55,null,null,null,null,null,null,null,{"$f":"connected_load_plot+J1463-B1463","v":51},{"$f":"connected_load_plot+K1463-C1463","v":59},{"$f":"connected_load_plot+L1463-D1463","v":54},{"$f":"0","v":0}]
["2024-04-28T11:25:00",16,8,24,0,5,2,13,0,30,20,27,0,48,null,null,null,null,null,null,null,{"$f":"connected_load_plot+J1464-B1464","v":56},{"$f":"connected_load_plot+K1464-C1464","v":54},{"$f":"connected_load_plot+L1464-D1464","v":45},{"$f":"0","v":0}]
["2024-04-28T11:30:00",16,10,27,0,5,1,20,0,25,20,40,0,53,null,null,null,null,null,null,null,{"$f":"connected_load_plot+J1465-B1465","v":51},{"$f":"connected_load_plot+K1465-C1465","v":52},{"$f":"connected_load_plot+L1465-D1465","v":55},{"$f":"0","v":0}]
["2024-04-28T11:35:00",17,10,30,0,5,2,20,0,25,27,40,0,57,null,null,null,null,null,null,null,{"$f":"connected_load_plot+J1466-B1466","v":50},{"$f":"connected_load_plot+K1466-C1466","v":59},{"$f":"connected_load_plot+L1466-D1466","v":52},{"$f":"0","v":0}]
["2024-04-28T11:40:00",17,11,29,0,5,1,20,0,32,33,40,0,57,null,null,null,null,null,null,null,{"$f":"connected_load_plot+J1467-B1467","v":57},{"$f":"connected_load_plot+K1467-C1467","v":64},{"$f":"connected_load_plot+L1467-D1467","v":53},{"$f":"0","v":0}]
["2024-04-28T11:45:00",14,9,28,0,5,1,20,0,24,27,34,0,51,null,null,null,null,null,null,null,{"$f":"connected_load_plot+J1468-B1468","v":52},{"$f":"connected_load_plot+K1468-C1468","v":60},{"$f":"connected_load_plot+L1468-D1468","v":48},{"$f":"0","v":0}]
["2024-04-28T11:50:00",15,13,30,0,5,2,20,0,25,27,40,0,58,null,null,null,null,null,null,null,{"$f":"connected_load_plot+J1469-B1469","v":52},{"$f":"connected_load_plot+K1469-C1469","v":56},{"$f":"connected_load_plot+L1469-D1469","v":52},{"$f":"0","v":0}]
["2024-04-28T11:55:00",17,12,30,0,5,2,20,0,25,27,40,0,59,null,null,null,null,null,null,null,{"$f":"connected_load_plot+J1470-B1470","v":50},{"$f":"connected_load_plot+K1470-C1470","v":57},{"$f":"connected_load_plot+L1470-D1470","v":52},{"$f":"0","v":0}]
["2024-04-28T12:00:00",18,10,30,0,5,2,20,0,38,20,46,0,58,null,null,null,null,null,null,null,{"$f":"connected_load_plot+J1471-B1471","v":62},{"$f":"connected_load_plot+K1471-C1471","v":52},{"$f":"connected_load_plot+L1471-D1471","v":58},{"$f":"0","v":0}]
["2024-04-28T12:05:00",17,10,29,0,4,1,20,0,31,33,46,0,56,null,null,null,null,null,null,null,{"$f":"connected_load_plot+J1472-B1472","v":56},{"$f":"connected_load_plot+K1472-C1472","v":65},{"$f":"connected_load_plot+L1472-D1472","v":59},{"$f":"0","v":0}]
["2024-04-28T12:10:00",23,11,31,0,10,2,26,0,38,27,46,0,65,null,null,null,null,null,null,null,{"$f":"connected_load_plot+J1473-B1473","v":57},{"$f":"connected_load_plot+K1473-C1473","v":58},{"$f":"connected_load_plot+L1473-D1473","v":57},{"$f":"0","v":0}]
["2024-04-28T12:15:00",21,9,29,0,11,2,20,0,31,27,40,0,59,null,null,null,null,null,null,null,{"$f":"connected_load_plot+J1474-B1474","v":52},{"$f":"connected_load_plot+K1474-C1474","v":60},{"$f":"connected_load_plot+L1474-D1474","v":53},{"$f":"0","v":0}]
["2024-04-28T12:20:00",21,9,29,0,11,1,20,0,31,27,36,0,{"$f":"SUM(B1475:D1475)","v":59},null,null,null,null,null,null,null,{"$f":"connected_load_plot+J1475-B1475","v":52},{"$f":"connected_load_plot+K1475-C1475","v":60},{"$f":"connected_load_plot+L1475-D1475","v":49},{"$f":"0","v":0}]
["2024-04-28T12:25:00",22,9,34,0,11,2,23,0,32,27,49,0,65,null,null,null,null,null,null,null,{"$f":"connected_load_plot+J1476-B1476","v":52},{"$f":"connected_load_plot+K1476-C1476","v":60},{"$f":"connected_load_plot+L1476-D1476","v":57},{"$f":"0","v":0}]
["2024-04-28T12:30:00",22,9,33,0,11,2,23,0,31,27,49,0,64,null,null,null,null,null,null,null,{"$f":"connected_load_plot+J1477-B1477","v":51},{"$f":"connected_load_plot+K1477-C1477","v":60},{"$f":"connected_load_plot+L1477-D1477","v":58},{"$f":"0","v":0}]
["2024-04-28T12:35:00",20,11,31,0,10,1,22,0,30,26,36,0,62,null,null,null,null,null,null,null,{"$f":"connected_load_plot+J1478-B1478","v":52},{"$f":"connected_load_plot+K1478-C1478","v":57},{"$f":"connected_load_plot+L1478-D1478","v":47},{"$f":"0","v":0}]
["2024-04-28T12:40:00",19,7,27,0,10,1,14,0,30,19,39,0,53,null,null,null,null,null,null,null,{"$f":"connected_load_plot+J1479-B1479","v":53},{"$f":"connected_load_plot+K1479-C1479","v":54},{"$f":"connected_load_plot+L1479-D1479","v":54},{"$f":"0","v":0}]
["2024-04-28T12:45:00",21,6,29,0,10,1,20,0,39,13,40,0,56,null,null,null,null,null,null,null,{"$f":"connected_load_plot+J1480-B1480","v":60},{"$f":"connected_load_plot+K1480-C1480","v":49},{"$f":"connected_load_plot+L1480-D1480","v":53},{"$f":"0","v":0}]
["2024-04-28T12:50:00",21,11,27,0,10,2,20,0,38,25,39,0,59,null,null,null,null,null,null,null,{"$f":"connected_load_plot+J1481-B1481","v":59},{"$f":"connected_load_plot+K1481-C1481","v":56},{"$f":"connected_load_plot+L1481-D1481","v":54},{"$f":"0","v":0}]
["2024-04-28T12:55:00",21,11,29,0,9,2,20,0,38,26,40,0,61,null,null,null,null,null,null,null,{"$f":"connected_load_plot+J1482-B1482","v":59},{"$f":"connected_load_plot+K1482-C1482","v":57},{"$f":"connected_load_plot+L1482-D1482","v":53},{"$f":"0","v":0}]
["2024-04-28T13:00:00",19,11,29,0,9,1,20,0,30,32,39,0,59,null,null,null,null,null,null,null,{"$f":"connected_load_plot+J1483-B1483","v":53},{"$f":"connected_load_plot+K1483-C1483","v":63},{"$f":"connected_load_plot+L1483-D1483","v":52},{"$f":"0","v":0}]
["2024-04-28T13:05:00",18,7,27,0,10,1,20,0,30,26,39,0,52,null,null,null,null,null,null,null,{"$f":"connected_load_plot+J1484-B1484","v":54},{"$f":"connected_load_plot+K1484-C1484","v":61},{"$f":"connected_load_plot+L1484-D1484","v":54},{"$f":"0","v":0}]
["2024-04-28T13:10:00",20,8,26,0,9,1,14,0,39,19,39,0,54,null,null,null,null,null,null,null,{"$f":"connected_load_plot+J1485-B1485","v":61},{"$f":"connected_load_plot+K1485-C1485","v":53},{"$f":"connected_load_plot+L1485-D1485","v":55},{"$f":"0","v":0}]
["2024-04-28T13:15:00",21,7,27,0,10,1,20,0,32,19,40,0,55,null,null,null,null,null,null,null,{"$f":"connected_load_plot+J1486-B1486","v":53},{"$f":"connected_load_plot+K1486-C1486","v":54},{"$f":"connected_load_plot+L1486-D1486","v":55},{"$f":"0","v":0}]
["2024-04-28T13:20:00",18,7,27,0,10,2,20,0,30,19,39,0,52,null,null,null,null,null,null,null,{"$f":"connected_load_plot+J1487-B1487","v":54},{"$f":"connected_load_plot+K1487-C1487","v":54},{"$f":"connected_load_plot+L1487-D1487","v":54},{"$f":"0","v":0}]
["2024-04-28T13:25:00",19,9,28,0,9,1,20,0,38,22,39,0,56,null,null,null,null,null,null,null,{"$f":"connected_load_plot+J1488-B1488","v":61},{"$f":"connected_load_plot+K1488-C1488","v":55},{"$f":"connected_load_plot+L1488-D1488","v":53},{"$f":"0","v":0}]
["2024-04-28T13:30:00",20,6,27,0,10,1,19,0,32,19,33,0,53,null,null,null,null,null,null,null,{"$f":"connected_load_plot+J1489-B1489","v":54},{"$f":"connected_load_plot+K1489-C1489","v":55},{"$f":"connected_load_plot+L1489-D1489","v":48},{"$f":"0","v":0}]
["2024-04-28T13:35:00",24,7,28,0,10,1,19,0,38,19,39,0,59,null,null,null,null,null,null,null,{"$f":"connected_load_plot+J1490-B1490","v":56},{"$f":"connected_load_plot+K1490-C1490","v":54},{"$f":"connected_load_plot+L1490-D1490","v":53},{"$f":"0","v":0}]
["2024-04-28T13:40:00",22,7,27,0,10,1,20,0,39,19,39,0,56,null,null,null,null,null,null,null,{"$f":"connected_load_plot+J1491-B1491","v":59},{"$f":"connected_load_plot+K1491-C1491","v":54},{"$f":"connected_load_plot+L1491-D1491","v":54},{"$f":"0","v":0}]
["2024-04-28T13:45:00",20,7,25,0,10,1,19,0,31,19,32,0,52,null,null,null,null,null,null,null,{"$f":"connected_load_plot+J1492-B1492","v":53},{"$f":"connected_load_plot+K1492-C1492","v":54},{"$f":"connected_load_plot+L1492-D1492","v":49},{"$f":"0","v":0}]
["2024-04-28T13:50:00",21,9,26,0,10,1,19,0,31,25,33,0,56,null,null,null,null,null,null,null,{"$f":"connected_load_plot+J1493-B1493","v":52},{"$f":"connected_load_plot+K1493-C1493","v":58},{"$f":"connected_load_plot+L1493-D1493","v":49},{"$f":"0","v":0}]
["2024-04-28T13:55:00",23,7,28,0,10,1,19,0,31,19,39,0,58,null,null,null,null,null,null,null,{"$f":"connected_load_plot+J1494-B1494","v":50},{"$f":"connected_load_plot+K1494-C1494","v":54},{"$f":"connected_load_plot+L1494-D1494","v":53},{"$f":"0","v":0}]
["2024-04-28T14:00:00",21,4,28,0,11,1,19,0,30,19,39,0,53,null,null,null,null,null,null,null,{"$f":"connected_load_plot+J1495-B1495","v":51},{"$f":"connected_load_plot+K1495-C1495","v":57},{"$f":"connected_load_plot+L1495-D1495","v":53},{"$f":"0","v":0}]
["2024-04-28T14:05:00",19,5,26,0,10,1,19,0,30,13,33,0,50,null,null,null,null,null,null,null,{"$f":"connected_load_plot+J1496-B1496","v":53},{"$f":"connected_load_plot+K1496-C1496","v":50},{"$f":"connected_load_plot+L1496-D1496","v":49},{"$f":"0","v":0}]
["2024-04-28T14:10:00",20,8,26,0,10,1,19,0,30,19,39,0,54,null,null,null,null,null,null,null,{"$f":"connected_load_plot+J1497-B1497","v":52},{"$f":"connected_load_plot+K1497-C1497","v":53},{"$f":"connected_load_plot+L1497-D1497","v":55},{"$f":"0","v":0}]
["2024-04-28T14:15:00",19,8,28,0,10,1,20,0,30,19,43,0,55,null,null,null,null,null,null,null,{"$f":"connected_load_plot+J1498-B1498","v":53},{"$f":"connected_load_plot+K1498-C1498","v":53},{"$f":"connected_load_plot+L1498-D1498","v":57},{"$f":"0","v":0}]
["2024-04-28T14:20:00",21,7,25,0,10,1,17,0,30,19,37,0,53,null,null,null,null,null,null,null,{"$f":"connected_load_plot+J1499-B1499","v":51},{"$f":"connected_load_plot+K1499-C1499","v":54},{"$f":"connected_load_plot+L1499-D1499","v":54},{"$f":"0","v":0}]
["2024-04-28T14:25:00",22,7,26,0,10,1,17,0,37,21,36,0,55,null,null,null,null,null,null,null,{"$f":"connected_load_plot+J1500-B1500","v":57},{"$f":"connected_load_plot+K1500-C1500","v":56},{"$f":"connected_load_plot+L1500-D1500","v":52},{"$f":"0","v":0}]
["2024-04-28T14:30:00",26,5,24,0,17,1,14,0,37,15,34,0,55,null,null,null,null,null,null,null,{"$f":"connected_load_plot+J1501-B1501","v":53},{"$f":"connected_load_plot+K1501-C1501","v":52},{"$f":"connected_load_plot+L1501-D1501","v":52},{"$f":"0","v":0}]
["2024-04-28T14:35:00",25,8,27,0,17,1,13,0,37,19,41,0,60,null,null,null,null,null,null,null,{"$f":"connected_load_plot+J1502-B1502","v":54},{"$f":"connected_load_plot+K1502-C1502","v":53},{"$f":"connected_load_plot+L1502-D1502","v":56},{"$f":"0","v":0}]
["2024-04-28T14:40:00",19,6,29,0,10,1,16,0,31,19,40,0,54,null,null,null,null,null,null,null,{"$f":"connected_load_plot+J1503-B1503","v":54},{"$f":"connected_load_plot+K1503-C1503","v":55},{"$f":"connected_load_plot+L1503-D1503","v":53},{"$f":"0","v":0}]
["2024-04-28T14:45:00",17,6,27,0,9,1,13,0,24,13,41,0,50,null,null,null,null,null,null,null,{"$f":"connected_load_plot+J1504-B1504","v":49},{"$f":"connected_load_plot+K1504-C1504","v":49},{"$f":"connected_load_plot+L1504-D1504","v":56},{"$f":"0","v":0}]
["2024-04-28T14:50:00",14,5,28,0,10,1,19,0,28,13,41,0,47,null,null,null,null,null,null,null,{"$f":"connected_load_plot+J1505-B1505","v":56},{"$f":"connected_load_plot+K1505-C1505","v":50},{"$f":"connected_load_plot+L1505-D1505","v":55},{"$f":"0","v":0}]
["2024-04-28T14:55:00",16,7,27,0,10,1,19,0,24,19,33,0,50,null,null,null,null,null,null,null,{"$f":"connected_load_plot+J1506-B1506","v":50},{"$f":"connected_load_plot+K1506-C1506","v":54},{"$f":"connected_load_plot+L1506-D1506","v":48},{"$f":"0","v":0}]
["2024-04-28T15:00:00",15,9,26,0,10,1,13,0,24,26,33,0,50,null,null,null,null,null,null,null,{"$f":"connected_load_plot+J1507-B1507","v":51},{"$f":"connected_load_plot+K1507-C1507","v":59},{"$f":"connected_load_plot+L1507-D1507","v":49},{"$f":"0","v":0}]
["2024-04-28T15:05:00",16,8,25,0,10,1,19,0,30,26,39,0,49,null,null,null,null,null,null,null,{"$f":"connected_load_plot+J1508-B1508","v":56},{"$f":"connected_load_plot+K1508-C1508","v":60},{"$f":"connected_load_plot+L1508-D1508","v":56},{"$f":"0","v":0}]
["2024-04-28T15:10:00",16,8,26,0,9,2,19,0,24,19,33,0,50,null,null,null,null,null,null,null,{"$f":"connected_load_plot+J1509-B1509","v":50},{"$f":"connected_load_plot+K1509-C1509","v":53},{"$f":"connected_load_plot+L1509-D1509","v":49},{"$f":"0","v":0}]
["2024-04-28T15:15:00",15,10,27,0,9,1,19,0,24,26,37,0,52,null,null,null,null,null,null,null,{"$f":"connected_load_plot+J1510-B1510","v":51},{"$f":"connected_load_plot+K1510-C1510","v":58},{"$f":"connected_load_plot+L1510-D1510","v":52},{"$f":"0","v":0}]
["2024-04-28T15:20:00",14,13,27,0,9,1,20,0,23,26,34,0,54,null,null,null,null,null,null,null,{"$f":"connected_load_plot+J1511-B1511","v":51},{"$f":"connected_load_plot+K1511-C1511","v":55},{"$f":"connected_load_plot+L1511-D1511","v":49},{"$f":"0","v":0}]
["2024-04-28T15:25:00",16,11,27,0,8,2,19,0,24,26,40,0,54,null,null,null,null,null,null,null,{"$f":"connected_load_plot+J1512-B1512","v":50},{"$f":"connected_load_plot+K1512-C1512","v":57},{"$f":"connected_load_plot+L1512-D1512","v":55},{"$f":"0","v":0}]
["2024-04-28T15:30:00",22,16,24,0,16,2,13,0,31,32,33,0,62,null,null,null,null,null,null,null,{"$f":"connected_load_plot+J1513-B1513","v":51},{"$f":"connected_load_plot+K1513-C1513","v":58},{"$f":"connected_load_plot+L1513-D1513","v":51},{"$f":"0","v":0}]
["2024-04-28T15:35:00",23,19,25,0,17,1,13,0,31,34,33,0,67,null,null,null,null,null,null,null,{"$f":"connected_load_plot+J1514-B1514","v":50},{"$f":"connected_load_plot+K1514-C1514","v":57},{"$f":"connected_load_plot+L1514-D1514","v":50},{"$f":"0","v":0}]
["2024-04-28T15:40:00",22,13,26,0,16,2,19,0,31,32,39,0,61,null,null,null,null,null,null,null,{"$f":"connected_load_plot+J1515-B1515","v":51},{"$f":"connected_load_plot+K1515-C1515","v":61},{"$f":"connected_load_plot+L1515-D1515","v":55},{"$f":"0","v":0}]
["2024-04-28T15:45:00",18,13,24,0,9,1,13,0,31,26,33,0,55,null,null,null,null,null,null,null,{"$f":"connected_load_plot+J1516-B1516","v":55},{"$f":"connected_load_plot+K1516-C1516","v":55},{"$f":"connected_load_plot+L1516-D1516","v":51},{"$f":"0","v":0}]
["2024-04-28T15:50:00",15,15,25,0,9,1,13,0,23,27,33,0,55,null,null,null,null,null,null,null,{"$f":"connected_load_plot+J1517-B1517","v":50},{"$f":"connected_load_plot+K1517-C1517","v":54},{"$f":"connected_load_plot+L1517-D1517","v":50},{"$f":"0","v":0}]
["2024-04-28T15:55:00",16,14,27,0,9,1,19,0,23,26,39,0,57,null,null,null,null,null,null,null,{"$f":"connected_load_plot+J1518-B1518","v":49},{"$f":"connected_load_plot+K1518-C1518","v":54},{"$f":"connected_load_plot+L1518-D1518","v":54},{"$f":"0","v":0}]
["2024-04-28T16:00:00",15,16,23,0,10,2,14,0,24,29,39,0,54,null,null,null,null,null,null,null,{"$f":"connected_load_plot+J1519-B1519","v":51},{"$f":"connected_load_plot+K1519-C1519","v":55},{"$f":"connected_load_plot+L1519-D1519","v":58},{"$f":"0","v":0}]
["2024-04-28T16:05:00",14,15,20,0,9,2,14,0,24,27,27,0,49,null,null,null,null,null,null,null,{"$f":"connected_load_plot+J1520-B1520","v":52},{"$f":"connected_load_plot+K1520-C1520","v":54},{"$f":"connected_load_plot+L1520-D1520","v":49},{"$f":"0","v":0}]
["2024-04-28T16:10:00",16,12,23,0,9,1,14,0,23,27,33,0,51,null,null,null,null,null,null,null,{"$f":"connected_load_plot+J1521-B1521","v":49},{"$f":"connected_load_plot+K1521-C1521","v":57},{"$f":"connected_load_plot+L1521-D1521","v":52},{"$f":"0","v":0}]
["2024-04-28T16:15:00",15,13,26,0,9,2,19,0,23,26,33,0,54,null,null,null,null,null,null,null,{"$f":"connected_load_plot+J1522-B1522","v":50},{"$f":"connected_load_plot+K1522-C1522","v":55},{"$f":"connected_load_plot+L1522-D1522","v":49},{"$f":"0","v":0}]
["2024-04-28T16:20:00",14,13,27,0,9,2,19,0,23,26,39,0,54,null,null,null,null,null,null,null,{"$f":"connected_load_plot+J1523-B1523","v":51},{"$f":"connected_load_plot+K1523-C1523","v":55},{"$f":"connected_load_plot+L1523-D1523","v":54},{"$f":"0","v":0}]
["2024-04-28T16:25:00",15,14,21,0,9,1,8,0,23,26,39,0,50,null,null,null,null,null,null,null,{"$f":"connected_load_plot+J1524-B1524","v":50},{"$f":"connected_load_plot+K1524-C1524","v":54},{"$f":"connected_load_plot+L1524-D1524","v":60},{"$f":"0","v":0}]
["2024-04-28T16:30:00",17,14,20,0,9,1,8,0,24,26,27,0,51,null,null,null,null,null,null,null,{"$f":"connected_load_plot+J1525-B1525","v":49},{"$f":"connected_load_plot+K1525-C1525","v":54},{"$f":"connected_load_plot+L1525-D1525","v":49},{"$f":"0","v":0}]
["2024-04-28T16:35:00",15,13,17,0,9,1,7,0,24,26,27,0,45,null,null,null,null,null,null,null,{"$f":"connected_load_plot+J1526-B1526","v":51},{"$f":"connected_load_plot+K1526-C1526","v":55},{"$f":"connected_load_plot+L1526-D1526","v":52},{"$f":"0","v":0}]
["2024-04-28T16:40:00",14,10,24,0,9,2,8,0,23,27,38,0,48,null,null,null,null,null,null,null,{"$f":"connected_load_plot+J1527-B1527","v":51},{"$f":"connected_load_plot+K1527-C1527","v":59},{"$f":"connected_load_plot+L1527-D1527","v":56},{"$f":"0","v":0}]
["2024-04-28T16:45:00",15,14,26,0,9,2,18,0,23,27,38,0,55,null,null,null,null,null,null,null,{"$f":"connected_load_plot+J1528-B1528","v":50},{"$f":"connected_load_plot+K1528-C1528","v":55},{"$f":"connected_load_plot+L1528-D1528","v":54},{"$f":"0","v":0}]
["2024-04-28T16:50:00",15,14,19,0,9,2,13,0,23,27,26,0,48,null,null,null,null,null,null,null,{"$f":"connected_load_plot+J1529-B1529","v":50},{"$f":"connected_load_plot+K1529-C1529","v":55},{"$f":"connected_load_plot+L1529-D1529","v":49},{"$f":"0","v":0}]
["2024-04-28T16:55:00",15,14,18,0,9,2,8,0,30,26,27,0,47,null,null,null,null,null,null,null,{"$f":"connected_load_plot+J1530-B1530","v":57},{"$f":"connected_load_plot+K1530-C1530","v":54},{"$f":"connected_load_plot+L1530-D1530","v":51},{"$f":"0","v":0}]
["2024-04-28T17:00:00",14,9,20,0,10,2,7,0,24,20,33,0,43,null,null,null,null,null,null,null,{"$f":"connected_load_plot+J1531-B1531","v":52},{"$f":"connected_load_plot+K1531-C1531","v":53},{"$f":"connected_load_plot+L1531-D1531","v":55},{"$f":"0","v":0}]
["2024-04-28T17:05:00",17,12,21,0,9,2,13,0,31,26,33,0,50,null,null,null,null,null,null,null,{"$f":"connected_load_plot+J1532-B1532","v":56},{"$f":"connected_load_plot+K1532-C1532","v":56},{"$f":"connected_load_plot+L1532-D1532","v":54},{"$f":"0","v":0}]
["2024-04-28T17:10:00",19,15,17,0,10,2,7,0,32,27,21,0,51,null,null,null,null,null,null,null,{"$f":"connected_load_plot+J1533-B1533","v":55},{"$f":"connected_load_plot+K1533-C1533","v":54},{"$f":"connected_load_plot+L1533-D1533","v":46},{"$f":"0","v":0}]
["2024-04-28T17:15:00",17,14,20,0,10,2,13,0,24,27,32,0,51,null,null,null,null,null,null,null,{"$f":"connected_load_plot+J1534-B1534","v":49},{"$f":"connected_load_plot+K1534-C1534","v":55},{"$f":"connected_load_plot+L1534-D1534","v":54},{"$f":"0","v":0}]
["2024-04-28T17:20:00",15,11,24,0,10,2,18,0,24,26,38,0,50,null,null,null,null,null,null,null,{"$f":"connected_load_plot+J1535-B1535","v":51},{"$f":"connected_load_plot+K1535-C1535","v":57},{"$f":"connected_load_plot+L1535-D1535","v":56},{"$f":"0","v":0}]
["2024-04-28T17:25:00",14,15,20,0,10,2,13,0,24,41,38,0,49,null,null,null,null,null,null,null,{"$f":"connected_load_plot+J1536-B1536","v":52},{"$f":"connected_load_plot+K1536-C1536","v":68},{"$f":"connected_load_plot+L1536-D1536","v":60},{"$f":"0","v":0}]
["2024-04-28T17:30:00",16,13,17,0,10,2,7,0,24,33,26,0,46,null,null,null,null,null,null,null,{"$f":"connected_load_plot+J1537-B1537","v":50},{"$f":"connected_load_plot+K1537-C1537","v":62},{"$f":"connected_load_plot+L1537-D1537","v":51},{"$f":"0","v":0}]
["2024-04-28T17:35:00",16,17,19,0,10,2,7,0,24,33,27,0,52,null,null,null,null,null,null,null,{"$f":"connected_load_plot+J1538-B1538","v":50},{"$f":"connected_load_plot+K1538-C1538","v":58},{"$f":"connected_load_plot+L1538-D1538","v":50},{"$f":"0","v":0}]
["2024-04-28T17:40:00",16,17,21,0,10,2,7,0,24,33,33,0,{"$f":"SUM(B1539:D1539)","v":54},null,null,null,null,null,null,null,{"$f":"connected_load_plot+J1539-B1539","v":50},{"$f":"connected_load_plot+K1539-C1539","v":58},{"$f":"connected_load_plot+L1539-D1539","v":54},{"$f":"0","v":0}]
["2024-04-28T17:45:00",14,15,19,0,4,6,13,0,24,26,27,0,48,null,null,null,null,null,null,null,{"$f":"connected_load_plot+J1540-B1540","v":52},{"$f":"connected_load_plot+K1540-C1540","v":53},{"$f":"connected_load_plot+L1540-D1540","v":50},{"$f":"0","v":0}]
["2024-04-28T17:50:00",7,18,16,0,4,7,7,0,17,39,26,0,41,null,null,null,null,null,null,null,{"$f":"connected_load_plot+J1541-B1541","v":52},{"$f":"connected_load_plot+K1541-C1541","v":63},{"$f":"connected_load_plot+L1541-D1541","v":52},{"$f":"0","v":0}]
["2024-04-28T17:55:00",10,18,18,0,4,7,7,0,23,38,27,0,46,null,null,null,null,null,null,null,{"$f":"connected_load_plot+J1542-B1542","v":55},{"$f":"connected_load_plot+K1542-C1542","v":62},{"$f":"connected_load_plot+L1542-D1542","v":51},{"$f":"0","v":0}]
["2024-04-28T18:00:00",10,18,19,0,4,6,7,0,18,35,28,0,47,null,null,null,null,null,null,null,{"$f":"connected_load_plot+J1543-B1543","v":50},{"$f":"connected_load_plot+K1543-C1543","v":59},{"$f":"connected_load_plot+L1543-D1543","v":51},{"$f":"0","v":0}]
["2024-04-28T18:05:00",8,17,20,0,4,7,14,0,17,32,28,0,45,null,null,null,null,null,null,null,{"$f":"connected_load_plot+J1544-B1544","v":51},{"$f":"connected_load_plot+K1544-C1544","v":57},{"$f":"connected_load_plot+L1544-D1544","v":50},{"$f":"0","v":0}]
["2024-04-28T18:10:00",9,17,21,0,4,6,15,0,18,38,31,0,47,null,null,null,null,null,null,null,{"$f":"connected_load_plot+J1545-B1545","v":51},{"$f":"connected_load_plot+K1545-C1545","v":63},{"$f":"connected_load_plot+L1545-D1545","v":52},{"$f":"0","v":0}]
["2024-04-28T18:15:00",8,15,25,0,4,6,15,0,17,32,39,0,48,null,null,null,null,null,null,null,{"$f":"connected_load_plot+J1546-B1546","v":51},{"$f":"connected_load_plot+K1546-C1546","v":59},{"$f":"connected_load_plot+L1546-D1546","v":56},{"$f":"0","v":0}]
["2024-04-28T18:20:00",10,17,25,0,4,6,15,0,18,32,35,0,52,null,null,null,null,null,null,null,{"$f":"connected_load_plot+J1547-B1547","v":50},{"$f":"connected_load_plot+K1547-C1547","v":57},{"$f":"connected_load_plot+L1547-D1547","v":52},{"$f":"0","v":0}]
["2024-04-28T18:25:00",12,15,25,0,4,6,15,0,26,26,34,0,52,null,null,null,null,null,null,null,{"$f":"connected_load_plot+J1548-B1548","v":56},{"$f":"connected_load_plot+K1548-C1548","v":53},{"$f":"connected_load_plot+L1548-D1548","v":51},{"$f":"0","v":0}]
["2024-04-28T18:30:00",9,18,25,0,4,6,15,0,17,38,35,0,52,null,null,null,null,null,null,null,{"$f":"connected_load_plot+J1549-B1549","v":50},{"$f":"connected_load_plot+K1549-C1549","v":62},{"$f":"connected_load_plot+L1549-D1549","v":52},{"$f":"0","v":0}]
["2024-04-28T18:35:00",8,16,23,0,4,6,15,0,17,38,28,0,47,null,null,null,null,null,null,null,{"$f":"connected_load_plot+J1550-B1550","v":51},{"$f":"connected_load_plot+K1550-C1550","v":64},{"$f":"connected_load_plot+L1550-D1550","v":47},{"$f":"0","v":0}]
["2024-04-28T18:40:00",9,16,23,0,4,6,11,0,17,32,34,0,48,null,null,null,null,null,null,null,{"$f":"connected_load_plot+J1551-B1551","v":50},{"$f":"connected_load_plot+K1551-C1551","v":58},{"$f":"connected_load_plot+L1551-D1551","v":53},{"$f":"0","v":0}]
["2024-04-28T18:45:00",8,17,21,0,4,6,11,0,17,26,30,0,46,null,null,null,null,null,null,null,{"$f":"connected_load_plot+J1552-B1552","v":51},{"$f":"connected_load_plot+K1552-C1552","v":51},{"$f":"connected_load_plot+L1552-D1552","v":51},{"$f":"0","v":0}]
["2024-04-28T18:50:00",10,15,20,0,4,6,11,0,18,26,30,0,45,null,null,null,null,null,null,null,{"$f":"connected_load_plot+J1553-B1553","v":50},{"$f":"connected_load_plot+K1553-C1553","v":53},{"$f":"connected_load_plot+L1553-D1553","v":52},{"$f":"0","v":0}]
["2024-04-28T18:55:00",8,17,18,0,4,6,11,0,18,32,24,0,43,null,null,null,null,null,null,null,{"$f":"connected_load_plot+J1554-B1554","v":52},{"$f":"connected_load_plot+K1554-C1554","v":57},{"$f":"connected_load_plot+L1554-D1554","v":48},{"$f":"0","v":0}]
["2024-04-28T19:00:00",10,18,19,0,4,6,11,0,17,32,30,0,47,null,null,null,null,null,null,null,{"$f":"connected_load_plot+J1555-B1555","v":49},{"$f":"connected_load_plot+K1555-C1555","v":56},{"$f":"connected_load_plot+L1555-D1555","v":53},{"$f":"0","v":0}]
["2024-04-28T19:05:00",10,18,20,0,4,6,11,0,17,38,30,0,48,null,null,null,null,null,null,null,{"$f":"connected_load_plot+J1556-B1556","v":49},{"$f":"connected_load_plot+K1556-C1556","v":62},{"$f":"connected_load_plot+L1556-D1556","v":52},{"$f":"0","v":0}]
["2024-04-28T19:10:00",9,16,18,0,4,6,11,0,18,32,24,0,43,null,null,null,null,null,null,null,{"$f":"connected_load_plot+J1557-B1557","v":51},{"$f":"connected_load_plot+K1557-C1557","v":58},{"$f":"connected_load_plot+L1557-D1557","v":48},{"$f":"0","v":0}]
["2024-04-28T19:15:00",12,14,19,0,4,6,11,0,24,26,24,0,45,null,null,null,null,null,null,null,{"$f":"connected_load_plot+J1558-B1558","v":54},{"$f":"connected_load_plot+K1558-C1558","v":54},{"$f":"connected_load_plot+L1558-D1558","v":47},{"$f":"0","v":0}]
["2024-04-28T19:20:00",20,18,20,0,10,6,11,0,32,32,30,0,58,null,null,null,null,null,null,null,{"$f":"connected_load_plot+J1559-B1559","v":54},{"$f":"connected_load_plot+K1559-C1559","v":56},{"$f":"connected_load_plot+L1559-D1559","v":52},{"$f":"0","v":0}]
["2024-04-28T19:25:00",21,17,19,0,5,6,11,0,32,32,30,0,57,null,null,null,null,null,null,null,{"$f":"connected_load_plot+J1560-B1560","v":53},{"$f":"connected_load_plot+K1560-C1560","v":57},{"$f":"connected_load_plot+L1560-D1560","v":53},{"$f":"0","v":0}]
["2024-04-28T19:30:00",14,17,18,0,4,6,11,0,32,32,24,0,49,null,null,null,null,null,null,null,{"$f":"connected_load_plot+J1561-B1561","v":60},{"$f":"connected_load_plot+K1561-C1561","v":57},{"$f":"connected_load_plot+L1561-D1561","v":48},{"$f":"0","v":0}]
["2024-04-28T19:35:00",14,18,23,0,4,6,11,0,24,38,36,0,55,null,null,null,null,null,null,null,{"$f":"connected_load_plot+J1562-B1562","v":52},{"$f":"connected_load_plot+K1562-C1562","v":62},{"$f":"connected_load_plot+L1562-D1562","v":55},{"$f":"0","v":0}]
["2024-04-28T19:40:00",14,17,27,0,4,6,16,0,24,32,36,0,58,null,null,null,null,null,null,null,{"$f":"connected_load_plot+J1563-B1563","v":52},{"$f":"connected_load_plot+K1563-C1563","v":57},{"$f":"connected_load_plot+L1563-D1563","v":51},{"$f":"0","v":0}]
["2024-04-28T19:45:00",14,18,19,0,4,6,11,0,24,32,30,0,51,null,null,null,null,null,null,null,{"$f":"connected_load_plot+J1564-B1564","v":52},{"$f":"connected_load_plot+K1564-C1564","v":56},{"$f":"connected_load_plot+L1564-D1564","v":53},{"$f":"0","v":0}]
["2024-04-28T19:50:00",15,18,21,0,4,6,12,0,24,32,26,0,54,null,null,null,null,null,null,null,{"$f":"connected_load_plot+J1565-B1565","v":51},{"$f":"connected_load_plot+K1565-C1565","v":56},{"$f":"connected_load_plot+L1565-D1565","v":47},{"$f":"0","v":0}]
["2024-04-28T19:55:00",13,18,22,0,4,6,12,0,23,38,32,0,53,null,null,null,null,null,null,null,{"$f":"connected_load_plot+J1566-B1566","v":52},{"$f":"connected_load_plot+K1566-C1566","v":62},{"$f":"connected_load_plot+L1566-D1566","v":52},{"$f":"0","v":0}]
["2024-04-28T20:00:00",13,17,24,0,4,6,12,0,24,26,32,0,54,null,null,null,null,null,null,null,{"$f":"connected_load_plot+J1567-B1567","v":53},{"$f":"connected_load_plot+K1567-C1567","v":51},{"$f":"connected_load_plot+L1567-D1567","v":50},{"$f":"0","v":0}]
["2024-04-28T20:05:00",16,17,21,0,5,6,12,0,24,38,26,0,54,null,null,null,null,null,null,null,{"$f":"connected_load_plot+J1568-B1568","v":50},{"$f":"connected_load_plot+K1568-C1568","v":63},{"$f":"connected_load_plot+L1568-D1568","v":47},{"$f":"0","v":0}]
["2024-04-28T20:10:00",15,16,23,0,5,6,12,0,24,32,31,0,54,null,null,null,null,null,null,null,{"$f":"connected_load_plot+J1569-B1569","v":51},{"$f":"connected_load_plot+K1569-C1569","v":58},{"$f":"connected_load_plot+L1569-D1569","v":50},{"$f":"0","v":0}]
["2024-04-28T20:15:00",15,18,29,0,10,6,18,0,24,32,37,0,62,null,null,null,null,null,null,null,{"$f":"connected_load_plot+J1570-B1570","v":51},{"$f":"connected_load_plot+K1570-C1570","v":56},{"$f":"connected_load_plot+L1570-D1570","v":50},{"$f":"0","v":0}]
["2024-04-28T20:20:00",16,19,25,0,10,12,18,0,24,32,37,0,60,null,null,null,null,null,null,null,{"$f":"connected_load_plot+J1571-B1571","v":50},{"$f":"connected_load_plot+K1571-C1571","v":55},{"$f":"connected_load_plot+L1571-D1571","v":54},{"$f":"0","v":0}]
["2024-04-28T20:25:00",18,18,22,0,11,6,12,0,25,38,32,0,58,null,null,null,null,null,null,null,{"$f":"connected_load_plot+J1572-B1572","v":49},{"$f":"connected_load_plot+K1572-C1572","v":62},{"$f":"connected_load_plot+L1572-D1572","v":52},{"$f":"0","v":0}]
["2024-04-28T20:30:00",17,18,22,0,12,6,12,0,25,38,32,0,57,null,null,null,null,null,null,null,{"$f":"connected_load_plot+J1573-B1573","v":50},{"$f":"connected_load_plot+K1573-C1573","v":62},{"$f":"connected_load_plot+L1573-D1573","v":52},{"$f":"0","v":0}]
["2024-04-28T20:35:00",17,16,22,0,12,6,12,0,25,32,32,0,55,null,null,null,null,null,null,null,{"$f":"connected_load_plot+J1574-B1574","v":50},{"$f":"connected_load_plot+K1574-C1574","v":58},{"$f":"connected_load_plot+L1574-D1574","v":52},{"$f":"0","v":0}]
["2024-04-28T20:40:00",19,20,26,0,12,12,12,0,31,32,31,0,65,null,null,null,null,null,null,null,{"$f":"connected_load_plot+J1575-B1575","v":54},{"$f":"connected_load_plot+K1575-C1575","v":54},{"$f":"connected_load_plot+L1575-D1575","v":47},{"$f":"0","v":0}]
["2024-04-28T20:45:00",17,18,27,0,12,6,17,0,25,26,31,0,62,null,null,null,null,null,null,null,{"$f":"connected_load_plot+J1576-B1576","v":50},{"$f":"connected_load_plot+K1576-C1576","v":50},{"$f":"connected_load_plot+L1576-D1576","v":46},{"$f":"0","v":0}]
["2024-04-28T20:50:00",18,19,23,0,12,6,12,0,25,38,32,0,60,null,null,null,null,null,null,null,{"$f":"connected_load_plot+J1577-B1577","v":49},{"$f":"connected_load_plot+K1577-C1577","v":61},{"$f":"connected_load_plot+L1577-D1577","v":51},{"$f":"0","v":0}]
["2024-04-28T20:55:00",19,18,22,0,12,6,12,0,25,38,32,0,59,null,null,null,null,null,null,null,{"$f":"connected_load_plot+J1578-B1578","v":48},{"$f":"connected_load_plot+K1578-C1578","v":62},{"$f":"connected_load_plot+L1578-D1578","v":52},{"$f":"0","v":0}]
["2024-04-28T21:00:00",16,19,21,0,12,6,12,0,25,38,32,0,56,null,null,null,null,null,null,null,{"$f":"connected_load_plot+J1579-B1579","v":51},{"$f":"connected_load_plot+K1579-C1579","v":61},{"$f":"connected_load_plot+L1579-D1579","v":53},{"$f":"0","v":0}]
["2024-04-28T21:05:00",16,19,26,0,12,6,12,0,26,32,43,0,61,null,null,null,null,null,null,null,{"$f":"connected_load_plot+J1580-B1580","v":52},{"$f":"connected_load_plot+K1580-C1580","v":55},{"$f":"connected_load_plot+L1580-D1580","v":59},{"$f":"0","v":0}]
["2024-04-28T21:10:00",20,16,28,0,12,6,17,0,26,31,43,0,64,null,null,null,null,null,null,null,{"$f":"connected_load_plot+J1581-B1581","v":48},{"$f":"connected_load_plot+K1581-C1581","v":57},{"$f":"connected_load_plot+L1581-D1581","v":57},{"$f":"0","v":0}]
["2024-04-28T21:15:00",19,17,23,0,12,6,12,0,25,38,31,0,59,null,null,null,null,null,null,null,{"$f":"connected_load_plot+J1582-B1582","v":48},{"$f":"connected_load_plot+K1582-C1582","v":63},{"$f":"connected_load_plot+L1582-D1582","v":50},{"$f":"0","v":0}]
["2024-04-28T21:20:00",17,19,20,0,12,6,12,0,25,38,25,0,56,null,null,null,null,null,null,null,{"$f":"connected_load_plot+J1583-B1583","v":50},{"$f":"connected_load_plot+K1583-C1583","v":61},{"$f":"connected_load_plot+L1583-D1583","v":47},{"$f":"0","v":0}]
["2024-04-28T21:25:00",18,20,20,0,12,6,12,0,25,38,31,0,58,null,null,null,null,null,null,null,{"$f":"connected_load_plot+J1584-B1584","v":49},{"$f":"connected_load_plot+K1584-C1584","v":60},{"$f":"connected_load_plot+L1584-D1584","v":53},{"$f":"0","v":0}]
["2024-04-28T21:30:00",18,15,23,0,12,1,12,0,25,25,37,0,56,null,null,null,null,null,null,null,{"$f":"connected_load_plot+J1585-B1585","v":49},{"$f":"connected_load_plot+K1585-C1585","v":52},{"$f":"connected_load_plot+L1585-D1585","v":56},{"$f":"0","v":0}]
["2024-04-28T21:35:00",19,17,27,0,12,6,17,0,25,31,37,0,63,null,null,null,null,null,null,null,{"$f":"connected_load_plot+J1586-B1586","v":48},{"$f":"connected_load_plot+K1586-C1586","v":56},{"$f":"connected_load_plot+L1586-D1586","v":52},{"$f":"0","v":0}]
["2024-04-28T21:40:00",18,19,27,0,11,6,12,0,25,32,37,0,64,null,null,null,null,null,null,null,{"$f":"connected_load_plot+J1587-B1587","v":49},{"$f":"connected_load_plot+K1587-C1587","v":55},{"$f":"connected_load_plot+L1587-D1587","v":52},{"$f":"0","v":0}]
["2024-04-28T21:45:00",17,20,24,0,11,12,12,0,25,38,38,0,61,null,null,null,null,null,null,null,{"$f":"connected_load_plot+J1588-B1588","v":50},{"$f":"connected_load_plot+K1588-C1588","v":60},{"$f":"connected_load_plot+L1588-D1588","v":56},{"$f":"0","v":0}]
["2024-04-28T21:50:00",18,18,23,0,12,2,12,0,25,38,34,0,59,null,null,null,null,null,null,null,{"$f":"connected_load_plot+J1589-B1589","v":49},{"$f":"connected_load_plot+K1589-C1589","v":62},{"$f":"connected_load_plot+L1589-D1589","v":53},{"$f":"0","v":0}]
["2024-04-28T21:55:00",18,17,22,0,12,1,12,0,25,33,33,0,57,null,null,null,null,null,null,null,{"$f":"connected_load_plot+J1590-B1590","v":49},{"$f":"connected_load_plot+K1590-C1590","v":58},{"$f":"connected_load_plot+L1590-D1590","v":53},{"$f":"0","v":0}]
["2024-04-28T22:00:00",18,19,29,0,12,7,23,0,25,33,37,0,66,null,null,null,null,null,null,null,{"$f":"connected_load_plot+J1591-B1591","v":49},{"$f":"connected_load_plot+K1591-C1591","v":56},{"$f":"connected_load_plot+L1591-D1591","v":50},{"$f":"0","v":0}]
["2024-04-28T22:05:00",18,21,26,0,12,13,12,0,26,33,37,0,65,null,null,null,null,null,null,null,{"$f":"connected_load_plot+J1592-B1592","v":50},{"$f":"connected_load_plot+K1592-C1592","v":54},{"$f":"connected_load_plot+L1592-D1592","v":53},{"$f":"0","v":0}]
["2024-04-28T22:10:00",18,19,22,0,12,2,12,0,26,33,26,0,59,null,null,null,null,null,null,null,{"$f":"connected_load_plot+J1593-B1593","v":50},{"$f":"connected_load_plot+K1593-C1593","v":56},{"$f":"connected_load_plot+L1593-D1593","v":46},{"$f":"0","v":0}]
["2024-04-28T22:15:00",18,20,21,0,12,2,12,0,25,34,32,0,59,null,null,null,null,null,null,null,{"$f":"connected_load_plot+J1594-B1594","v":49},{"$f":"connected_load_plot+K1594-C1594","v":56},{"$f":"connected_load_plot+L1594-D1594","v":53},{"$f":"0","v":0}]
["2024-04-28T22:20:00",17,22,29,0,11,7,17,0,24,33,38,0,68,null,null,null,null,null,null,null,{"$f":"connected_load_plot+J1595-B1595","v":49},{"$f":"connected_load_plot+K1595-C1595","v":53},{"$f":"connected_load_plot+L1595-D1595","v":51},{"$f":"0","v":0}]
["2024-04-28T22:25:00",18,20,26,0,11,7,17,0,24,33,37,0,64,null,null,null,null,null,null,null,{"$f":"connected_load_plot+J1596-B1596","v":48},{"$f":"connected_load_plot+K1596-C1596","v":55},{"$f":"connected_load_plot+L1596-D1596","v":53},{"$f":"0","v":0}]
["2024-04-28T22:30:00",16,16,21,0,11,2,11,0,25,27,32,0,53,null,null,null,null,null,null,null,{"$f":"connected_load_plot+J1597-B1597","v":51},{"$f":"connected_load_plot+K1597-C1597","v":53},{"$f":"connected_load_plot+L1597-D1597","v":53},{"$f":"0","v":0}]
["2024-04-28T22:35:00",19,22,20,0,11,8,11,0,25,34,31,0,61,null,null,null,null,null,null,null,{"$f":"connected_load_plot+J1598-B1598","v":48},{"$f":"connected_load_plot+K1598-C1598","v":54},{"$f":"connected_load_plot+L1598-D1598","v":53},{"$f":"0","v":0}]
["2024-04-28T22:40:00",18,24,23,0,11,14,12,0,24,34,38,0,65,null,null,null,null,null,null,null,{"$f":"connected_load_plot+J1599-B1599","v":48},{"$f":"connected_load_plot+K1599-C1599","v":52},{"$f":"connected_load_plot+L1599-D1599","v":57},{"$f":"0","v":0}]
["2024-04-28T22:45:00",15,28,21,0,11,14,12,0,25,42,29,0,64,null,null,null,null,null,null,null,{"$f":"connected_load_plot+J1600-B1600","v":52},{"$f":"connected_load_plot+K1600-C1600","v":56},{"$f":"connected_load_plot+L1600-D1600","v":50},{"$f":"0","v":0}]
["2024-04-28T22:50:00",18,19,26,0,11,8,12,0,24,36,36,0,63,null,null,null,null,null,null,null,{"$f":"connected_load_plot+J1601-B1601","v":48},{"$f":"connected_load_plot+K1601-C1601","v":59},{"$f":"connected_load_plot+L1601-D1601","v":52},{"$f":"0","v":0}]
["2024-04-28T22:55:00",18,22,27,0,11,14,17,0,25,34,37,0,67,null,null,null,null,null,null,null,{"$f":"connected_load_plot+J1602-B1602","v":49},{"$f":"connected_load_plot+K1602-C1602","v":54},{"$f":"connected_load_plot+L1602-D1602","v":52},{"$f":"0","v":0}]
["2024-04-28T23:00:00",18,21,23,0,11,8,18,0,25,33,31,0,{"$f":"SUM(B1603:D1603)","v":62},null,null,null,null,null,null,null,{"$f":"connected_load_plot+J1603-B1603","v":49},{"$f":"connected_load_plot+K1603-C1603","v":54},{"$f":"connected_load_plot+L1603-D1603","v":50},{"$f":"0","v":0}]
["2024-04-28T23:05:00",17,20,21,0,11,8,11,0,25,34,31,0,58,null,null,null,null,null,null,null,{"$f":"connected_load_plot+J1604-B1604","v":50},{"$f":"connected_load_plot+K1604-C1604","v":56},{"$f":"connected_load_plot+L1604-D1604","v":52},{"$f":"0","v":0}]
["2024-04-28T23:10:00",17,19,21,0,11,8,11,0,25,28,30,0,57,null,null,null,null,null,null,null,{"$f":"connected_load_plot+J1605-B1605","v":50},{"$f":"connected_load_plot+K1605-C1605","v":51},{"$f":"connected_load_plot+L1605-D1605","v":51},{"$f":"0","v":0}]
["2024-04-28T23:15:00",18,17,23,0,11,8,11,0,25,27,31,0,58,null,null,null,null,null,null,null,{"$f":"connected_load_plot+J1606-B1606","v":49},{"$f":"connected_load_plot+K1606-C1606","v":52},{"$f":"connected_load_plot+L1606-D1606","v":50},{"$f":"0","v":0}]
["2024-04-28T23:20:00",19,18,24,0,11,7,11,0,25,33,31,0,61,null,null,null,null,null,null,null,{"$f":"connected_load_plot+J1607-B1607","v":48},{"$f":"connected_load_plot+K1607-C1607","v":57},{"$f":"connected_load_plot+L1607-D1607","v":49},{"$f":"0","v":0}]
["2024-04-28T23:25:00",17,18,25,0,11,7,16,0,25,27,40,0,60,null,null,null,null,null,null,null,{"$f":"connected_load_plot+J1608-B1608","v":50},{"$f":"connected_load_plot+K1608-C1608","v":51},{"$f":"connected_load_plot+L1608-D1608","v":57},{"$f":"0","v":0}]
["2024-04-28T23:30:00",18,17,23,0,12,7,11,0,25,27,37,0,58,null,null,null,null,null,null,null,{"$f":"connected_load_plot+J1609-B1609","v":49},{"$f":"connected_load_plot+K1609-C1609","v":52},{"$f":"connected_load_plot+L1609-D1609","v":56},{"$f":"0","v":0}]
["2024-04-28T23:35:00",18,17,24,0,11,7,12,0,25,27,37,0,59,null,null,null,null,null,null,null,{"$f":"connected_load_plot+J1610-B1610","v":49},{"$f":"connected_load_plot+K1610-C1610","v":52},{"$f":"connected_load_plot+L1610-D1610","v":55},{"$f":"0","v":0}]
["2024-04-28T23:40:00",18,17,22,0,11,7,12,0,25,34,37,0,57,null,null,null,null,null,null,null,{"$f":"connected_load_plot+J1611-B1611","v":49},{"$f":"connected_load_plot+K1611-C1611","v":59},{"$f":"connected_load_plot+L1611-D1611","v":57},{"$f":"0","v":0}]
["2024-04-28T23:45:00",18,16,23,0,11,7,11,0,25,27,37,0,57,null,null,null,null,null,null,null,{"$f":"connected_load_plot+J1612-B1612","v":49},{"$f":"connected_load_plot+K1612-C1612","v":53},{"$f":"connected_load_plot+L1612-D1612","v":56},{"$f":"0","v":0}]
["2024-04-28T23:50:00",17,18,24,0,11,7,11,0,25,27,31,0,59,null,null,null,null,null,null,null,{"$f":"connected_load_plot+J1613-B1613","v":50},{"$f":"connected_load_plot+K1613-C1613","v":51},{"$f":"connected_load_plot+L1613-D1613","v":49},{"$f":"0","v":0}]
["2024-04-28T23:55:00",17,19,28,0,11,7,16,0,25,33,42,0,64,null,null,null,null,null,null,null,{"$f":"connected_load_plot+J1614-B1614","v":50},{"$f":"connected_load_plot+K1614-C1614","v":56},{"$f":"connected_load_plot+L1614-D1614","v":56},{"$f":"0","v":0}]
["2024-04-29",19,17,26,0,11,7,18,0,25,33,42,0,62,null,null,null,null,null,null,null,{"$f":"connected_load_plot+J1615-B1615","v":48},{"$f":"connected_load_plot+K1615-C1615","v":58},{"$f":"connected_load_plot+L1615-D1615","v":58},{"$f":"0","v":0}]
["2024-04-29T00:05:00",19,16,23,0,11,7,11,0,28,27,37,0,58,null,null,null,null,null,null,null,{"$f":"connected_load_plot+J1616-B1616","v":51},{"$f":"connected_load_plot+K1616-C1616","v":53},{"$f":"connected_load_plot+L1616-D1616","v":56},{"$f":"0","v":0}]
["2024-04-29T00:10:00",21,18,20,0,11,7,11,0,34,27,31,0,59,null,null,null,null,null,null,null,{"$f":"connected_load_plot+J1617-B1617","v":55},{"$f":"connected_load_plot+K1617-C1617","v":51},{"$f":"connected_load_plot+L1617-D1617","v":53},{"$f":"0","v":0}]
["2024-04-29T00:15:00",17,17,21,0,11,7,11,0,25,27,31,0,55,null,null,null,null,null,null,null,{"$f":"connected_load_plot+J1618-B1618","v":50},{"$f":"connected_load_plot+K1618-C1618","v":52},{"$f":"connected_load_plot+L1618-D1618","v":52},{"$f":"0","v":0}]
["2024-04-29T00:20:00",19,18,23,0,11,7,12,0,25,33,31,0,60,null,null,null,null,null,null,null,{"$f":"connected_load_plot+J1619-B1619","v":48},{"$f":"connected_load_plot+K1619-C1619","v":57},{"$f":"connected_load_plot+L1619-D1619","v":50},{"$f":"0","v":0}]
["2024-04-29T00:25:00",23,18,27,0,11,7,16,0,32,27,42,0,68,null,null,null,null,null,null,null,{"$f":"connected_load_plot+J1620-B1620","v":51},{"$f":"connected_load_plot+K1620-C1620","v":51},{"$f":"connected_load_plot+L1620-D1620","v":57},{"$f":"0","v":0}]
["2024-04-29T00:30:00",15,17,28,0,10,7,18,0,24,27,42,0,60,null,null,null,null,null,null,null,{"$f":"connected_load_plot+J1621-B1621","v":51},{"$f":"connected_load_plot+K1621-C1621","v":52},{"$f":"connected_load_plot+L1621-D1621","v":56},{"$f":"0","v":0}]
["2024-04-29T00:35:00",17,17,22,0,10,7,11,0,24,27,37,0,56,null,null,null,null,null,null,null,{"$f":"connected_load_plot+J1622-B1622","v":49},{"$f":"connected_load_plot+K1622-C1622","v":52},{"$f":"connected_load_plot+L1622-D1622","v":57},{"$f":"0","v":0}]
["2024-04-29T00:40:00",17,18,19,0,10,7,11,0,24,33,25,0,54,null,null,null,null,null,null,null,{"$f":"connected_load_plot+J1623-B1623","v":49},{"$f":"connected_load_plot+K1623-C1623","v":57},{"$f":"connected_load_plot+L1623-D1623","v":48},{"$f":"0","v":0}]
["2024-04-29T00:45:00",17,17,20,0,10,7,11,0,24,26,31,0,54,null,null,null,null,null,null,null,{"$f":"connected_load_plot+J1624-B1624","v":49},{"$f":"connected_load_plot+K1624-C1624","v":51},{"$f":"connected_load_plot+L1624-D1624","v":53},{"$f":"0","v":0}]
["2024-04-29T00:50:00",17,17,29,0,11,6,16,0,24,32,49,0,63,null,null,null,null,null,null,null,{"$f":"connected_load_plot+J1625-B1625","v":49},{"$f":"connected_load_plot+K1625-C1625","v":57},{"$f":"connected_load_plot+L1625-D1625","v":62},{"$f":"0","v":0}]
["2024-04-29T00:55:00",16,16,28,0,10,7,16,0,24,26,42,0,60,null,null,null,null,null,null,null,{"$f":"connected_load_plot+J1626-B1626","v":50},{"$f":"connected_load_plot+K1626-C1626","v":52},{"$f":"connected_load_plot+L1626-D1626","v":56},{"$f":"0","v":0}]
["2024-04-29T01:00:00",17,17,24,0,10,7,17,0,24,26,37,0,58,null,null,null,null,null,null,null,{"$f":"connected_load_plot+J1627-B1627","v":49},{"$f":"connected_load_plot+K1627-C1627","v":51},{"$f":"connected_load_plot+L1627-D1627","v":55},{"$f":"0","v":0}]
["2024-04-29T01:05:00",17,17,21,0,10,6,12,0,24,32,32,0,55,null,null,null,null,null,null,null,{"$f":"connected_load_plot+J1628-B1628","v":49},{"$f":"connected_load_plot+K1628-C1628","v":57},{"$f":"connected_load_plot+L1628-D1628","v":53},{"$f":"0","v":0}]
["2024-04-29T01:10:00",16,18,23,0,10,7,11,0,23,32,38,0,57,null,null,null,null,null,null,null,{"$f":"connected_load_plot+J1629-B1629","v":49},{"$f":"connected_load_plot+K1629-C1629","v":56},{"$f":"connected_load_plot+L1629-D1629","v":57},{"$f":"0","v":0}]
["2024-04-29T01:15:00",17,15,23,0,10,6,11,0,24,26,31,0,55,null,null,null,null,null,null,null,{"$f":"connected_load_plot+J1630-B1630","v":49},{"$f":"connected_load_plot+K1630-C1630","v":53},{"$f":"connected_load_plot+L1630-D1630","v":50},{"$f":"0","v":0}]
["2024-04-29T01:20:00",18,18,27,0,10,6,16,0,24,32,36,0,63,null,null,null,null,null,null,null,{"$f":"connected_load_plot+J1631-B1631","v":48},{"$f":"connected_load_plot+K1631-C1631","v":56},{"$f":"connected_load_plot+L1631-D1631","v":51},{"$f":"0","v":0}]
["2024-04-29T01:25:00",17,18,27,0,10,7,18,0,24,33,42,0,62,null,null,null,null,null,null,null,{"$f":"connected_load_plot+J1632-B1632","v":49},{"$f":"connected_load_plot+K1632-C1632","v":57},{"$f":"connected_load_plot+L1632-D1632","v":57},{"$f":"0","v":0}]
["2024-04-29T01:30:00",16,15,24,0,11,7,11,0,24,26,44,0,55,null,null,null,null,null,null,null,{"$f":"connected_load_plot+J1633-B1633","v":50},{"$f":"connected_load_plot+K1633-C1633","v":53},{"$f":"connected_load_plot+L1633-D1633","v":62},{"$f":"0","v":0}]
["2024-04-29T01:35:00",17,16,21,0,11,6,12,0,24,32,31,0,54,null,null,null,null,null,null,null,{"$f":"connected_load_plot+J1634-B1634","v":49},{"$f":"connected_load_plot+K1634-C1634","v":58},{"$f":"connected_load_plot+L1634-D1634","v":52},{"$f":"0","v":0}]
["2024-04-29T01:40:00",19,19,21,0,11,6,11,0,24,32,31,0,59,null,null,null,null,null,null,null,{"$f":"connected_load_plot+J1635-B1635","v":47},{"$f":"connected_load_plot+K1635-C1635","v":55},{"$f":"connected_load_plot+L1635-D1635","v":52},{"$f":"0","v":0}]
["2024-04-29T01:45:00",17,15,27,0,11,6,12,0,30,26,49,0,59,null,null,null,null,null,null,null,{"$f":"connected_load_plot+J1636-B1636","v":55},{"$f":"connected_load_plot+K1636-C1636","v":53},{"$f":"connected_load_plot+L1636-D1636","v":64},{"$f":"0","v":0}]
["2024-04-29T01:50:00",18,16,28,0,11,6,17,0,25,27,49,0,62,null,null,null,null,null,null,null,{"$f":"connected_load_plot+J1637-B1637","v":49},{"$f":"connected_load_plot+K1637-C1637","v":53},{"$f":"connected_load_plot+L1637-D1637","v":63},{"$f":"0","v":0}]
["2024-04-29T01:55:00",17,18,23,0,11,7,17,0,25,34,31,0,58,null,null,null,null,null,null,null,{"$f":"connected_load_plot+J1638-B1638","v":50},{"$f":"connected_load_plot+K1638-C1638","v":58},{"$f":"connected_load_plot+L1638-D1638","v":50},{"$f":"0","v":0}]
["2024-04-29T02:00:00",17,15,22,0,11,7,12,0,25,27,31,0,54,null,null,null,null,null,null,null,{"$f":"connected_load_plot+J1639-B1639","v":50},{"$f":"connected_load_plot+K1639-C1639","v":54},{"$f":"connected_load_plot+L1639-D1639","v":51},{"$f":"0","v":0}]
["2024-04-29T02:05:00",19,17,23,0,11,7,12,0,25,27,35,0,59,null,null,null,null,null,null,null,{"$f":"connected_load_plot+J1640-B1640","v":48},{"$f":"connected_load_plot+K1640-C1640","v":52},{"$f":"connected_load_plot+L1640-D1640","v":54},{"$f":"0","v":0}]
["2024-04-29T02:10:00",17,19,25,0,11,7,12,0,25,34,38,0,61,null,null,null,null,null,null,null,{"$f":"connected_load_plot+J1641-B1641","v":50},{"$f":"connected_load_plot+K1641-C1641","v":57},{"$f":"connected_load_plot+L1641-D1641","v":55},{"$f":"0","v":0}]
["2024-04-29T02:15:00",17,16,27,0,11,8,17,0,31,27,36,0,60,null,null,null,null,null,null,null,{"$f":"connected_load_plot+J1642-B1642","v":56},{"$f":"connected_load_plot+K1642-C1642","v":53},{"$f":"connected_load_plot+L1642-D1642","v":51},{"$f":"0","v":0}]
["2024-04-29T02:20:00",26,16,26,0,16,7,12,0,34,34,36,0,68,null,null,null,null,null,null,null,{"$f":"connected_load_plot+J1643-B1643","v":50},{"$f":"connected_load_plot+K1643-C1643","v":60},{"$f":"connected_load_plot+L1643-D1643","v":52},{"$f":"0","v":0}]
["2024-04-29T02:25:00",20,16,22,0,11,7,11,0,30,34,31,0,58,null,null,null,null,null,null,null,{"$f":"connected_load_plot+J1644-B1644","v":52},{"$f":"connected_load_plot+K1644-C1644","v":60},{"$f":"connected_load_plot+L1644-D1644","v":51},{"$f":"0","v":0}]
["2024-04-29T02:30:00",16,17,24,0,11,8,18,0,24,28,38,0,57,null,null,null,null,null,null,null,{"$f":"connected_load_plot+J1645-B1645","v":50},{"$f":"connected_load_plot+K1645-C1645","v":53},{"$f":"connected_load_plot+L1645-D1645","v":56},{"$f":"0","v":0}]
["2024-04-29T02:35:00",16,16,23,0,11,8,12,0,24,28,38,0,55,null,null,null,null,null,null,null,{"$f":"connected_load_plot+J1646-B1646","v":50},{"$f":"connected_load_plot+K1646-C1646","v":54},{"$f":"connected_load_plot+L1646-D1646","v":57},{"$f":"0","v":0}]
["2024-04-29T02:40:00",18,18,26,0,10,7,12,0,30,34,38,0,62,null,null,null,null,null,null,null,{"$f":"connected_load_plot+J1647-B1647","v":54},{"$f":"connected_load_plot+K1647-C1647","v":58},{"$f":"connected_load_plot+L1647-D1647","v":54},{"$f":"0","v":0}]
["2024-04-29T02:45:00",17,16,27,0,10,8,17,0,30,27,37,0,60,null,null,null,null,null,null,null,{"$f":"connected_load_plot+J1648-B1648","v":55},{"$f":"connected_load_plot+K1648-C1648","v":53},{"$f":"connected_load_plot+L1648-D1648","v":52},{"$f":"0","v":0}]
["2024-04-29T02:50:00",17,15,23,0,10,7,12,0,30,28,30,0,55,null,null,null,null,null,null,null,{"$f":"connected_load_plot+J1649-B1649","v":55},{"$f":"connected_load_plot+K1649-C1649","v":55},{"$f":"connected_load_plot+L1649-D1649","v":49},{"$f":"0","v":0}]
["2024-04-29T02:55:00",16,15,23,0,10,7,12,0,24,33,38,0,54,null,null,null,null,null,null,null,{"$f":"connected_load_plot+J1650-B1650","v":50},{"$f":"connected_load_plot+K1650-C1650","v":60},{"$f":"connected_load_plot+L1650-D1650","v":57},{"$f":"0","v":0}]
["2024-04-29T03:00:00",17,15,23,0,10,7,11,0,23,27,44,0,55,null,null,null,null,null,null,null,{"$f":"connected_load_plot+J1651-B1651","v":48},{"$f":"connected_load_plot+K1651-C1651","v":54},{"$f":"connected_load_plot+L1651-D1651","v":63},{"$f":"0","v":0}]
["2024-04-29T03:05:00",17,16,22,0,10,7,12,0,24,27,32,0,55,null,null,null,null,null,null,null,{"$f":"connected_load_plot+J1652-B1652","v":49},{"$f":"connected_load_plot+K1652-C1652","v":53},{"$f":"connected_load_plot+L1652-D1652","v":52},{"$f":"0","v":0}]
["2024-04-29T03:10:00",16,15,27,0,11,6,17,0,24,32,43,0,58,null,null,null,null,null,null,null,{"$f":"connected_load_plot+J1653-B1653","v":50},{"$f":"connected_load_plot+K1653-C1653","v":59},{"$f":"connected_load_plot+L1653-D1653","v":58},{"$f":"0","v":0}]
["2024-04-29T03:15:00",15,14,27,0,10,6,12,0,24,32,38,0,56,null,null,null,null,null,null,null,{"$f":"connected_load_plot+J1654-B1654","v":51},{"$f":"connected_load_plot+K1654-C1654","v":60},{"$f":"connected_load_plot+L1654-D1654","v":53},{"$f":"0","v":0}]
["2024-04-29T03:20:00",20,13,24,0,10,6,12,0,30,26,38,0,57,null,null,null,null,null,null,null,{"$f":"connected_load_plot+J1655-B1655","v":52},{"$f":"connected_load_plot+K1655-C1655","v":55},{"$f":"connected_load_plot+L1655-D1655","v":56},{"$f":"0","v":0}]
["2024-04-29T03:25:00",16,15,24,0,10,6,12,0,24,32,38,0,55,null,null,null,null,null,null,null,{"$f":"connected_load_plot+J1656-B1656","v":50},{"$f":"connected_load_plot+K1656-C1656","v":59},{"$f":"connected_load_plot+L1656-D1656","v":56},{"$f":"0","v":0}]
["2024-04-29T03:30:00",16,14,21,0,10,6,12,0,24,32,31,0,51,null,null,null,null,null,null,null,{"$f":"connected_load_plot+J1657-B1657","v":50},{"$f":"connected_load_plot+K1657-C1657","v":60},{"$f":"connected_load_plot+L1657-D1657","v":52},{"$f":"0","v":0}]
["2024-04-29T03:35:00",18,15,26,0,10,6,12,0,24,27,37,0,59,null,null,null,null,null,null,null,{"$f":"connected_load_plot+J1658-B1658","v":48},{"$f":"connected_load_plot+K1658-C1658","v":54},{"$f":"connected_load_plot+L1658-D1658","v":53},{"$f":"0","v":0}]
["2024-04-29T03:40:00",20,17,26,0,11,6,17,0,32,33,36,0,63,null,null,null,null,null,null,null,{"$f":"connected_load_plot+J1659-B1659","v":54},{"$f":"connected_load_plot+K1659-C1659","v":58},{"$f":"connected_load_plot+L1659-D1659","v":52},{"$f":"0","v":0}]
["2024-04-29T03:45:00",17,16,27,0,10,7,18,0,24,34,38,0,60,null,null,null,null,null,null,null,{"$f":"connected_load_plot+J1660-B1660","v":49},{"$f":"connected_load_plot+K1660-C1660","v":60},{"$f":"connected_load_plot+L1660-D1660","v":53},{"$f":"0","v":0}]
["2024-04-29T03:50:00",17,15,25,0,10,7,12,0,24,27,38,0,57,null,null,null,null,null,null,null,{"$f":"connected_load_plot+J1661-B1661","v":49},{"$f":"connected_load_plot+K1661-C1661","v":54},{"$f":"connected_load_plot+L1661-D1661","v":55},{"$f":"0","v":0}]
["2024-04-29T03:55:00",16,16,22,0,10,7,12,0,24,34,37,0,54,null,null,null,null,null,null,null,{"$f":"connected_load_plot+J1662-B1662","v":50},{"$f":"connected_load_plot+K1662-C1662","v":60},{"$f":"connected_load_plot+L1662-D1662","v":57},{"$f":"0","v":0}]
["2024-04-29T04:00:00",20,17,22,0,11,7,11,0,30,34,30,0,59,null,null,null,null,null,null,null,{"$f":"connected_load_plot+J1663-B1663","v":52},{"$f":"connected_load_plot+K1663-C1663","v":59},{"$f":"connected_load_plot+L1663-D1663","v":50},{"$f":"0","v":0}]
["2024-04-29T04:05:00",20,15,27,0,12,7,17,0,30,27,43,0,62,null,null,null,null,null,null,null,{"$f":"connected_load_plot+J1664-B1664","v":52},{"$f":"connected_load_plot+K1664-C1664","v":54},{"$f":"connected_load_plot+L1664-D1664","v":58},{"$f":"0","v":0}]
["2024-04-29T04:10:00",19,16,30,0,11,7,16,0,30,27,49,0,65,null,null,null,null,null,null,null,{"$f":"connected_load_plot+J1665-B1665","v":53},{"$f":"connected_load_plot+K1665-C1665","v":53},{"$f":"connected_load_plot+L1665-D1665","v":61},{"$f":"0","v":0}]
["2024-04-29T04:15:00",18,18,25,0,11,7,12,0,30,27,49,0,61,null,null,null,null,null,null,null,{"$f":"connected_load_plot+J1666-B1666","v":54},{"$f":"connected_load_plot+K1666-C1666","v":51},{"$f":"connected_load_plot+L1666-D1666","v":66},{"$f":"0","v":0}]
["2024-04-29T04:20:00",20,16,26,0,11,7,16,0,30,34,38,0,{"$f":"SUM(B1667:D1667)","v":62},null,null,null,null,null,null,null,{"$f":"connected_load_plot+J1667-B1667","v":52},{"$f":"connected_load_plot+K1667-C1667","v":60},{"$f":"connected_load_plot+L1667-D1667","v":54},{"$f":"0","v":0}]
["2024-04-29T04:25:00",16,16,24,0,11,7,11,0,24,27,36,0,56,null,null,null,null,null,null,null,{"$f":"connected_load_plot+J1668-B1668","v":50},{"$f":"connected_load_plot+K1668-C1668","v":53},{"$f":"connected_load_plot+L1668-D1668","v":54},{"$f":"0","v":0}]
["2024-04-29T04:30:00",18,15,28,0,11,7,17,0,25,27,41,0,61,null,null,null,null,null,null,null,{"$f":"connected_load_plot+J1669-B1669","v":49},{"$f":"connected_load_plot+K1669-C1669","v":54},{"$f":"connected_load_plot+L1669-D1669","v":55},{"$f":"0","v":0}]
["2024-04-29T04:35:00",18,15,27,0,11,7,12,0,31,28,48,0,60,null,null,null,null,null,null,null,{"$f":"connected_load_plot+J1670-B1670","v":55},{"$f":"connected_load_plot+K1670-C1670","v":55},{"$f":"connected_load_plot+L1670-D1670","v":63},{"$f":"0","v":0}]
["2024-04-29T04:40:00",20,16,24,0,11,7,12,0,31,27,36,0,60,null,null,null,null,null,null,null,{"$f":"connected_load_plot+J1671-B1671","v":53},{"$f":"connected_load_plot+K1671-C1671","v":53},{"$f":"connected_load_plot+L1671-D1671","v":54},{"$f":"0","v":0}]
["2024-04-29T04:45:00",18,17,25,0,11,7,12,0,25,27,38,0,60,null,null,null,null,null,null,null,{"$f":"connected_load_plot+J1672-B1672","v":49},{"$f":"connected_load_plot+K1672-C1672","v":52},{"$f":"connected_load_plot+L1672-D1672","v":55},{"$f":"0","v":0}]
["2024-04-29T04:50:00",16,18,23,0,11,8,18,0,24,34,36,0,57,null,null,null,null,null,null,null,{"$f":"connected_load_plot+J1673-B1673","v":50},{"$f":"connected_load_plot+K1673-C1673","v":58},{"$f":"connected_load_plot+L1673-D1673","v":55},{"$f":"0","v":0}]
["2024-04-29T04:55:00",18,16,29,0,11,7,17,0,24,27,41,0,63,null,null,null,null,null,null,null,{"$f":"connected_load_plot+J1674-B1674","v":48},{"$f":"connected_load_plot+K1674-C1674","v":53},{"$f":"connected_load_plot+L1674-D1674","v":54},{"$f":"0","v":0}]
["2024-04-29T05:00:00",18,15,31,0,11,6,16,0,25,27,47,0,64,null,null,null,null,null,null,null,{"$f":"connected_load_plot+J1675-B1675","v":49},{"$f":"connected_load_plot+K1675-C1675","v":54},{"$f":"connected_load_plot+L1675-D1675","v":58},{"$f":"0","v":0}]
["2024-04-29T05:05:00",16,17,26,0,11,6,12,0,25,33,42,0,59,null,null,null,null,null,null,null,{"$f":"connected_load_plot+J1676-B1676","v":51},{"$f":"connected_load_plot+K1676-C1676","v":58},{"$f":"connected_load_plot+L1676-D1676","v":58},{"$f":"0","v":0}]
["2024-04-29T05:10:00",18,15,24,0,11,6,12,0,26,26,31,0,57,null,null,null,null,null,null,null,{"$f":"connected_load_plot+J1677-B1677","v":50},{"$f":"connected_load_plot+K1677-C1677","v":53},{"$f":"connected_load_plot+L1677-D1677","v":49},{"$f":"0","v":0}]
["2024-04-29T05:15:00",18,15,22,0,11,6,12,0,25,26,31,0,55,null,null,null,null,null,null,null,{"$f":"connected_load_plot+J1678-B1678","v":49},{"$f":"connected_load_plot+K1678-C1678","v":53},{"$f":"connected_load_plot+L1678-D1678","v":51},{"$f":"0","v":0}]
["2024-04-29T05:20:00",17,16,27,0,11,6,12,0,25,32,41,0,60,null,null,null,null,null,null,null,{"$f":"connected_load_plot+J1679-B1679","v":50},{"$f":"connected_load_plot+K1679-C1679","v":58},{"$f":"connected_load_plot+L1679-D1679","v":56},{"$f":"0","v":0}]
["2024-04-29T05:25:00",18,16,30,0,11,6,23,0,25,32,43,0,64,null,null,null,null,null,null,null,{"$f":"connected_load_plot+J1680-B1680","v":49},{"$f":"connected_load_plot+K1680-C1680","v":58},{"$f":"connected_load_plot+L1680-D1680","v":55},{"$f":"0","v":0}]
["2024-04-29T05:30:00",17,15,26,0,11,7,11,0,25,26,42,0,58,null,null,null,null,null,null,null,{"$f":"connected_load_plot+J1681-B1681","v":50},{"$f":"connected_load_plot+K1681-C1681","v":53},{"$f":"connected_load_plot+L1681-D1681","v":58},{"$f":"0","v":0}]
["2024-04-29T05:35:00",17,16,26,0,11,7,12,0,25,33,36,0,59,null,null,null,null,null,null,null,{"$f":"connected_load_plot+J1682-B1682","v":50},{"$f":"connected_load_plot+K1682-C1682","v":59},{"$f":"connected_load_plot+L1682-D1682","v":52},{"$f":"0","v":0}]
["2024-04-29T05:40:00",18,17,25,0,11,7,12,0,24,26,42,0,60,null,null,null,null,null,null,null,{"$f":"connected_load_plot+J1683-B1683","v":48},{"$f":"connected_load_plot+K1683-C1683","v":51},{"$f":"connected_load_plot+L1683-D1683","v":59},{"$f":"0","v":0}]
["2024-04-29T05:45:00",18,16,24,0,11,7,11,0,30,26,42,0,58,null,null,null,null,null,null,null,{"$f":"connected_load_plot+J1684-B1684","v":54},{"$f":"connected_load_plot+K1684-C1684","v":52},{"$f":"connected_load_plot+L1684-D1684","v":60},{"$f":"0","v":0}]
["2024-04-29T05:50:00",16,17,28,0,11,7,16,0,24,34,41,0,61,null,null,null,null,null,null,null,{"$f":"connected_load_plot+J1685-B1685","v":50},{"$f":"connected_load_plot+K1685-C1685","v":59},{"$f":"connected_load_plot+L1685-D1685","v":55},{"$f":"0","v":0}]
["2024-04-29T05:55:00",16,16,25,0,10,7,12,0,24,27,36,0,57,null,null,null,null,null,null,null,{"$f":"connected_load_plot+J1686-B1686","v":50},{"$f":"connected_load_plot+K1686-C1686","v":53},{"$f":"connected_load_plot+L1686-D1686","v":53},{"$f":"0","v":0}]
["2024-04-29T06:00:00",19,16,27,0,10,7,12,0,24,27,42,0,62,null,null,null,null,null,null,null,{"$f":"connected_load_plot+J1687-B1687","v":47},{"$f":"connected_load_plot+K1687-C1687","v":53},{"$f":"connected_load_plot+L1687-D1687","v":57},{"$f":"0","v":0}]
["2024-04-29T06:05:00",15,18,23,0,10,7,12,0,23,34,42,0,56,null,null,null,null,null,null,null,{"$f":"connected_load_plot+J1688-B1688","v":50},{"$f":"connected_load_plot+K1688-C1688","v":58},{"$f":"connected_load_plot+L1688-D1688","v":61},{"$f":"0","v":0}]
["2024-04-29T06:10:00",14,16,24,0,9,8,12,0,23,27,36,0,54,null,null,null,null,null,null,null,{"$f":"connected_load_plot+J1689-B1689","v":51},{"$f":"connected_load_plot+K1689-C1689","v":53},{"$f":"connected_load_plot+L1689-D1689","v":54},{"$f":"0","v":0}]
["2024-04-29T06:15:00",19,15,27,0,10,8,16,0,29,27,42,0,61,null,null,null,null,null,null,null,{"$f":"connected_load_plot+J1690-B1690","v":52},{"$f":"connected_load_plot+K1690-C1690","v":54},{"$f":"connected_load_plot+L1690-D1690","v":57},{"$f":"0","v":0}]
["2024-04-29T06:20:00",15,18,31,0,10,8,16,0,23,34,47,0,64,null,null,null,null,null,null,null,{"$f":"connected_load_plot+J1691-B1691","v":50},{"$f":"connected_load_plot+K1691-C1691","v":58},{"$f":"connected_load_plot+L1691-D1691","v":58},{"$f":"0","v":0}]
["2024-04-29T06:25:00",15,17,21,0,10,8,11,0,23,28,31,0,53,null,null,null,null,null,null,null,{"$f":"connected_load_plot+J1692-B1692","v":50},{"$f":"connected_load_plot+K1692-C1692","v":53},{"$f":"connected_load_plot+L1692-D1692","v":52},{"$f":"0","v":0}]
["2024-04-29T06:30:00",17,17,24,0,10,8,11,0,24,28,30,0,58,null,null,null,null,null,null,null,{"$f":"connected_load_plot+J1693-B1693","v":49},{"$f":"connected_load_plot+K1693-C1693","v":53},{"$f":"connected_load_plot+L1693-D1693","v":48},{"$f":"0","v":0}]
["2024-04-29T06:35:00",16,23,20,0,10,8,12,0,24,49,38,0,59,null,null,null,null,null,null,null,{"$f":"connected_load_plot+J1694-B1694","v":50},{"$f":"connected_load_plot+K1694-C1694","v":68},{"$f":"connected_load_plot+L1694-D1694","v":60},{"$f":"0","v":0}]
["2024-04-29T06:40:00",17,25,28,0,10,14,12,0,24,44,41,0,70,null,null,null,null,null,null,null,{"$f":"connected_load_plot+J1695-B1695","v":49},{"$f":"connected_load_plot+K1695-C1695","v":61},{"$f":"connected_load_plot+L1695-D1695","v":55},{"$f":"0","v":0}]
["2024-04-29T06:45:00",15,22,30,0,10,8,17,0,24,34,43,0,67,null,null,null,null,null,null,null,{"$f":"connected_load_plot+J1696-B1696","v":51},{"$f":"connected_load_plot+K1696-C1696","v":54},{"$f":"connected_load_plot+L1696-D1696","v":55},{"$f":"0","v":0}]
["2024-04-29T06:50:00",16,22,26,0,10,8,16,0,24,41,36,0,64,null,null,null,null,null,null,null,{"$f":"connected_load_plot+J1697-B1697","v":50},{"$f":"connected_load_plot+K1697-C1697","v":61},{"$f":"connected_load_plot+L1697-D1697","v":52},{"$f":"0","v":0}]
["2024-04-29T06:55:00",18,23,20,0,10,8,12,0,24,43,29,0,61,null,null,null,null,null,null,null,{"$f":"connected_load_plot+J1698-B1698","v":48},{"$f":"connected_load_plot+K1698-C1698","v":62},{"$f":"connected_load_plot+L1698-D1698","v":51},{"$f":"0","v":0}]
["2024-04-29T07:00:00",16,21,25,0,10,8,12,0,24,35,41,0,62,null,null,null,null,null,null,null,{"$f":"connected_load_plot+J1699-B1699","v":50},{"$f":"connected_load_plot+K1699-C1699","v":56},{"$f":"connected_load_plot+L1699-D1699","v":58},{"$f":"0","v":0}]
["2024-04-29T07:05:00",16,20,25,0,10,8,12,0,23,41,37,0,61,null,null,null,null,null,null,null,{"$f":"connected_load_plot+J1700-B1700","v":49},{"$f":"connected_load_plot+K1700-C1700","v":63},{"$f":"connected_load_plot+L1700-D1700","v":54},{"$f":"0","v":0}]
["2024-04-29T07:10:00",15,18,29,0,10,3,17,0,24,34,36,0,62,null,null,null,null,null,null,null,{"$f":"connected_load_plot+J1701-B1701","v":51},{"$f":"connected_load_plot+K1701-C1701","v":58},{"$f":"connected_load_plot+L1701-D1701","v":49},{"$f":"0","v":0}]
["2024-04-29T07:15:00",16,17,25,0,10,3,16,0,29,29,30,0,58,null,null,null,null,null,null,null,{"$f":"connected_load_plot+J1702-B1702","v":55},{"$f":"connected_load_plot+K1702-C1702","v":54},{"$f":"connected_load_plot+L1702-D1702","v":47},{"$f":"0","v":0}]
["2024-04-29T07:20:00",24,17,29,0,10,3,17,0,38,35,41,0,70,null,null,null,null,null,null,null,{"$f":"connected_load_plot+J1703-B1703","v":56},{"$f":"connected_load_plot+K1703-C1703","v":60},{"$f":"connected_load_plot+L1703-D1703","v":54},{"$f":"0","v":0}]
["2024-04-29T07:25:00",17,17,31,0,10,3,17,0,32,29,51,0,65,null,null,null,null,null,null,null,{"$f":"connected_load_plot+J1704-B1704","v":57},{"$f":"connected_load_plot+K1704-C1704","v":54},{"$f":"connected_load_plot+L1704-D1704","v":62},{"$f":"0","v":0}]
["2024-04-29T07:30:00",14,20,30,0,10,9,16,0,24,35,41,0,64,null,null,null,null,null,null,null,{"$f":"connected_load_plot+J1705-B1705","v":52},{"$f":"connected_load_plot+K1705-C1705","v":57},{"$f":"connected_load_plot+L1705-D1705","v":53},{"$f":"0","v":0}]
["2024-04-29T07:35:00",17,21,25,0,10,4,16,0,31,35,36,0,63,null,null,null,null,null,null,null,{"$f":"connected_load_plot+J1706-B1706","v":56},{"$f":"connected_load_plot+K1706-C1706","v":56},{"$f":"connected_load_plot+L1706-D1706","v":53},{"$f":"0","v":0}]
["2024-04-29T07:40:00",15,21,29,0,4,3,16,0,31,35,41,0,65,null,null,null,null,null,null,null,{"$f":"connected_load_plot+J1707-B1707","v":58},{"$f":"connected_load_plot+K1707-C1707","v":56},{"$f":"connected_load_plot+L1707-D1707","v":54},{"$f":"0","v":0}]
["2024-04-29T07:45:00",14,20,25,0,7,3,16,0,25,35,36,0,59,null,null,null,null,null,null,null,{"$f":"connected_load_plot+J1708-B1708","v":53},{"$f":"connected_load_plot+K1708-C1708","v":57},{"$f":"connected_load_plot+L1708-D1708","v":53},{"$f":"0","v":0}]
["2024-04-29T07:50:00",14,17,28,0,7,3,16,0,25,35,35,0,59,null,null,null,null,null,null,null,{"$f":"connected_load_plot+J1709-B1709","v":53},{"$f":"connected_load_plot+K1709-C1709","v":60},{"$f":"connected_load_plot+L1709-D1709","v":49},{"$f":"0","v":0}]
["2024-04-29T07:55:00",15,17,25,0,7,3,12,0,32,29,36,0,57,null,null,null,null,null,null,null,{"$f":"connected_load_plot+J1710-B1710","v":59},{"$f":"connected_load_plot+K1710-C1710","v":54},{"$f":"connected_load_plot+L1710-D1710","v":53},{"$f":"0","v":0}]
["2024-04-29T08:00:00",15,21,25,0,9,3,12,0,23,35,36,0,61,null,null,null,null,null,null,null,{"$f":"connected_load_plot+J1711-B1711","v":50},{"$f":"connected_load_plot+K1711-C1711","v":56},{"$f":"connected_load_plot+L1711-D1711","v":53},{"$f":"0","v":0}]
["2024-04-29T08:05:00",15,20,23,0,9,3,12,0,23,29,37,0,58,null,null,null,null,null,null,null,{"$f":"connected_load_plot+J1712-B1712","v":50},{"$f":"connected_load_plot+K1712-C1712","v":51},{"$f":"connected_load_plot+L1712-D1712","v":56},{"$f":"0","v":0}]
["2024-04-29T08:10:00",14,22,28,0,9,3,17,0,22,37,35,0,64,null,null,null,null,null,null,null,{"$f":"connected_load_plot+J1713-B1713","v":50},{"$f":"connected_load_plot+K1713-C1713","v":57},{"$f":"connected_load_plot+L1713-D1713","v":49},{"$f":"0","v":0}]
["2024-04-29T08:15:00",14,17,25,0,9,3,16,0,22,29,36,0,56,null,null,null,null,null,null,null,{"$f":"connected_load_plot+J1714-B1714","v":50},{"$f":"connected_load_plot+K1714-C1714","v":54},{"$f":"connected_load_plot+L1714-D1714","v":53},{"$f":"0","v":0}]
["2024-04-29T08:20:00",15,19,27,0,9,3,11,0,23,36,40,0,61,null,null,null,null,null,null,null,{"$f":"connected_load_plot+J1715-B1715","v":50},{"$f":"connected_load_plot+K1715-C1715","v":59},{"$f":"connected_load_plot+L1715-D1715","v":55},{"$f":"0","v":0}]
["2024-04-29T08:25:00",13,17,22,0,7,3,11,0,23,38,31,0,52,null,null,null,null,null,null,null,{"$f":"connected_load_plot+J1716-B1716","v":52},{"$f":"connected_load_plot+K1716-C1716","v":63},{"$f":"connected_load_plot+L1716-D1716","v":51},{"$f":"0","v":0}]
["2024-04-29T08:30:00",13,14,23,0,6,2,12,0,22,23,31,0,50,null,null,null,null,null,null,null,{"$f":"connected_load_plot+J1717-B1717","v":51},{"$f":"connected_load_plot+K1717-C1717","v":51},{"$f":"connected_load_plot+L1717-D1717","v":50},{"$f":"0","v":0}]
["2024-04-29T08:35:00",19,9,24,0,7,2,16,0,31,22,31,0,52,null,null,null,null,null,null,null,{"$f":"connected_load_plot+J1718-B1718","v":54},{"$f":"connected_load_plot+K1718-C1718","v":55},{"$f":"connected_load_plot+L1718-D1718","v":49},{"$f":"0","v":0}]
["2024-04-29T08:40:00",15,11,28,0,7,2,16,0,23,22,34,0,54,null,null,null,null,null,null,null,{"$f":"connected_load_plot+J1719-B1719","v":50},{"$f":"connected_load_plot+K1719-C1719","v":53},{"$f":"connected_load_plot+L1719-D1719","v":48},{"$f":"0","v":0}]
["2024-04-29T08:45:00",13,14,26,0,9,2,11,0,22,22,36,0,53,null,null,null,null,null,null,null,{"$f":"connected_load_plot+J1720-B1720","v":51},{"$f":"connected_load_plot+K1720-C1720","v":50},{"$f":"connected_load_plot+L1720-D1720","v":52},{"$f":"0","v":0}]
["2024-04-29T08:50:00",14,13,23,0,9,2,11,0,29,22,29,0,50,null,null,null,null,null,null,null,{"$f":"connected_load_plot+J1721-B1721","v":57},{"$f":"connected_load_plot+K1721-C1721","v":51},{"$f":"connected_load_plot+L1721-D1721","v":48},{"$f":"0","v":0}]
["2024-04-29T08:55:00",16,11,20,0,9,2,11,0,23,21,29,0,47,null,null,null,null,null,null,null,{"$f":"connected_load_plot+J1722-B1722","v":49},{"$f":"connected_load_plot+K1722-C1722","v":52},{"$f":"connected_load_plot+L1722-D1722","v":51},{"$f":"0","v":0}]
["2024-04-29T09:00:00",13,13,26,0,9,2,16,0,22,21,36,0,52,null,null,null,null,null,null,null,{"$f":"connected_load_plot+J1723-B1723","v":51},{"$f":"connected_load_plot+K1723-C1723","v":50},{"$f":"connected_load_plot+L1723-D1723","v":52},{"$f":"0","v":0}]
["2024-04-29T09:05:00",13,12,26,0,9,2,16,0,22,22,40,0,51,null,null,null,null,null,null,null,{"$f":"connected_load_plot+J1724-B1724","v":51},{"$f":"connected_load_plot+K1724-C1724","v":52},{"$f":"connected_load_plot+L1724-D1724","v":56},{"$f":"0","v":0}]
["2024-04-29T09:10:00",15,10,29,0,9,2,16,0,23,21,40,0,54,null,null,null,null,null,null,null,{"$f":"connected_load_plot+J1725-B1725","v":50},{"$f":"connected_load_plot+K1725-C1725","v":53},{"$f":"connected_load_plot+L1725-D1725","v":53},{"$f":"0","v":0}]
["2024-04-29T09:15:00",15,9,22,0,6,2,11,0,31,22,31,0,46,null,null,null,null,null,null,null,{"$f":"connected_load_plot+J1726-B1726","v":58},{"$f":"connected_load_plot+K1726-C1726","v":55},{"$f":"connected_load_plot+L1726-D1726","v":51},{"$f":"0","v":0}]
["2024-04-29T09:20:00",12,10,23,0,7,2,11,0,22,22,36,0,45,null,null,null,null,null,null,null,{"$f":"connected_load_plot+J1727-B1727","v":52},{"$f":"connected_load_plot+K1727-C1727","v":54},{"$f":"connected_load_plot+L1727-D1727","v":55},{"$f":"0","v":0}]
["2024-04-29T09:25:00",14,10,24,0,6,2,11,0,22,21,34,0,48,null,null,null,null,null,null,null,{"$f":"connected_load_plot+J1728-B1728","v":50},{"$f":"connected_load_plot+K1728-C1728","v":53},{"$f":"connected_load_plot+L1728-D1728","v":52},{"$f":"0","v":0}]
["2024-04-29T09:30:00",14,10,27,0,9,2,16,0,22,21,35,0,51,null,null,null,null,null,null,null,{"$f":"connected_load_plot+J1729-B1729","v":50},{"$f":"connected_load_plot+K1729-C1729","v":53},{"$f":"connected_load_plot+L1729-D1729","v":50},{"$f":"0","v":0}]
["2024-04-29T09:35:00",13,10,27,0,9,2,16,0,22,22,41,0,50,null,null,null,null,null,null,null,{"$f":"connected_load_plot+J1730-B1730","v":51},{"$f":"connected_load_plot+K1730-C1730","v":54},{"$f":"connected_load_plot+L1730-D1730","v":56},{"$f":"0","v":0}]
["2024-04-29T09:40:00",13,12,27,0,6,2,12,0,22,22,41,0,{"$f":"SUM(B1731:D1731)","v":52},null,null,null,null,null,null,null,{"$f":"connected_load_plot+J1731-B1731","v":51},{"$f":"connected_load_plot+K1731-C1731","v":52},{"$f":"connected_load_plot+L1731-D1731","v":56},{"$f":"0","v":0}]
["2024-04-29T09:45:00",13,11,22,0,7,2,12,0,22,22,31,0,46,null,null,null,null,null,null,null,{"$f":"connected_load_plot+J1732-B1732","v":51},{"$f":"connected_load_plot+K1732-C1732","v":53},{"$f":"connected_load_plot+L1732-D1732","v":51},{"$f":"0","v":0}]
["2024-04-29T09:50:00",13,8,22,0,7,2,11,0,22,22,30,0,43,null,null,null,null,null,null,null,{"$f":"connected_load_plot+J1733-B1733","v":51},{"$f":"connected_load_plot+K1733-C1733","v":56},{"$f":"connected_load_plot+L1733-D1733","v":50},{"$f":"0","v":0}]
["2024-04-29T09:55:00",16,10,24,0,8,2,16,0,30,21,34,0,50,null,null,null,null,null,null,null,{"$f":"connected_load_plot+J1734-B1734","v":56},{"$f":"connected_load_plot+K1734-C1734","v":53},{"$f":"connected_load_plot+L1734-D1734","v":52},{"$f":"0","v":0}]
["2024-04-29T10:00:00",13,10,27,0,8,2,16,0,21,22,35,0,50,null,null,null,null,null,null,null,{"$f":"connected_load_plot+J1735-B1735","v":50},{"$f":"connected_load_plot+K1735-C1735","v":54},{"$f":"connected_load_plot+L1735-D1735","v":50},{"$f":"0","v":0}]
["2024-04-29T10:05:00",11,10,27,0,6,2,16,0,21,21,42,0,48,null,null,null,null,null,null,null,{"$f":"connected_load_plot+J1736-B1736","v":52},{"$f":"connected_load_plot+K1736-C1736","v":53},{"$f":"connected_load_plot+L1736-D1736","v":57},{"$f":"0","v":0}]
["2024-04-29T10:10:00",12,9,23,0,2,1,11,0,21,28,42,0,44,null,null,null,null,null,null,null,{"$f":"connected_load_plot+J1737-B1737","v":51},{"$f":"connected_load_plot+K1737-C1737","v":61},{"$f":"connected_load_plot+L1737-D1737","v":61},{"$f":"0","v":0}]
["2024-04-29T10:15:00",13,9,21,0,5,1,11,0,22,20,35,0,43,null,null,null,null,null,null,null,{"$f":"connected_load_plot+J1738-B1738","v":51},{"$f":"connected_load_plot+K1738-C1738","v":53},{"$f":"connected_load_plot+L1738-D1738","v":56},{"$f":"0","v":0}]
["2024-04-29T10:20:00",11,9,26,0,5,2,16,0,21,20,35,0,46,null,null,null,null,null,null,null,{"$f":"connected_load_plot+J1739-B1739","v":52},{"$f":"connected_load_plot+K1739-C1739","v":53},{"$f":"connected_load_plot+L1739-D1739","v":51},{"$f":"0","v":0}]
["2024-04-29T10:25:00",13,10,28,0,8,2,16,0,21,27,41,0,51,null,null,null,null,null,null,null,{"$f":"connected_load_plot+J1740-B1740","v":50},{"$f":"connected_load_plot+K1740-C1740","v":59},{"$f":"connected_load_plot+L1740-D1740","v":55},{"$f":"0","v":0}]
["2024-04-29T10:30:00",13,7,29,0,8,2,17,0,21,21,47,0,49,null,null,null,null,null,null,null,{"$f":"connected_load_plot+J1741-B1741","v":50},{"$f":"connected_load_plot+K1741-C1741","v":56},{"$f":"connected_load_plot+L1741-D1741","v":60},{"$f":"0","v":0}]
["2024-04-29T10:35:00",12,7,24,0,6,1,12,0,21,21,36,0,43,null,null,null,null,null,null,null,{"$f":"connected_load_plot+J1742-B1742","v":51},{"$f":"connected_load_plot+K1742-C1742","v":56},{"$f":"connected_load_plot+L1742-D1742","v":54},{"$f":"0","v":0}]
["2024-04-29T10:40:00",12,9,20,0,6,2,12,0,22,21,30,0,41,null,null,null,null,null,null,null,{"$f":"connected_load_plot+J1743-B1743","v":52},{"$f":"connected_load_plot+K1743-C1743","v":54},{"$f":"connected_load_plot+L1743-D1743","v":52},{"$f":"0","v":0}]
["2024-04-29T10:45:00",14,11,26,0,6,2,12,0,22,28,41,0,51,null,null,null,null,null,null,null,{"$f":"connected_load_plot+J1744-B1744","v":50},{"$f":"connected_load_plot+K1744-C1744","v":59},{"$f":"connected_load_plot+L1744-D1744","v":57},{"$f":"0","v":0}]
["2024-04-29T10:50:00",11,11,27,0,6,2,17,0,21,28,41,0,49,null,null,null,null,null,null,null,{"$f":"connected_load_plot+J1745-B1745","v":52},{"$f":"connected_load_plot+K1745-C1745","v":59},{"$f":"connected_load_plot+L1745-D1745","v":56},{"$f":"0","v":0}]
["2024-04-29T10:55:00",13,9,27,0,8,2,17,0,21,28,35,0,49,null,null,null,null,null,null,null,{"$f":"connected_load_plot+J1746-B1746","v":50},{"$f":"connected_load_plot+K1746-C1746","v":61},{"$f":"connected_load_plot+L1746-D1746","v":50},{"$f":"0","v":0}]
["2024-04-29T11:00:00",13,10,26,0,8,2,17,0,21,21,35,0,49,null,null,null,null,null,null,null,{"$f":"connected_load_plot+J1747-B1747","v":50},{"$f":"connected_load_plot+K1747-C1747","v":53},{"$f":"connected_load_plot+L1747-D1747","v":51},{"$f":"0","v":0}]
["2024-04-29T11:05:00",11,11,30,0,2,2,17,0,21,28,48,0,52,null,null,null,null,null,null,null,{"$f":"connected_load_plot+J1748-B1748","v":52},{"$f":"connected_load_plot+K1748-C1748","v":59},{"$f":"connected_load_plot+L1748-D1748","v":60},{"$f":"0","v":0}]
["2024-04-29T11:10:00",11,11,28,0,6,2,17,0,21,28,37,0,50,null,null,null,null,null,null,null,{"$f":"connected_load_plot+J1749-B1749","v":52},{"$f":"connected_load_plot+K1749-C1749","v":59},{"$f":"connected_load_plot+L1749-D1749","v":51},{"$f":"0","v":0}]
["2024-04-29T11:15:00",12,7,27,0,6,2,17,0,21,15,35,0,46,null,null,null,null,null,null,null,{"$f":"connected_load_plot+J1750-B1750","v":51},{"$f":"connected_load_plot+K1750-C1750","v":50},{"$f":"connected_load_plot+L1750-D1750","v":50},{"$f":"0","v":0}]
["2024-04-29T11:20:00",14,9,19,0,8,2,11,0,21,21,29,0,42,null,null,null,null,null,null,null,{"$f":"connected_load_plot+J1751-B1751","v":49},{"$f":"connected_load_plot+K1751-C1751","v":54},{"$f":"connected_load_plot+L1751-D1751","v":52},{"$f":"0","v":0}]
["2024-04-29T11:25:00",11,12,24,0,8,2,12,0,21,28,41,0,47,null,null,null,null,null,null,null,{"$f":"connected_load_plot+J1752-B1752","v":52},{"$f":"connected_load_plot+K1752-C1752","v":58},{"$f":"connected_load_plot+L1752-D1752","v":59},{"$f":"0","v":0}]
["2024-04-29T11:30:00",11,9,28,0,2,2,17,0,21,22,43,0,48,null,null,null,null,null,null,null,{"$f":"connected_load_plot+J1753-B1753","v":52},{"$f":"connected_load_plot+K1753-C1753","v":55},{"$f":"connected_load_plot+L1753-D1753","v":57},{"$f":"0","v":0}]
["2024-04-29T11:35:00",12,7,32,0,6,2,20,0,22,21,44,0,51,null,null,null,null,null,null,null,{"$f":"connected_load_plot+J1754-B1754","v":52},{"$f":"connected_load_plot+K1754-C1754","v":56},{"$f":"connected_load_plot+L1754-D1754","v":54},{"$f":"0","v":0}]
["2024-04-29T11:40:00",13,7,26,0,5,2,16,0,22,21,44,0,46,null,null,null,null,null,null,null,{"$f":"connected_load_plot+J1755-B1755","v":51},{"$f":"connected_load_plot+K1755-C1755","v":56},{"$f":"connected_load_plot+L1755-D1755","v":60},{"$f":"0","v":0}]
["2024-04-29T11:45:00",12,10,27,0,6,2,16,0,21,28,41,0,49,null,null,null,null,null,null,null,{"$f":"connected_load_plot+J1756-B1756","v":51},{"$f":"connected_load_plot+K1756-C1756","v":60},{"$f":"connected_load_plot+L1756-D1756","v":56},{"$f":"0","v":0}]
["2024-04-29T11:50:00",11,12,27,0,8,2,16,0,21,21,37,0,50,null,null,null,null,null,null,null,{"$f":"connected_load_plot+J1757-B1757","v":52},{"$f":"connected_load_plot+K1757-C1757","v":51},{"$f":"connected_load_plot+L1757-D1757","v":52},{"$f":"0","v":0}]
["2024-04-29T11:55:00",12,10,31,0,2,2,17,0,21,21,47,0,53,null,null,null,null,null,null,null,{"$f":"connected_load_plot+J1758-B1758","v":51},{"$f":"connected_load_plot+K1758-C1758","v":53},{"$f":"connected_load_plot+L1758-D1758","v":58},{"$f":"0","v":0}]
["2024-04-29T12:00:00",13,7,25,0,2,1,16,0,21,20,37,0,45,null,null,null,null,null,null,null,{"$f":"connected_load_plot+J1759-B1759","v":50},{"$f":"connected_load_plot+K1759-C1759","v":55},{"$f":"connected_load_plot+L1759-D1759","v":54},{"$f":"0","v":0}]
["2024-04-29T12:05:00",12,7,29,0,6,1,17,0,22,20,41,0,48,null,null,null,null,null,null,null,{"$f":"connected_load_plot+J1760-B1760","v":52},{"$f":"connected_load_plot+K1760-C1760","v":55},{"$f":"connected_load_plot+L1760-D1760","v":54},{"$f":"0","v":0}]
["2024-04-29T12:10:00",11,10,22,0,6,1,11,0,22,20,36,0,43,null,null,null,null,null,null,null,{"$f":"connected_load_plot+J1761-B1761","v":53},{"$f":"connected_load_plot+K1761-C1761","v":52},{"$f":"connected_load_plot+L1761-D1761","v":56},{"$f":"0","v":0}]
["2024-04-29T12:15:00",13,9,24,0,8,1,11,0,24,21,36,0,46,null,null,null,null,null,null,null,{"$f":"connected_load_plot+J1762-B1762","v":53},{"$f":"connected_load_plot+K1762-C1762","v":54},{"$f":"connected_load_plot+L1762-D1762","v":54},{"$f":"0","v":0}]
["2024-04-29T12:20:00",12,9,23,0,8,1,11,0,22,20,30,0,44,null,null,null,null,null,null,null,{"$f":"connected_load_plot+J1763-B1763","v":52},{"$f":"connected_load_plot+K1763-C1763","v":53},{"$f":"connected_load_plot+L1763-D1763","v":49},{"$f":"0","v":0}]
["2024-04-29T12:25:00",12,11,27,0,2,2,16,0,26,27,34,0,50,null,null,null,null,null,null,null,{"$f":"connected_load_plot+J1764-B1764","v":56},{"$f":"connected_load_plot+K1764-C1764","v":58},{"$f":"connected_load_plot+L1764-D1764","v":49},{"$f":"0","v":0}]
["2024-04-29T12:30:00",15,13,26,0,6,2,16,0,26,28,36,0,54,null,null,null,null,null,null,null,{"$f":"connected_load_plot+J1765-B1765","v":53},{"$f":"connected_load_plot+K1765-C1765","v":57},{"$f":"connected_load_plot+L1765-D1765","v":52},{"$f":"0","v":0}]
["2024-04-29T12:35:00",11,11,29,0,6,2,18,0,22,21,41,0,51,null,null,null,null,null,null,null,{"$f":"connected_load_plot+J1766-B1766","v":53},{"$f":"connected_load_plot+K1766-C1766","v":52},{"$f":"connected_load_plot+L1766-D1766","v":54},{"$f":"0","v":0}]
["2024-04-29T12:40:00",19,8,23,0,8,2,16,0,30,21,30,0,50,null,null,null,null,null,null,null,{"$f":"connected_load_plot+J1767-B1767","v":53},{"$f":"connected_load_plot+K1767-C1767","v":55},{"$f":"connected_load_plot+L1767-D1767","v":49},{"$f":"0","v":0}]
["2024-04-29T12:45:00",14,9,27,0,8,2,16,0,22,22,34,0,50,null,null,null,null,null,null,null,{"$f":"connected_load_plot+J1768-B1768","v":50},{"$f":"connected_load_plot+K1768-C1768","v":55},{"$f":"connected_load_plot+L1768-D1768","v":49},{"$f":"0","v":0}]
["2024-04-29T12:50:00",12,11,26,0,3,2,16,0,22,27,30,0,49,null,null,null,null,null,null,null,{"$f":"connected_load_plot+J1769-B1769","v":52},{"$f":"connected_load_plot+K1769-C1769","v":58},{"$f":"connected_load_plot+L1769-D1769","v":46},{"$f":"0","v":0}]
["2024-04-29T12:55:00",11,11,29,0,6,2,16,0,21,27,41,0,51,null,null,null,null,null,null,null,{"$f":"connected_load_plot+J1770-B1770","v":52},{"$f":"connected_load_plot+K1770-C1770","v":58},{"$f":"connected_load_plot+L1770-D1770","v":54},{"$f":"0","v":0}]
["2024-04-29T13:00:00",13,10,25,0,6,2,16,0,22,27,42,0,48,null,null,null,null,null,null,null,{"$f":"connected_load_plot+J1771-B1771","v":51},{"$f":"connected_load_plot+K1771-C1771","v":59},{"$f":"connected_load_plot+L1771-D1771","v":59},{"$f":"0","v":0}]
["2024-04-29T13:05:00",14,9,26,0,6,2,16,0,22,26,34,0,49,null,null,null,null,null,null,null,{"$f":"connected_load_plot+J1772-B1772","v":50},{"$f":"connected_load_plot+K1772-C1772","v":59},{"$f":"connected_load_plot+L1772-D1772","v":50},{"$f":"0","v":0}]
["2024-04-29T13:10:00",12,9,24,0,3,2,16,0,22,22,30,0,45,null,null,null,null,null,null,null,{"$f":"connected_load_plot+J1773-B1773","v":52},{"$f":"connected_load_plot+K1773-C1773","v":55},{"$f":"connected_load_plot+L1773-D1773","v":48},{"$f":"0","v":0}]
["2024-04-29T13:15:00",11,10,28,0,3,2,11,0,22,27,41,0,49,null,null,null,null,null,null,null,{"$f":"connected_load_plot+J1774-B1774","v":53},{"$f":"connected_load_plot+K1774-C1774","v":59},{"$f":"connected_load_plot+L1774-D1774","v":55},{"$f":"0","v":0}]
["2024-04-29T13:20:00",14,9,21,0,6,2,11,0,22,27,31,0,44,null,null,null,null,null,null,null,{"$f":"connected_load_plot+J1775-B1775","v":50},{"$f":"connected_load_plot+K1775-C1775","v":60},{"$f":"connected_load_plot+L1775-D1775","v":52},{"$f":"0","v":0}]
["2024-04-29T13:25:00",13,11,25,0,6,2,16,0,21,27,35,0,49,null,null,null,null,null,null,null,{"$f":"connected_load_plot+J1776-B1776","v":50},{"$f":"connected_load_plot+K1776-C1776","v":58},{"$f":"connected_load_plot+L1776-D1776","v":52},{"$f":"0","v":0}]
["2024-04-29T13:30:00",12,11,24,0,6,2,16,0,22,22,34,0,47,null,null,null,null,null,null,null,{"$f":"connected_load_plot+J1777-B1777","v":52},{"$f":"connected_load_plot+K1777-C1777","v":53},{"$f":"connected_load_plot+L1777-D1777","v":52},{"$f":"0","v":0}]
["2024-04-29T13:35:00",12,9,27,0,3,2,16,0,22,22,38,0,48,null,null,null,null,null,null,null,{"$f":"connected_load_plot+J1778-B1778","v":52},{"$f":"connected_load_plot+K1778-C1778","v":55},{"$f":"connected_load_plot+L1778-D1778","v":53},{"$f":"0","v":0}]
["2024-04-29T13:40:00",10,7,27,0,3,2,16,0,21,26,42,0,44,null,null,null,null,null,null,null,{"$f":"connected_load_plot+J1779-B1779","v":53},{"$f":"connected_load_plot+K1779-C1779","v":61},{"$f":"connected_load_plot+L1779-D1779","v":57},{"$f":"0","v":0}]
["2024-04-29T13:45:00",13,9,28,0,6,2,16,0,22,26,41,0,50,null,null,null,null,null,null,null,{"$f":"connected_load_plot+J1780-B1780","v":51},{"$f":"connected_load_plot+K1780-C1780","v":59},{"$f":"connected_load_plot+L1780-D1780","v":55},{"$f":"0","v":0}]
["2024-04-29T13:50:00",11,9,24,0,3,2,16,0,22,21,37,0,44,null,null,null,null,null,null,null,{"$f":"connected_load_plot+J1781-B1781","v":53},{"$f":"connected_load_plot+K1781-C1781","v":54},{"$f":"connected_load_plot+L1781-D1781","v":55},{"$f":"0","v":0}]
["2024-04-29T13:55:00",14,9,25,0,6,1,11,0,31,21,37,0,48,null,null,null,null,null,null,null,{"$f":"connected_load_plot+J1782-B1782","v":59},{"$f":"connected_load_plot+K1782-C1782","v":54},{"$f":"connected_load_plot+L1782-D1782","v":54},{"$f":"0","v":0}]
["2024-04-29T14:00:00",15,7,20,0,6,1,11,0,31,20,29,0,42,null,null,null,null,null,null,null,{"$f":"connected_load_plot+J1783-B1783","v":58},{"$f":"connected_load_plot+K1783-C1783","v":55},{"$f":"connected_load_plot+L1783-D1783","v":51},{"$f":"0","v":0}]
["2024-04-29T14:05:00",17,8,26,0,8,1,11,0,30,26,43,0,51,null,null,null,null,null,null,null,{"$f":"connected_load_plot+J1784-B1784","v":55},{"$f":"connected_load_plot+K1784-C1784","v":60},{"$f":"connected_load_plot+L1784-D1784","v":59},{"$f":"0","v":0}]
["2024-04-29T14:10:00",17,11,24,0,6,2,16,0,32,27,34,0,52,null,null,null,null,null,null,null,{"$f":"connected_load_plot+J1785-B1785","v":57},{"$f":"connected_load_plot+K1785-C1785","v":58},{"$f":"connected_load_plot+L1785-D1785","v":52},{"$f":"0","v":0}]
["2024-04-29T14:15:00",14,10,26,0,3,2,16,0,30,22,35,0,50,null,null,null,null,null,null,null,{"$f":"connected_load_plot+J1786-B1786","v":58},{"$f":"connected_load_plot+K1786-C1786","v":54},{"$f":"connected_load_plot+L1786-D1786","v":51},{"$f":"0","v":0}]
["2024-04-29T14:20:00",13,7,25,0,6,2,16,0,30,22,34,0,45,null,null,null,null,null,null,null,{"$f":"connected_load_plot+J1787-B1787","v":59},{"$f":"connected_load_plot+K1787-C1787","v":57},{"$f":"connected_load_plot+L1787-D1787","v":51},{"$f":"0","v":0}]
["2024-04-29T14:25:00",16,9,28,0,6,2,16,0,30,22,41,0,53,null,null,null,null,null,null,null,{"$f":"connected_load_plot+J1788-B1788","v":56},{"$f":"connected_load_plot+K1788-C1788","v":55},{"$f":"connected_load_plot+L1788-D1788","v":55},{"$f":"0","v":0}]
["2024-04-29T14:30:00",14,11,24,0,8,2,11,0,31,27,41,0,49,null,null,null,null,null,null,null,{"$f":"connected_load_plot+J1789-B1789","v":59},{"$f":"connected_load_plot+K1789-C1789","v":58},{"$f":"connected_load_plot+L1789-D1789","v":59},{"$f":"0","v":0}]
["2024-04-29T14:35:00",12,11,19,0,3,2,11,0,22,30,25,0,42,null,null,null,null,null,null,null,{"$f":"connected_load_plot+J1790-B1790","v":52},{"$f":"connected_load_plot+K1790-C1790","v":61},{"$f":"connected_load_plot+L1790-D1790","v":48},{"$f":"0","v":0}]
["2024-04-29T14:40:00",11,9,16,0,3,2,11,0,22,22,25,0,36,null,null,null,null,null,null,null,{"$f":"connected_load_plot+J1791-B1791","v":53},{"$f":"connected_load_plot+K1791-C1791","v":55},{"$f":"connected_load_plot+L1791-D1791","v":51},{"$f":"0","v":0}]
["2024-04-29T14:45:00",13,8,23,0,7,2,11,0,22,21,37,0,44,null,null,null,null,null,null,null,{"$f":"connected_load_plot+J1792-B1792","v":51},{"$f":"connected_load_plot+K1792-C1792","v":55},{"$f":"connected_load_plot+L1792-D1792","v":56},{"$f":"0","v":0}]
["2024-04-29T14:50:00",13,9,25,0,6,2,16,0,22,21,36,0,47,null,null,null,null,null,null,null,{"$f":"connected_load_plot+J1793-B1793","v":51},{"$f":"connected_load_plot+K1793-C1793","v":54},{"$f":"connected_load_plot+L1793-D1793","v":53},{"$f":"0","v":0}]
["2024-04-29T14:55:00",13,11,24,0,6,2,16,0,23,28,34,0,48,null,null,null,null,null,null,null,{"$f":"connected_load_plot+J1794-B1794","v":52},{"$f":"connected_load_plot+K1794-C1794","v":59},{"$f":"connected_load_plot+L1794-D1794","v":52},{"$f":"0","v":0}]
["2024-04-29T15:00:00",12,10,23,0,3,2,16,0,23,28,30,0,{"$f":"SUM(B1795:D1795)","v":45},null,null,null,null,null,null,null,{"$f":"connected_load_plot+J1795-B1795","v":53},{"$f":"connected_load_plot+K1795-C1795","v":60},{"$f":"connected_load_plot+L1795-D1795","v":49},{"$f":"0","v":0}]
["2024-04-29T15:05:00",13,9,24,0,3,2,16,0,23,22,36,0,46,null,null,null,null,null,null,null,{"$f":"connected_load_plot+J1796-B1796","v":52},{"$f":"connected_load_plot+K1796-C1796","v":55},{"$f":"connected_load_plot+L1796-D1796","v":54},{"$f":"0","v":0}]
["2024-04-29T15:10:00",16,10,22,0,3,2,16,0,28,22,36,0,48,null,null,null,null,null,null,null,{"$f":"connected_load_plot+J1797-B1797","v":54},{"$f":"connected_load_plot+K1797-C1797","v":54},{"$f":"connected_load_plot+L1797-D1797","v":56},{"$f":"0","v":0}]
["2024-04-29T15:15:00",18,8,20,0,9,1,11,0,29,22,30,0,46,null,null,null,null,null,null,null,{"$f":"connected_load_plot+J1798-B1798","v":53},{"$f":"connected_load_plot+K1798-C1798","v":56},{"$f":"connected_load_plot+L1798-D1798","v":52},{"$f":"0","v":0}]
["2024-04-29T15:20:00",17,6,20,0,9,1,11,0,28,21,30,0,43,null,null,null,null,null,null,null,{"$f":"connected_load_plot+J1799-B1799","v":53},{"$f":"connected_load_plot+K1799-C1799","v":57},{"$f":"connected_load_plot+L1799-D1799","v":52},{"$f":"0","v":0}]
["2024-04-29T15:25:00",22,9,24,0,9,1,16,0,38,27,33,0,55,null,null,null,null,null,null,null,{"$f":"connected_load_plot+J1800-B1800","v":58},{"$f":"connected_load_plot+K1800-C1800","v":60},{"$f":"connected_load_plot+L1800-D1800","v":51},{"$f":"0","v":0}]
["2024-04-29T15:30:00",17,10,25,0,4,2,16,0,29,21,36,0,52,null,null,null,null,null,null,null,{"$f":"connected_load_plot+J1801-B1801","v":54},{"$f":"connected_load_plot+K1801-C1801","v":53},{"$f":"connected_load_plot+L1801-D1801","v":53},{"$f":"0","v":0}]
["2024-04-29T15:35:00",17,7,24,0,4,2,16,0,29,15,30,0,48,null,null,null,null,null,null,null,{"$f":"connected_load_plot+J1802-B1802","v":54},{"$f":"connected_load_plot+K1802-C1802","v":50},{"$f":"connected_load_plot+L1802-D1802","v":48},{"$f":"0","v":0}]
["2024-04-29T15:40:00",17,7,24,0,10,2,16,0,29,20,30,0,48,null,null,null,null,null,null,null,{"$f":"connected_load_plot+J1803-B1803","v":54},{"$f":"connected_load_plot+K1803-C1803","v":55},{"$f":"connected_load_plot+L1803-D1803","v":48},{"$f":"0","v":0}]
["2024-04-29T15:45:00",16,8,20,0,10,1,11,0,29,22,25,0,44,null,null,null,null,null,null,null,{"$f":"connected_load_plot+J1804-B1804","v":55},{"$f":"connected_load_plot+K1804-C1804","v":56},{"$f":"connected_load_plot+L1804-D1804","v":47},{"$f":"0","v":0}]
["2024-04-29T15:50:00",19,11,23,0,10,2,11,0,30,28,36,0,53,null,null,null,null,null,null,null,{"$f":"connected_load_plot+J1805-B1805","v":53},{"$f":"connected_load_plot+K1805-C1805","v":59},{"$f":"connected_load_plot+L1805-D1805","v":55},{"$f":"0","v":0}]
["2024-04-29T15:55:00",17,17,28,0,4,8,16,0,30,30,38,0,62,null,null,null,null,null,null,null,{"$f":"connected_load_plot+J1806-B1806","v":55},{"$f":"connected_load_plot+K1806-C1806","v":55},{"$f":"connected_load_plot+L1806-D1806","v":52},{"$f":"0","v":0}]
["2024-04-29T16:00:00",16,9,25,0,4,2,16,0,30,16,38,0,50,null,null,null,null,null,null,null,{"$f":"connected_load_plot+J1807-B1807","v":56},{"$f":"connected_load_plot+K1807-C1807","v":49},{"$f":"connected_load_plot+L1807-D1807","v":55},{"$f":"0","v":0}]
["2024-04-29T16:05:00",16,8,25,0,9,2,16,0,29,21,30,0,49,null,null,null,null,null,null,null,{"$f":"connected_load_plot+J1808-B1808","v":55},{"$f":"connected_load_plot+K1808-C1808","v":55},{"$f":"connected_load_plot+L1808-D1808","v":47},{"$f":"0","v":0}]
["2024-04-29T16:10:00",18,10,23,0,9,2,11,0,29,28,31,0,51,null,null,null,null,null,null,null,{"$f":"connected_load_plot+J1809-B1809","v":53},{"$f":"connected_load_plot+K1809-C1809","v":60},{"$f":"connected_load_plot+L1809-D1809","v":50},{"$f":"0","v":0}]
["2024-04-29T16:15:00",17,12,19,0,9,3,11,0,29,28,31,0,48,null,null,null,null,null,null,null,{"$f":"connected_load_plot+J1810-B1810","v":54},{"$f":"connected_load_plot+K1810-C1810","v":58},{"$f":"connected_load_plot+L1810-D1810","v":54},{"$f":"0","v":0}]
["2024-04-29T16:20:00",16,8,23,0,9,3,11,0,29,22,30,0,47,null,null,null,null,null,null,null,{"$f":"connected_load_plot+J1811-B1811","v":55},{"$f":"connected_load_plot+K1811-C1811","v":56},{"$f":"connected_load_plot+L1811-D1811","v":49},{"$f":"0","v":0}]
["2024-04-29T16:25:00",16,7,24,0,9,2,17,0,29,16,30,0,47,null,null,null,null,null,null,null,{"$f":"connected_load_plot+J1812-B1812","v":55},{"$f":"connected_load_plot+K1812-C1812","v":51},{"$f":"connected_load_plot+L1812-D1812","v":48},{"$f":"0","v":0}]
["2024-04-29T16:30:00",17,10,26,0,5,2,16,0,30,22,36,0,53,null,null,null,null,null,null,null,{"$f":"connected_load_plot+J1813-B1813","v":55},{"$f":"connected_load_plot+K1813-C1813","v":54},{"$f":"connected_load_plot+L1813-D1813","v":52},{"$f":"0","v":0}]
["2024-04-29T16:35:00",18,11,26,0,7,2,17,0,30,28,36,0,55,null,null,null,null,null,null,null,{"$f":"connected_load_plot+J1814-B1814","v":54},{"$f":"connected_load_plot+K1814-C1814","v":59},{"$f":"connected_load_plot+L1814-D1814","v":52},{"$f":"0","v":0}]
["2024-04-29T16:40:00",17,10,23,0,10,2,16,0,30,28,30,0,50,null,null,null,null,null,null,null,{"$f":"connected_load_plot+J1815-B1815","v":55},{"$f":"connected_load_plot+K1815-C1815","v":60},{"$f":"connected_load_plot+L1815-D1815","v":49},{"$f":"0","v":0}]
["2024-04-29T16:45:00",16,8,23,0,5,2,16,0,36,16,30,0,47,null,null,null,null,null,null,null,{"$f":"connected_load_plot+J1816-B1816","v":62},{"$f":"connected_load_plot+K1816-C1816","v":50},{"$f":"connected_load_plot+L1816-D1816","v":49},{"$f":"0","v":0}]
["2024-04-29T16:50:00",18,9,25,0,11,2,16,0,30,22,36,0,52,null,null,null,null,null,null,null,{"$f":"connected_load_plot+J1817-B1817","v":54},{"$f":"connected_load_plot+K1817-C1817","v":55},{"$f":"connected_load_plot+L1817-D1817","v":53},{"$f":"0","v":0}]
["2024-04-29T16:55:00",19,11,27,0,10,2,17,0,30,28,36,0,57,null,null,null,null,null,null,null,{"$f":"connected_load_plot+J1818-B1818","v":53},{"$f":"connected_load_plot+K1818-C1818","v":59},{"$f":"connected_load_plot+L1818-D1818","v":51},{"$f":"0","v":0}]
["2024-04-29T17:00:00",17,10,25,0,5,2,16,0,30,27,30,0,52,null,null,null,null,null,null,null,{"$f":"connected_load_plot+J1819-B1819","v":55},{"$f":"connected_load_plot+K1819-C1819","v":59},{"$f":"connected_load_plot+L1819-D1819","v":47},{"$f":"0","v":0}]
["2024-04-29T17:05:00",17,8,24,0,10,2,16,0,30,21,30,0,49,null,null,null,null,null,null,null,{"$f":"connected_load_plot+J1820-B1820","v":55},{"$f":"connected_load_plot+K1820-C1820","v":55},{"$f":"connected_load_plot+L1820-D1820","v":48},{"$f":"0","v":0}]
["2024-04-29T17:10:00",18,13,22,0,5,2,16,0,30,29,30,0,53,null,null,null,null,null,null,null,{"$f":"connected_load_plot+J1821-B1821","v":54},{"$f":"connected_load_plot+K1821-C1821","v":58},{"$f":"connected_load_plot+L1821-D1821","v":50},{"$f":"0","v":0}]
["2024-04-29T17:15:00",20,10,21,0,5,2,12,0,32,22,36,0,51,null,null,null,null,null,null,null,{"$f":"connected_load_plot+J1822-B1822","v":54},{"$f":"connected_load_plot+K1822-C1822","v":54},{"$f":"connected_load_plot+L1822-D1822","v":57},{"$f":"0","v":0}]
["2024-04-29T17:20:00",19,10,21,0,12,2,11,0,32,28,25,0,50,null,null,null,null,null,null,null,{"$f":"connected_load_plot+J1823-B1823","v":55},{"$f":"connected_load_plot+K1823-C1823","v":60},{"$f":"connected_load_plot+L1823-D1823","v":46},{"$f":"0","v":0}]
["2024-04-29T17:25:00",18,9,24,0,11,2,11,0,31,28,36,0,51,null,null,null,null,null,null,null,{"$f":"connected_load_plot+J1824-B1824","v":55},{"$f":"connected_load_plot+K1824-C1824","v":61},{"$f":"connected_load_plot+L1824-D1824","v":54},{"$f":"0","v":0}]
["2024-04-29T17:30:00",18,9,23,0,12,3,16,0,31,23,30,0,50,null,null,null,null,null,null,null,{"$f":"connected_load_plot+J1825-B1825","v":55},{"$f":"connected_load_plot+K1825-C1825","v":56},{"$f":"connected_load_plot+L1825-D1825","v":49},{"$f":"0","v":0}]
["2024-04-29T17:35:00",21,11,24,0,6,3,16,0,31,23,36,0,56,null,null,null,null,null,null,null,{"$f":"connected_load_plot+J1826-B1826","v":52},{"$f":"connected_load_plot+K1826-C1826","v":54},{"$f":"connected_load_plot+L1826-D1826","v":54},{"$f":"0","v":0}]
["2024-04-29T17:40:00",26,10,24,0,18,3,16,0,37,22,30,0,60,null,null,null,null,null,null,null,{"$f":"connected_load_plot+J1827-B1827","v":53},{"$f":"connected_load_plot+K1827-C1827","v":54},{"$f":"connected_load_plot+L1827-D1827","v":48},{"$f":"0","v":0}]
["2024-04-29T17:45:00",25,9,25,0,12,3,16,0,38,22,35,0,59,null,null,null,null,null,null,null,{"$f":"connected_load_plot+J1828-B1828","v":55},{"$f":"connected_load_plot+K1828-C1828","v":55},{"$f":"connected_load_plot+L1828-D1828","v":52},{"$f":"0","v":0}]
["2024-04-29T17:50:00",20,13,22,0,12,3,12,0,38,30,30,0,55,null,null,null,null,null,null,null,{"$f":"connected_load_plot+J1829-B1829","v":60},{"$f":"connected_load_plot+K1829-C1829","v":59},{"$f":"connected_load_plot+L1829-D1829","v":50},{"$f":"0","v":0}]
["2024-04-29T17:55:00",23,14,20,0,12,9,12,0,38,23,31,0,57,null,null,null,null,null,null,null,{"$f":"connected_load_plot+J1830-B1830","v":57},{"$f":"connected_load_plot+K1830-C1830","v":51},{"$f":"connected_load_plot+L1830-D1830","v":53},{"$f":"0","v":0}]
["2024-04-29T18:00:00",23,14,22,0,12,10,12,0,37,23,31,0,59,null,null,null,null,null,null,null,{"$f":"connected_load_plot+J1831-B1831","v":56},{"$f":"connected_load_plot+K1831-C1831","v":51},{"$f":"connected_load_plot+L1831-D1831","v":51},{"$f":"0","v":0}]
["2024-04-29T18:05:00",21,15,25,0,12,9,16,0,38,23,36,0,61,null,null,null,null,null,null,null,{"$f":"connected_load_plot+J1832-B1832","v":59},{"$f":"connected_load_plot+K1832-C1832","v":50},{"$f":"connected_load_plot+L1832-D1832","v":53},{"$f":"0","v":0}]
["2024-04-29T18:10:00",22,13,25,0,12,9,16,0,37,23,30,0,60,null,null,null,null,null,null,null,{"$f":"connected_load_plot+J1833-B1833","v":57},{"$f":"connected_load_plot+K1833-C1833","v":52},{"$f":"connected_load_plot+L1833-D1833","v":47},{"$f":"0","v":0}]
["2024-04-29T18:15:00",22,14,24,0,12,9,16,0,38,23,36,0,60,null,null,null,null,null,null,null,{"$f":"connected_load_plot+J1834-B1834","v":58},{"$f":"connected_load_plot+K1834-C1834","v":51},{"$f":"connected_load_plot+L1834-D1834","v":54},{"$f":"0","v":0}]
["2024-04-29T18:20:00",23,16,24,0,12,9,16,0,38,23,36,0,63,null,null,null,null,null,null,null,{"$f":"connected_load_plot+J1835-B1835","v":57},{"$f":"connected_load_plot+K1835-C1835","v":49},{"$f":"connected_load_plot+L1835-D1835","v":54},{"$f":"0","v":0}]
["2024-04-29T18:25:00",22,13,25,0,12,3,16,0,38,23,30,0,60,null,null,null,null,null,null,null,{"$f":"connected_load_plot+J1836-B1836","v":58},{"$f":"connected_load_plot+K1836-C1836","v":52},{"$f":"connected_load_plot+L1836-D1836","v":47},{"$f":"0","v":0}]
["2024-04-29T18:30:00",22,12,21,0,12,3,12,0,39,23,30,0,55,null,null,null,null,null,null,null,{"$f":"connected_load_plot+J1837-B1837","v":59},{"$f":"connected_load_plot+K1837-C1837","v":53},{"$f":"connected_load_plot+L1837-D1837","v":51},{"$f":"0","v":0}]
["2024-04-29T18:35:00",21,9,21,0,12,3,12,0,38,20,37,0,51,null,null,null,null,null,null,null,{"$f":"connected_load_plot+J1838-B1838","v":59},{"$f":"connected_load_plot+K1838-C1838","v":53},{"$f":"connected_load_plot+L1838-D1838","v":58},{"$f":"0","v":0}]
["2024-04-29T18:40:00",23,11,25,0,12,3,17,0,38,23,37,0,59,null,null,null,null,null,null,null,{"$f":"connected_load_plot+J1839-B1839","v":57},{"$f":"connected_load_plot+K1839-C1839","v":54},{"$f":"connected_load_plot+L1839-D1839","v":54},{"$f":"0","v":0}]
["2024-04-29T18:45:00",22,14,24,0,12,3,17,0,38,26,30,0,60,null,null,null,null,null,null,null,{"$f":"connected_load_plot+J1840-B1840","v":58},{"$f":"connected_load_plot+K1840-C1840","v":54},{"$f":"connected_load_plot+L1840-D1840","v":48},{"$f":"0","v":0}]
["2024-04-29T18:50:00",20,15,25,0,12,3,17,0,37,26,30,0,60,null,null,null,null,null,null,null,{"$f":"connected_load_plot+J1841-B1841","v":59},{"$f":"connected_load_plot+K1841-C1841","v":53},{"$f":"connected_load_plot+L1841-D1841","v":47},{"$f":"0","v":0}]
["2024-04-29T18:55:00",21,15,26,0,12,3,17,0,37,25,36,0,62,null,null,null,null,null,null,null,{"$f":"connected_load_plot+J1842-B1842","v":58},{"$f":"connected_load_plot+K1842-C1842","v":52},{"$f":"connected_load_plot+L1842-D1842","v":52},{"$f":"0","v":0}]
["2024-04-29T19:00:00",22,13,26,0,12,3,17,0,38,26,37,0,61,null,null,null,null,null,null,null,{"$f":"connected_load_plot+J1843-B1843","v":58},{"$f":"connected_load_plot+K1843-C1843","v":55},{"$f":"connected_load_plot+L1843-D1843","v":53},{"$f":"0","v":0}]
["2024-04-29T19:05:00",21,11,25,0,12,2,17,0,37,26,36,0,57,null,null,null,null,null,null,null,{"$f":"connected_load_plot+J1844-B1844","v":58},{"$f":"connected_load_plot+K1844-C1844","v":57},{"$f":"connected_load_plot+L1844-D1844","v":53},{"$f":"0","v":0}]
["2024-04-29T19:10:00",21,14,24,0,12,3,17,0,44,32,31,0,59,null,null,null,null,null,null,null,{"$f":"connected_load_plot+J1845-B1845","v":65},{"$f":"connected_load_plot+K1845-C1845","v":60},{"$f":"connected_load_plot+L1845-D1845","v":49},{"$f":"0","v":0}]
["2024-04-29T19:15:00",22,14,25,0,12,3,17,0,38,26,31,0,61,null,null,null,null,null,null,null,{"$f":"connected_load_plot+J1846-B1846","v":58},{"$f":"connected_load_plot+K1846-C1846","v":54},{"$f":"connected_load_plot+L1846-D1846","v":48},{"$f":"0","v":0}]
["2024-04-29T19:20:00",21,13,26,0,12,3,17,0,38,26,37,0,60,null,null,null,null,null,null,null,{"$f":"connected_load_plot+J1847-B1847","v":59},{"$f":"connected_load_plot+K1847-C1847","v":55},{"$f":"connected_load_plot+L1847-D1847","v":53},{"$f":"0","v":0}]
["2024-04-29T19:25:00",22,11,25,0,12,3,17,0,38,20,37,0,58,null,null,null,null,null,null,null,{"$f":"connected_load_plot+J1848-B1848","v":58},{"$f":"connected_load_plot+K1848-C1848","v":51},{"$f":"connected_load_plot+L1848-D1848","v":54},{"$f":"0","v":0}]
["2024-04-29T19:30:00",21,13,24,0,12,3,17,0,38,27,31,0,58,null,null,null,null,null,null,null,{"$f":"connected_load_plot+J1849-B1849","v":59},{"$f":"connected_load_plot+K1849-C1849","v":56},{"$f":"connected_load_plot+L1849-D1849","v":49},{"$f":"0","v":0}]
["2024-04-29T19:35:00",20,16,25,0,12,3,17,0,38,33,30,0,61,null,null,null,null,null,null,null,{"$f":"connected_load_plot+J1850-B1850","v":60},{"$f":"connected_load_plot+K1850-C1850","v":59},{"$f":"connected_load_plot+L1850-D1850","v":47},{"$f":"0","v":0}]
["2024-04-29T19:40:00",22,14,26,0,12,3,17,0,38,27,30,0,62,null,null,null,null,null,null,null,{"$f":"connected_load_plot+J1851-B1851","v":58},{"$f":"connected_load_plot+K1851-C1851","v":55},{"$f":"connected_load_plot+L1851-D1851","v":46},{"$f":"0","v":0}]
["2024-04-29T19:45:00",23,12,26,0,12,3,17,0,38,27,37,0,61,null,null,null,null,null,null,null,{"$f":"connected_load_plot+J1852-B1852","v":57},{"$f":"connected_load_plot+K1852-C1852","v":57},{"$f":"connected_load_plot+L1852-D1852","v":53},{"$f":"0","v":0}]
["2024-04-29T19:50:00",20,13,26,0,11,3,17,0,38,21,37,0,59,null,null,null,null,null,null,null,{"$f":"connected_load_plot+J1853-B1853","v":60},{"$f":"connected_load_plot+K1853-C1853","v":50},{"$f":"connected_load_plot+L1853-D1853","v":53},{"$f":"0","v":0}]
["2024-04-29T19:55:00",21,14,25,0,11,3,17,0,37,29,31,0,60,null,null,null,null,null,null,null,{"$f":"connected_load_plot+J1854-B1854","v":58},{"$f":"connected_load_plot+K1854-C1854","v":57},{"$f":"connected_load_plot+L1854-D1854","v":48},{"$f":"0","v":0}]
["2024-04-29T20:00:00",22,16,26,0,11,3,17,0,38,34,31,0,64,null,null,null,null,null,null,null,{"$f":"connected_load_plot+J1855-B1855","v":58},{"$f":"connected_load_plot+K1855-C1855","v":60},{"$f":"connected_load_plot+L1855-D1855","v":47},{"$f":"0","v":0}]
["2024-04-29T20:05:00",22,11,24,0,12,3,17,0,38,27,38,0,57,null,null,null,null,null,null,null,{"$f":"connected_load_plot+J1856-B1856","v":58},{"$f":"connected_load_plot+K1856-C1856","v":58},{"$f":"connected_load_plot+L1856-D1856","v":56},{"$f":"0","v":0}]
["2024-04-29T20:10:00",23,12,27,0,12,3,18,0,39,20,38,0,62,null,null,null,null,null,null,null,{"$f":"connected_load_plot+J1857-B1857","v":58},{"$f":"connected_load_plot+K1857-C1857","v":50},{"$f":"connected_load_plot+L1857-D1857","v":53},{"$f":"0","v":0}]
["2024-04-29T20:15:00",25,14,25,0,13,3,18,0,39,27,32,0,64,null,null,null,null,null,null,null,{"$f":"connected_load_plot+J1858-B1858","v":56},{"$f":"connected_load_plot+K1858-C1858","v":55},{"$f":"connected_load_plot+L1858-D1858","v":49},{"$f":"0","v":0}]
["2024-04-29T20:20:00",21,14,25,0,13,3,18,0,39,27,32,0,{"$f":"SUM(B1859:D1859)","v":60},null,null,null,null,null,null,null,{"$f":"connected_load_plot+J1859-B1859","v":60},{"$f":"connected_load_plot+K1859-C1859","v":55},{"$f":"connected_load_plot+L1859-D1859","v":49},{"$f":"0","v":0}]
["2024-04-29T20:25:00",23,12,27,0,14,2,18,0,39,27,32,0,62,null,null,null,null,null,null,null,{"$f":"connected_load_plot+J1860-B1860","v":58},{"$f":"connected_load_plot+K1860-C1860","v":57},{"$f":"connected_load_plot+L1860-D1860","v":47},{"$f":"0","v":0}]
["2024-04-29T20:30:00",24,12,27,0,14,2,18,0,40,25,38,0,63,null,null,null,null,null,null,null,{"$f":"connected_load_plot+J1861-B1861","v":58},{"$f":"connected_load_plot+K1861-C1861","v":55},{"$f":"connected_load_plot+L1861-D1861","v":53},{"$f":"0","v":0}]
["2024-04-29T20:35:00",20,13,27,0,8,3,18,0,33,26,38,0,60,null,null,null,null,null,null,null,{"$f":"connected_load_plot+J1862-B1862","v":55},{"$f":"connected_load_plot+K1862-C1862","v":55},{"$f":"connected_load_plot+L1862-D1862","v":53},{"$f":"0","v":0}]
["2024-04-29T20:40:00",20,12,26,0,8,3,18,0,34,26,32,0,58,null,null,null,null,null,null,null,{"$f":"connected_load_plot+J1863-B1863","v":56},{"$f":"connected_load_plot+K1863-C1863","v":56},{"$f":"connected_load_plot+L1863-D1863","v":48},{"$f":"0","v":0}]
["2024-04-29T20:45:00",21,11,25,0,14,2,18,0,34,26,32,0,57,null,null,null,null,null,null,null,{"$f":"connected_load_plot+J1864-B1864","v":55},{"$f":"connected_load_plot+K1864-C1864","v":57},{"$f":"connected_load_plot+L1864-D1864","v":49},{"$f":"0","v":0}]
["2024-04-29T20:50:00",19,14,26,0,8,3,19,0,33,26,37,0,59,null,null,null,null,null,null,null,{"$f":"connected_load_plot+J1865-B1865","v":56},{"$f":"connected_load_plot+K1865-C1865","v":54},{"$f":"connected_load_plot+L1865-D1865","v":53},{"$f":"0","v":0}]
["2024-04-29T20:55:00",19,14,29,0,8,3,18,0,33,26,39,0,62,null,null,null,null,null,null,null,{"$f":"connected_load_plot+J1866-B1866","v":56},{"$f":"connected_load_plot+K1866-C1866","v":54},{"$f":"connected_load_plot+L1866-D1866","v":52},{"$f":"0","v":0}]
["2024-04-29T21:00:00",20,15,26,0,13,3,18,0,33,27,39,0,61,null,null,null,null,null,null,null,{"$f":"connected_load_plot+J1867-B1867","v":55},{"$f":"connected_load_plot+K1867-C1867","v":54},{"$f":"connected_load_plot+L1867-D1867","v":55},{"$f":"0","v":0}]
["2024-04-29T21:05:00",18,13,25,0,7,3,18,0,34,20,32,0,56,null,null,null,null,null,null,null,{"$f":"connected_load_plot+J1868-B1868","v":58},{"$f":"connected_load_plot+K1868-C1868","v":49},{"$f":"connected_load_plot+L1868-D1868","v":49},{"$f":"0","v":0}]
["2024-04-29T21:10:00",22,12,26,0,9,3,18,0,41,23,40,0,60,null,null,null,null,null,null,null,{"$f":"connected_load_plot+J1869-B1869","v":61},{"$f":"connected_load_plot+K1869-C1869","v":53},{"$f":"connected_load_plot+L1869-D1869","v":56},{"$f":"0","v":0}]
["2024-04-29T21:15:00",24,15,30,0,14,3,18,0,40,33,40,0,69,null,null,null,null,null,null,null,{"$f":"connected_load_plot+J1870-B1870","v":58},{"$f":"connected_load_plot+K1870-C1870","v":60},{"$f":"connected_load_plot+L1870-D1870","v":52},{"$f":"0","v":0}]
["2024-04-29T21:20:00",22,14,28,0,8,3,19,0,40,33,38,0,64,null,null,null,null,null,null,null,{"$f":"connected_load_plot+J1871-B1871","v":60},{"$f":"connected_load_plot+K1871-C1871","v":61},{"$f":"connected_load_plot+L1871-D1871","v":52},{"$f":"0","v":0}]
["2024-04-29T21:25:00",22,13,25,0,8,4,18,0,42,21,32,0,60,null,null,null,null,null,null,null,{"$f":"connected_load_plot+J1872-B1872","v":62},{"$f":"connected_load_plot+K1872-C1872","v":50},{"$f":"connected_load_plot+L1872-D1872","v":49},{"$f":"0","v":0}]
["2024-04-29T21:30:00",20,14,25,0,9,4,18,0,34,22,32,0,59,null,null,null,null,null,null,null,{"$f":"connected_load_plot+J1873-B1873","v":56},{"$f":"connected_load_plot+K1873-C1873","v":50},{"$f":"connected_load_plot+L1873-D1873","v":49},{"$f":"0","v":0}]
["2024-04-29T21:35:00",22,13,26,0,8,4,18,0,41,27,32,0,61,null,null,null,null,null,null,null,{"$f":"connected_load_plot+J1874-B1874","v":61},{"$f":"connected_load_plot+K1874-C1874","v":56},{"$f":"connected_load_plot+L1874-D1874","v":48},{"$f":"0","v":0}]
["2024-04-29T21:40:00",20,16,30,0,8,4,18,0,40,30,45,0,66,null,null,null,null,null,null,null,{"$f":"connected_load_plot+J1875-B1875","v":62},{"$f":"connected_load_plot+K1875-C1875","v":56},{"$f":"connected_load_plot+L1875-D1875","v":57},{"$f":"0","v":0}]
["2024-04-29T21:45:00",20,15,27,0,8,4,18,0,34,34,44,0,62,null,null,null,null,null,null,null,{"$f":"connected_load_plot+J1876-B1876","v":56},{"$f":"connected_load_plot+K1876-C1876","v":61},{"$f":"connected_load_plot+L1876-D1876","v":59},{"$f":"0","v":0}]
["2024-04-29T21:50:00",20,12,25,0,9,4,18,0,40,21,32,0,57,null,null,null,null,null,null,null,{"$f":"connected_load_plot+J1877-B1877","v":62},{"$f":"connected_load_plot+K1877-C1877","v":51},{"$f":"connected_load_plot+L1877-D1877","v":49},{"$f":"0","v":0}]
["2024-04-29T21:55:00",22,13,26,0,8,4,18,0,40,24,32,0,61,null,null,null,null,null,null,null,{"$f":"connected_load_plot+J1878-B1878","v":60},{"$f":"connected_load_plot+K1878-C1878","v":53},{"$f":"connected_load_plot+L1878-D1878","v":48},{"$f":"0","v":0}]
["2024-04-29T22:00:00",20,15,24,0,8,4,13,0,40,28,38,0,59,null,null,null,null,null,null,null,{"$f":"connected_load_plot+J1879-B1879","v":62},{"$f":"connected_load_plot+K1879-C1879","v":55},{"$f":"connected_load_plot+L1879-D1879","v":56},{"$f":"0","v":0}]
["2024-04-29T22:05:00",18,14,25,0,8,3,13,0,34,27,39,0,57,null,null,null,null,null,null,null,{"$f":"connected_load_plot+J1880-B1880","v":58},{"$f":"connected_load_plot+K1880-C1880","v":55},{"$f":"connected_load_plot+L1880-D1880","v":56},{"$f":"0","v":0}]
["2024-04-29T22:10:00",21,14,21,0,8,3,13,0,40,29,27,0,56,null,null,null,null,null,null,null,{"$f":"connected_load_plot+J1881-B1881","v":61},{"$f":"connected_load_plot+K1881-C1881","v":57},{"$f":"connected_load_plot+L1881-D1881","v":48},{"$f":"0","v":0}]
["2024-04-29T22:15:00",21,13,20,0,9,3,14,0,40,27,32,0,54,null,null,null,null,null,null,null,{"$f":"connected_load_plot+J1882-B1882","v":61},{"$f":"connected_load_plot+K1882-C1882","v":56},{"$f":"connected_load_plot+L1882-D1882","v":54},{"$f":"0","v":0}]
["2024-04-29T22:20:00",18,13,27,0,8,4,18,0,33,27,32,0,58,null,null,null,null,null,null,null,{"$f":"connected_load_plot+J1883-B1883","v":57},{"$f":"connected_load_plot+K1883-C1883","v":56},{"$f":"connected_load_plot+L1883-D1883","v":47},{"$f":"0","v":0}]
["2024-04-29T22:25:00",20,14,28,0,8,3,18,0,40,26,44,0,62,null,null,null,null,null,null,null,{"$f":"connected_load_plot+J1884-B1884","v":62},{"$f":"connected_load_plot+K1884-C1884","v":54},{"$f":"connected_load_plot+L1884-D1884","v":58},{"$f":"0","v":0}]
["2024-04-29T22:30:00",21,11,22,0,8,3,13,0,40,27,39,0,54,null,null,null,null,null,null,null,{"$f":"connected_load_plot+J1885-B1885","v":61},{"$f":"connected_load_plot+K1885-C1885","v":58},{"$f":"connected_load_plot+L1885-D1885","v":59},{"$f":"0","v":0}]
["2024-04-29T22:35:00",18,9,20,0,7,3,13,0,33,24,27,0,47,null,null,null,null,null,null,null,{"$f":"connected_load_plot+J1886-B1886","v":57},{"$f":"connected_load_plot+K1886-C1886","v":57},{"$f":"connected_load_plot+L1886-D1886","v":49},{"$f":"0","v":0}]
["2024-04-29T22:40:00",21,14,20,0,7,4,13,0,41,30,27,0,55,null,null,null,null,null,null,null,{"$f":"connected_load_plot+J1887-B1887","v":62},{"$f":"connected_load_plot+K1887-C1887","v":58},{"$f":"connected_load_plot+L1887-D1887","v":49},{"$f":"0","v":0}]
["2024-04-29T22:45:00",21,14,22,0,7,4,13,0,39,24,31,0,57,null,null,null,null,null,null,null,{"$f":"connected_load_plot+J1888-B1888","v":60},{"$f":"connected_load_plot+K1888-C1888","v":52},{"$f":"connected_load_plot+L1888-D1888","v":51},{"$f":"0","v":0}]
["2024-04-29T22:50:00",20,12,28,0,8,4,17,0,33,24,38,0,60,null,null,null,null,null,null,null,{"$f":"connected_load_plot+J1889-B1889","v":55},{"$f":"connected_load_plot+K1889-C1889","v":54},{"$f":"connected_load_plot+L1889-D1889","v":52},{"$f":"0","v":0}]
["2024-04-29T22:55:00",18,12,26,0,8,4,18,0,33,18,38,0,56,null,null,null,null,null,null,null,{"$f":"connected_load_plot+J1890-B1890","v":57},{"$f":"connected_load_plot+K1890-C1890","v":48},{"$f":"connected_load_plot+L1890-D1890","v":54},{"$f":"0","v":0}]
["2024-04-29T23:00:00",20,13,20,0,8,4,13,0,40,24,26,0,53,null,null,null,null,null,null,null,{"$f":"connected_load_plot+J1891-B1891","v":62},{"$f":"connected_load_plot+K1891-C1891","v":53},{"$f":"connected_load_plot+L1891-D1891","v":48},{"$f":"0","v":0}]
["2024-04-29T23:05:00",21,15,22,0,8,4,13,0,40,30,31,0,58,null,null,null,null,null,null,null,{"$f":"connected_load_plot+J1892-B1892","v":61},{"$f":"connected_load_plot+K1892-C1892","v":57},{"$f":"connected_load_plot+L1892-D1892","v":51},{"$f":"0","v":0}]
["2024-04-29T23:10:00",18,11,22,0,8,4,12,0,33,24,27,0,51,null,null,null,null,null,null,null,{"$f":"connected_load_plot+J1893-B1893","v":57},{"$f":"connected_load_plot+K1893-C1893","v":55},{"$f":"connected_load_plot+L1893-D1893","v":47},{"$f":"0","v":0}]
["2024-04-29T23:15:00",18,12,26,0,7,4,18,0,32,18,38,0,56,null,null,null,null,null,null,null,{"$f":"connected_load_plot+J1894-B1894","v":56},{"$f":"connected_load_plot+K1894-C1894","v":48},{"$f":"connected_load_plot+L1894-D1894","v":54},{"$f":"0","v":0}]
["2024-04-29T23:20:00",20,12,27,0,7,4,13,0,39,17,39,0,59,null,null,null,null,null,null,null,{"$f":"connected_load_plot+J1895-B1895","v":61},{"$f":"connected_load_plot+K1895-C1895","v":47},{"$f":"connected_load_plot+L1895-D1895","v":54},{"$f":"0","v":0}]
["2024-04-29T23:25:00",19,12,21,0,7,4,13,0,39,24,27,0,52,null,null,null,null,null,null,null,{"$f":"connected_load_plot+J1896-B1896","v":62},{"$f":"connected_load_plot+K1896-C1896","v":54},{"$f":"connected_load_plot+L1896-D1896","v":48},{"$f":"0","v":0}]
["2024-04-29T23:30:00",18,13,22,0,7,4,13,0,33,30,28,0,53,null,null,null,null,null,null,null,{"$f":"connected_load_plot+J1897-B1897","v":57},{"$f":"connected_load_plot+K1897-C1897","v":59},{"$f":"connected_load_plot+L1897-D1897","v":48},{"$f":"0","v":0}]
["2024-04-29T23:35:00",17,12,21,0,7,4,13,0,39,30,27,0,50,null,null,null,null,null,null,null,{"$f":"connected_load_plot+J1898-B1898","v":64},{"$f":"connected_load_plot+K1898-C1898","v":60},{"$f":"connected_load_plot+L1898-D1898","v":48},{"$f":"0","v":0}]
["2024-04-29T23:40:00",21,12,22,0,7,3,13,0,39,17,34,0,55,null,null,null,null,null,null,null,{"$f":"connected_load_plot+J1899-B1899","v":60},{"$f":"connected_load_plot+K1899-C1899","v":47},{"$f":"connected_load_plot+L1899-D1899","v":54},{"$f":"0","v":0}]
["2024-04-29T23:45:00",19,11,25,0,6,3,13,0,33,17,39,0,55,null,null,null,null,null,null,null,{"$f":"connected_load_plot+J1900-B1900","v":56},{"$f":"connected_load_plot+K1900-C1900","v":48},{"$f":"connected_load_plot+L1900-D1900","v":56},{"$f":"0","v":0}]
["2024-04-29T23:50:00",16,11,26,0,6,3,18,0,31,23,32,0,53,null,null,null,null,null,null,null,{"$f":"connected_load_plot+J1901-B1901","v":57},{"$f":"connected_load_plot+K1901-C1901","v":54},{"$f":"connected_load_plot+L1901-D1901","v":48},{"$f":"0","v":0}]
["2024-04-29T23:55:00",16,10,23,0,6,3,13,0,36,22,31,0,49,null,null,null,null,null,null,null,{"$f":"connected_load_plot+J1902-B1902","v":62},{"$f":"connected_load_plot+K1902-C1902","v":54},{"$f":"connected_load_plot+L1902-D1902","v":50},{"$f":"0","v":0}]
["2024-04-30",17,13,20,0,12,2,13,0,36,28,26,0,50,null,null,null,null,null,null,null,{"$f":"connected_load_plot+J1903-B1903","v":61},{"$f":"connected_load_plot+K1903-C1903","v":57},{"$f":"connected_load_plot+L1903-D1903","v":48},{"$f":"0","v":0}]
["2024-04-30T00:05:00",20,10,24,0,12,3,13,0,32,21,37,0,54,null,null,null,null,null,null,null,{"$f":"connected_load_plot+J1904-B1904","v":54},{"$f":"connected_load_plot+K1904-C1904","v":53},{"$f":"connected_load_plot+L1904-D1904","v":55},{"$f":"0","v":0}]
["2024-04-30T00:10:00",19,10,26,0,7,3,17,0,31,16,37,0,55,null,null,null,null,null,null,null,{"$f":"connected_load_plot+J1905-B1905","v":54},{"$f":"connected_load_plot+K1905-C1905","v":48},{"$f":"connected_load_plot+L1905-D1905","v":53},{"$f":"0","v":0}]
["2024-04-30T00:15:00",19,13,23,0,12,3,13,0,37,22,31,0,55,null,null,null,null,null,null,null,{"$f":"connected_load_plot+J1906-B1906","v":60},{"$f":"connected_load_plot+K1906-C1906","v":51},{"$f":"connected_load_plot+L1906-D1906","v":50},{"$f":"0","v":0}]
["2024-04-30T00:20:00",16,12,22,0,11,4,13,0,30,22,26,0,50,null,null,null,null,null,null,null,{"$f":"connected_load_plot+J1907-B1907","v":56},{"$f":"connected_load_plot+K1907-C1907","v":52},{"$f":"connected_load_plot+L1907-D1907","v":46},{"$f":"0","v":0}]
["2024-04-30T00:25:00",17,10,22,0,6,3,13,0,32,26,33,0,49,null,null,null,null,null,null,null,{"$f":"connected_load_plot+J1908-B1908","v":57},{"$f":"connected_load_plot+K1908-C1908","v":58},{"$f":"connected_load_plot+L1908-D1908","v":53},{"$f":"0","v":0}]
["2024-04-30T00:30:00",20,13,22,0,6,3,13,0,39,29,33,0,55,null,null,null,null,null,null,null,{"$f":"connected_load_plot+J1909-B1909","v":61},{"$f":"connected_load_plot+K1909-C1909","v":58},{"$f":"connected_load_plot+L1909-D1909","v":53},{"$f":"0","v":0}]
["2024-04-30T00:35:00",18,9,24,0,6,3,13,0,32,16,38,0,51,null,null,null,null,null,null,null,{"$f":"connected_load_plot+J1910-B1910","v":56},{"$f":"connected_load_plot+K1910-C1910","v":49},{"$f":"connected_load_plot+L1910-D1910","v":56},{"$f":"0","v":0}]
["2024-04-30T00:40:00",16,10,26,0,6,3,18,0,31,23,38,0,52,null,null,null,null,null,null,null,{"$f":"connected_load_plot+J1911-B1911","v":57},{"$f":"connected_load_plot+K1911-C1911","v":55},{"$f":"connected_load_plot+L1911-D1911","v":54},{"$f":"0","v":0}]
["2024-04-30T00:45:00",18,12,25,0,6,3,13,0,38,23,33,0,55,null,null,null,null,null,null,null,{"$f":"connected_load_plot+J1912-B1912","v":62},{"$f":"connected_load_plot+K1912-C1912","v":53},{"$f":"connected_load_plot+L1912-D1912","v":50},{"$f":"0","v":0}]
["2024-04-30T00:50:00",17,9,23,0,6,3,13,0,37,17,33,0,49,null,null,null,null,null,null,null,{"$f":"connected_load_plot+J1913-B1913","v":62},{"$f":"connected_load_plot+K1913-C1913","v":50},{"$f":"connected_load_plot+L1913-D1913","v":52},{"$f":"0","v":0}]
["2024-04-30T00:55:00",17,12,21,0,6,4,13,0,32,30,33,0,50,null,null,null,null,null,null,null,{"$f":"connected_load_plot+J1914-B1914","v":57},{"$f":"connected_load_plot+K1914-C1914","v":60},{"$f":"connected_load_plot+L1914-D1914","v":54},{"$f":"0","v":0}]
["2024-04-30T01:00:00",18,15,20,0,5,4,13,0,37,30,27,0,53,null,null,null,null,null,null,null,{"$f":"connected_load_plot+J1915-B1915","v":61},{"$f":"connected_load_plot+K1915-C1915","v":57},{"$f":"connected_load_plot+L1915-D1915","v":49},{"$f":"0","v":0}]
["2024-04-30T01:05:00",16,12,24,0,5,4,13,0,37,24,32,0,52,null,null,null,null,null,null,null,{"$f":"connected_load_plot+J1916-B1916","v":63},{"$f":"connected_load_plot+K1916-C1916","v":54},{"$f":"connected_load_plot+L1916-D1916","v":50},{"$f":"0","v":0}]
["2024-04-30T01:10:00",15,11,27,0,5,3,18,0,30,17,32,0,53,null,null,null,null,null,null,null,{"$f":"connected_load_plot+J1917-B1917","v":57},{"$f":"connected_load_plot+K1917-C1917","v":48},{"$f":"connected_load_plot+L1917-D1917","v":47},{"$f":"0","v":0}]
["2024-04-30T01:15:00",17,12,23,0,6,4,13,0,31,24,33,0,52,null,null,null,null,null,null,null,{"$f":"connected_load_plot+J1918-B1918","v":56},{"$f":"connected_load_plot+K1918-C1918","v":54},{"$f":"connected_load_plot+L1918-D1918","v":52},{"$f":"0","v":0}]
["2024-04-30T01:20:00",18,11,22,0,6,3,13,0,38,23,33,0,51,null,null,null,null,null,null,null,{"$f":"connected_load_plot+J1919-B1919","v":62},{"$f":"connected_load_plot+K1919-C1919","v":54},{"$f":"connected_load_plot+L1919-D1919","v":53},{"$f":"0","v":0}]
["2024-04-30T01:25:00",18,11,20,0,6,3,13,0,38,29,27,0,49,null,null,null,null,null,null,null,{"$f":"connected_load_plot+J1920-B1920","v":62},{"$f":"connected_load_plot+K1920-C1920","v":60},{"$f":"connected_load_plot+L1920-D1920","v":49},{"$f":"0","v":0}]
["2024-04-30T01:30:00",16,13,19,0,7,3,13,0,33,29,27,0,48,null,null,null,null,null,null,null,{"$f":"connected_load_plot+J1921-B1921","v":59},{"$f":"connected_load_plot+K1921-C1921","v":58},{"$f":"connected_load_plot+L1921-D1921","v":50},{"$f":"0","v":0}]
["2024-04-30T01:35:00",19,8,19,0,7,2,13,0,38,16,26,0,46,null,null,null,null,null,null,null,{"$f":"connected_load_plot+J1922-B1922","v":61},{"$f":"connected_load_plot+K1922-C1922","v":50},{"$f":"connected_load_plot+L1922-D1922","v":49},{"$f":"0","v":0}]
["2024-04-30T01:40:00",18,11,27,0,11,3,17,0,36,21,37,0,{"$f":"SUM(B1923:D1923)","v":56},null,null,null,null,null,null,null,{"$f":"connected_load_plot+J1923-B1923","v":60},{"$f":"connected_load_plot+K1923-C1923","v":52},{"$f":"connected_load_plot+L1923-D1923","v":52},{"$f":"0","v":0}]
["2024-04-30T01:45:00",19,12,27,0,6,3,17,0,30,21,37,0,58,null,null,null,null,null,null,null,{"$f":"connected_load_plot+J1924-B1924","v":53},{"$f":"connected_load_plot+K1924-C1924","v":51},{"$f":"connected_load_plot+L1924-D1924","v":52},{"$f":"0","v":0}]
["2024-04-30T01:50:00",17,11,23,0,6,2,13,0,30,22,31,0,51,null,null,null,null,null,null,null,{"$f":"connected_load_plot+J1925-B1925","v":55},{"$f":"connected_load_plot+K1925-C1925","v":53},{"$f":"connected_load_plot+L1925-D1925","v":50},{"$f":"0","v":0}]
["2024-04-30T01:55:00",16,11,20,0,6,3,13,0,37,22,26,0,47,null,null,null,null,null,null,null,{"$f":"connected_load_plot+J1926-B1926","v":63},{"$f":"connected_load_plot+K1926-C1926","v":53},{"$f":"connected_load_plot+L1926-D1926","v":48},{"$f":"0","v":0}]
["2024-04-30T02:00:00",18,12,19,0,12,3,13,0,31,22,26,0,49,null,null,null,null,null,null,null,{"$f":"connected_load_plot+J1927-B1927","v":55},{"$f":"connected_load_plot+K1927-C1927","v":52},{"$f":"connected_load_plot+L1927-D1927","v":49},{"$f":"0","v":0}]
["2024-04-30T02:05:00",16,11,23,0,6,3,13,0,30,22,33,0,50,null,null,null,null,null,null,null,{"$f":"connected_load_plot+J1928-B1928","v":56},{"$f":"connected_load_plot+K1928-C1928","v":53},{"$f":"connected_load_plot+L1928-D1928","v":52},{"$f":"0","v":0}]
["2024-04-30T02:10:00",20,12,28,0,6,3,18,0,38,23,44,0,60,null,null,null,null,null,null,null,{"$f":"connected_load_plot+J1929-B1929","v":60},{"$f":"connected_load_plot+K1929-C1929","v":53},{"$f":"connected_load_plot+L1929-D1929","v":58},{"$f":"0","v":0}]
["2024-04-30T02:15:00",18,12,25,0,6,2,18,0,38,23,37,0,55,null,null,null,null,null,null,null,{"$f":"connected_load_plot+J1930-B1930","v":62},{"$f":"connected_load_plot+K1930-C1930","v":53},{"$f":"connected_load_plot+L1930-D1930","v":54},{"$f":"0","v":0}]
["2024-04-30T02:20:00",14,9,21,0,5,2,13,0,30,22,31,0,44,null,null,null,null,null,null,null,{"$f":"connected_load_plot+J1931-B1931","v":58},{"$f":"connected_load_plot+K1931-C1931","v":55},{"$f":"connected_load_plot+L1931-D1931","v":52},{"$f":"0","v":0}]
["2024-04-30T02:25:00",17,9,20,0,5,2,13,0,31,16,26,0,46,null,null,null,null,null,null,null,{"$f":"connected_load_plot+J1932-B1932","v":56},{"$f":"connected_load_plot+K1932-C1932","v":49},{"$f":"connected_load_plot+L1932-D1932","v":48},{"$f":"0","v":0}]
["2024-04-30T02:30:00",18,13,22,0,6,2,13,0,38,28,33,0,53,null,null,null,null,null,null,null,{"$f":"connected_load_plot+J1933-B1933","v":62},{"$f":"connected_load_plot+K1933-C1933","v":57},{"$f":"connected_load_plot+L1933-D1933","v":53},{"$f":"0","v":0}]
["2024-04-30T02:35:00",17,11,22,0,6,2,13,0,32,29,34,0,50,null,null,null,null,null,null,null,{"$f":"connected_load_plot+J1934-B1934","v":57},{"$f":"connected_load_plot+K1934-C1934","v":60},{"$f":"connected_load_plot+L1934-D1934","v":54},{"$f":"0","v":0}]
["2024-04-30T02:40:00",18,11,25,0,6,3,18,0,32,23,37,0,54,null,null,null,null,null,null,null,{"$f":"connected_load_plot+J1935-B1935","v":56},{"$f":"connected_load_plot+K1935-C1935","v":54},{"$f":"connected_load_plot+L1935-D1935","v":54},{"$f":"0","v":0}]
["2024-04-30T02:45:00",17,11,25,0,6,3,13,0,38,23,37,0,53,null,null,null,null,null,null,null,{"$f":"connected_load_plot+J1936-B1936","v":63},{"$f":"connected_load_plot+K1936-C1936","v":54},{"$f":"connected_load_plot+L1936-D1936","v":54},{"$f":"0","v":0}]
["2024-04-30T02:50:00",15,11,21,0,6,3,13,0,32,17,35,0,47,null,null,null,null,null,null,null,{"$f":"connected_load_plot+J1937-B1937","v":59},{"$f":"connected_load_plot+K1937-C1937","v":48},{"$f":"connected_load_plot+L1937-D1937","v":56},{"$f":"0","v":0}]
["2024-04-30T02:55:00",18,11,21,0,6,3,12,0,32,24,32,0,50,null,null,null,null,null,null,null,{"$f":"connected_load_plot+J1938-B1938","v":56},{"$f":"connected_load_plot+K1938-C1938","v":55},{"$f":"connected_load_plot+L1938-D1938","v":53},{"$f":"0","v":0}]
["2024-04-30T03:00:00",20,10,20,0,12,2,13,0,38,29,26,0,50,null,null,null,null,null,null,null,{"$f":"connected_load_plot+J1939-B1939","v":60},{"$f":"connected_load_plot+K1939-C1939","v":61},{"$f":"connected_load_plot+L1939-D1939","v":48},{"$f":"0","v":0}]
["2024-04-30T03:05:00",18,11,21,0,12,2,12,0,36,27,30,0,50,null,null,null,null,null,null,null,{"$f":"connected_load_plot+J1940-B1940","v":60},{"$f":"connected_load_plot+K1940-C1940","v":58},{"$f":"connected_load_plot+L1940-D1940","v":51},{"$f":"0","v":0}]
["2024-04-30T03:10:00",17,9,25,0,12,2,17,0,31,21,36,0,51,null,null,null,null,null,null,null,{"$f":"connected_load_plot+J1941-B1941","v":56},{"$f":"connected_load_plot+K1941-C1941","v":54},{"$f":"connected_load_plot+L1941-D1941","v":53},{"$f":"0","v":0}]
["2024-04-30T03:15:00",17,8,25,0,11,2,17,0,30,15,36,0,50,null,null,null,null,null,null,null,{"$f":"connected_load_plot+J1942-B1942","v":55},{"$f":"connected_load_plot+K1942-C1942","v":49},{"$f":"connected_load_plot+L1942-D1942","v":53},{"$f":"0","v":0}]
["2024-04-30T03:20:00",17,8,21,0,11,2,12,0,38,22,30,0,46,null,null,null,null,null,null,null,{"$f":"connected_load_plot+J1943-B1943","v":63},{"$f":"connected_load_plot+K1943-C1943","v":56},{"$f":"connected_load_plot+L1943-D1943","v":51},{"$f":"0","v":0}]
["2024-04-30T03:25:00",20,8,21,0,12,2,12,0,38,22,26,0,49,null,null,null,null,null,null,null,{"$f":"connected_load_plot+J1944-B1944","v":60},{"$f":"connected_load_plot+K1944-C1944","v":56},{"$f":"connected_load_plot+L1944-D1944","v":47},{"$f":"0","v":0}]
["2024-04-30T03:30:00",18,11,19,0,12,2,12,0,31,28,26,0,48,null,null,null,null,null,null,null,{"$f":"connected_load_plot+J1945-B1945","v":55},{"$f":"connected_load_plot+K1945-C1945","v":59},{"$f":"connected_load_plot+L1945-D1945","v":49},{"$f":"0","v":0}]
["2024-04-30T03:35:00",16,10,25,0,6,3,12,0,31,29,37,0,51,null,null,null,null,null,null,null,{"$f":"connected_load_plot+J1946-B1946","v":57},{"$f":"connected_load_plot+K1946-C1946","v":61},{"$f":"connected_load_plot+L1946-D1946","v":54},{"$f":"0","v":0}]
["2024-04-30T03:40:00",16,8,25,0,6,3,17,0,37,16,36,0,49,null,null,null,null,null,null,null,{"$f":"connected_load_plot+J1947-B1947","v":63},{"$f":"connected_load_plot+K1947-C1947","v":50},{"$f":"connected_load_plot+L1947-D1947","v":53},{"$f":"0","v":0}]
["2024-04-30T03:45:00",18,9,24,0,6,3,17,0,37,22,30,0,51,null,null,null,null,null,null,null,{"$f":"connected_load_plot+J1948-B1948","v":61},{"$f":"connected_load_plot+K1948-C1948","v":55},{"$f":"connected_load_plot+L1948-D1948","v":48},{"$f":"0","v":0}]
["2024-04-30T03:50:00",17,10,23,0,6,3,12,0,31,22,31,0,50,null,null,null,null,null,null,null,{"$f":"connected_load_plot+J1949-B1949","v":56},{"$f":"connected_load_plot+K1949-C1949","v":54},{"$f":"connected_load_plot+L1949-D1949","v":50},{"$f":"0","v":0}]
["2024-04-30T03:55:00",17,10,22,0,6,3,12,0,31,23,32,0,49,null,null,null,null,null,null,null,{"$f":"connected_load_plot+J1950-B1950","v":56},{"$f":"connected_load_plot+K1950-C1950","v":55},{"$f":"connected_load_plot+L1950-D1950","v":52},{"$f":"0","v":0}]
["2024-04-30T04:00:00",18,11,20,0,6,3,12,0,36,28,31,0,49,null,null,null,null,null,null,null,{"$f":"connected_load_plot+J1951-B1951","v":60},{"$f":"connected_load_plot+K1951-C1951","v":59},{"$f":"connected_load_plot+L1951-D1951","v":53},{"$f":"0","v":0}]
["2024-04-30T04:05:00",16,8,23,0,11,3,12,0,36,22,31,0,47,null,null,null,null,null,null,null,{"$f":"connected_load_plot+J1952-B1952","v":62},{"$f":"connected_load_plot+K1952-C1952","v":56},{"$f":"connected_load_plot+L1952-D1952","v":50},{"$f":"0","v":0}]
["2024-04-30T04:10:00",16,9,26,0,5,3,17,0,30,23,32,0,51,null,null,null,null,null,null,null,{"$f":"connected_load_plot+J1953-B1953","v":56},{"$f":"connected_load_plot+K1953-C1953","v":56},{"$f":"connected_load_plot+L1953-D1953","v":48},{"$f":"0","v":0}]
["2024-04-30T04:15:00",17,11,27,0,5,3,13,0,31,23,38,0,55,null,null,null,null,null,null,null,{"$f":"connected_load_plot+J1954-B1954","v":56},{"$f":"connected_load_plot+K1954-C1954","v":54},{"$f":"connected_load_plot+L1954-D1954","v":53},{"$f":"0","v":0}]
["2024-04-30T04:20:00",15,9,21,0,5,3,13,0,37,23,33,0,45,null,null,null,null,null,null,null,{"$f":"connected_load_plot+J1955-B1955","v":64},{"$f":"connected_load_plot+K1955-C1955","v":56},{"$f":"connected_load_plot+L1955-D1955","v":54},{"$f":"0","v":0}]
["2024-04-30T04:25:00",16,7,20,0,5,2,13,0,37,16,26,0,43,null,null,null,null,null,null,null,{"$f":"connected_load_plot+J1956-B1956","v":63},{"$f":"connected_load_plot+K1956-C1956","v":51},{"$f":"connected_load_plot+L1956-D1956","v":48},{"$f":"0","v":0}]
["2024-04-30T04:30:00",17,9,19,0,6,2,13,0,31,29,26,0,45,null,null,null,null,null,null,null,{"$f":"connected_load_plot+J1957-B1957","v":56},{"$f":"connected_load_plot+K1957-C1957","v":62},{"$f":"connected_load_plot+L1957-D1957","v":49},{"$f":"0","v":0}]
["2024-04-30T04:35:00",17,10,25,0,6,2,13,0,32,28,38,0,52,null,null,null,null,null,null,null,{"$f":"connected_load_plot+J1958-B1958","v":57},{"$f":"connected_load_plot+K1958-C1958","v":60},{"$f":"connected_load_plot+L1958-D1958","v":55},{"$f":"0","v":0}]
["2024-04-30T04:40:00",16,9,27,0,6,3,18,0,38,22,38,0,52,null,null,null,null,null,null,null,{"$f":"connected_load_plot+J1959-B1959","v":64},{"$f":"connected_load_plot+K1959-C1959","v":55},{"$f":"connected_load_plot+L1959-D1959","v":53},{"$f":"0","v":0}]
["2024-04-30T04:45:00",18,7,22,0,6,2,12,0,38,22,32,0,47,null,null,null,null,null,null,null,{"$f":"connected_load_plot+J1960-B1960","v":62},{"$f":"connected_load_plot+K1960-C1960","v":57},{"$f":"connected_load_plot+L1960-D1960","v":52},{"$f":"0","v":0}]
["2024-04-30T04:50:00",17,8,20,0,7,2,12,0,32,22,26,0,45,null,null,null,null,null,null,null,{"$f":"connected_load_plot+J1961-B1961","v":57},{"$f":"connected_load_plot+K1961-C1961","v":56},{"$f":"connected_load_plot+L1961-D1961","v":48},{"$f":"0","v":0}]
["2024-04-30T04:55:00",17,9,19,0,7,3,12,0,32,23,26,0,45,null,null,null,null,null,null,null,{"$f":"connected_load_plot+J1962-B1962","v":57},{"$f":"connected_load_plot+K1962-C1962","v":56},{"$f":"connected_load_plot+L1962-D1962","v":49},{"$f":"0","v":0}]
["2024-04-30T05:00:00",18,10,22,0,12,3,12,0,38,27,32,0,50,null,null,null,null,null,null,null,{"$f":"connected_load_plot+J1963-B1963","v":62},{"$f":"connected_load_plot+K1963-C1963","v":59},{"$f":"connected_load_plot+L1963-D1963","v":52},{"$f":"0","v":0}]
["2024-04-30T05:05:00",16,8,25,0,12,2,17,0,31,21,36,0,49,null,null,null,null,null,null,null,{"$f":"connected_load_plot+J1964-B1964","v":57},{"$f":"connected_load_plot+K1964-C1964","v":55},{"$f":"connected_load_plot+L1964-D1964","v":53},{"$f":"0","v":0}]
["2024-04-30T05:10:00",18,8,25,0,12,2,17,0,31,21,30,0,51,null,null,null,null,null,null,null,{"$f":"connected_load_plot+J1965-B1965","v":55},{"$f":"connected_load_plot+K1965-C1965","v":55},{"$f":"connected_load_plot+L1965-D1965","v":47},{"$f":"0","v":0}]
["2024-04-30T05:15:00",21,10,19,0,12,2,12,0,37,22,30,0,50,null,null,null,null,null,null,null,{"$f":"connected_load_plot+J1966-B1966","v":58},{"$f":"connected_load_plot+K1966-C1966","v":54},{"$f":"connected_load_plot+L1966-D1966","v":53},{"$f":"0","v":0}]
["2024-04-30T05:20:00",20,10,22,0,12,3,12,0,40,23,36,0,52,null,null,null,null,null,null,null,{"$f":"connected_load_plot+J1967-B1967","v":62},{"$f":"connected_load_plot+K1967-C1967","v":55},{"$f":"connected_load_plot+L1967-D1967","v":56},{"$f":"0","v":0}]
["2024-04-30T05:25:00",18,10,22,0,13,3,13,0,33,23,32,0,50,null,null,null,null,null,null,null,{"$f":"connected_load_plot+J1968-B1968","v":57},{"$f":"connected_load_plot+K1968-C1968","v":55},{"$f":"connected_load_plot+L1968-D1968","v":52},{"$f":"0","v":0}]
["2024-04-30T05:30:00",17,8,21,0,8,3,12,0,33,23,31,0,46,null,null,null,null,null,null,null,{"$f":"connected_load_plot+J1969-B1969","v":58},{"$f":"connected_load_plot+K1969-C1969","v":57},{"$f":"connected_load_plot+L1969-D1969","v":52},{"$f":"0","v":0}]
["2024-04-30T05:35:00",18,11,24,0,7,3,17,0,38,29,32,0,53,null,null,null,null,null,null,null,{"$f":"connected_load_plot+J1970-B1970","v":62},{"$f":"connected_load_plot+K1970-C1970","v":60},{"$f":"connected_load_plot+L1970-D1970","v":50},{"$f":"0","v":0}]
["2024-04-30T05:40:00",18,9,24,0,7,3,17,0,38,22,36,0,51,null,null,null,null,null,null,null,{"$f":"connected_load_plot+J1971-B1971","v":62},{"$f":"connected_load_plot+K1971-C1971","v":55},{"$f":"connected_load_plot+L1971-D1971","v":54},{"$f":"0","v":0}]
["2024-04-30T05:45:00",18,10,21,0,11,3,12,0,30,22,36,0,49,null,null,null,null,null,null,null,{"$f":"connected_load_plot+J1972-B1972","v":54},{"$f":"connected_load_plot+K1972-C1972","v":54},{"$f":"connected_load_plot+L1972-D1972","v":57},{"$f":"0","v":0}]
["2024-04-30T05:50:00",16,9,21,0,11,3,12,0,37,22,25,0,46,null,null,null,null,null,null,null,{"$f":"connected_load_plot+J1973-B1973","v":63},{"$f":"connected_load_plot+K1973-C1973","v":55},{"$f":"connected_load_plot+L1973-D1973","v":46},{"$f":"0","v":0}]
["2024-04-30T05:55:00",18,8,21,0,11,3,12,0,36,17,31,0,47,null,null,null,null,null,null,null,{"$f":"connected_load_plot+J1974-B1974","v":60},{"$f":"connected_load_plot+K1974-C1974","v":51},{"$f":"connected_load_plot+L1974-D1974","v":52},{"$f":"0","v":0}]
["2024-04-30T06:00:00",17,9,24,0,11,3,12,0,30,22,36,0,50,null,null,null,null,null,null,null,{"$f":"connected_load_plot+J1975-B1975","v":55},{"$f":"connected_load_plot+K1975-C1975","v":55},{"$f":"connected_load_plot+L1975-D1975","v":54},{"$f":"0","v":0}]
["2024-04-30T06:05:00",17,11,24,0,11,3,17,0,31,29,31,0,52,null,null,null,null,null,null,null,{"$f":"connected_load_plot+J1976-B1976","v":56},{"$f":"connected_load_plot+K1976-C1976","v":60},{"$f":"connected_load_plot+L1976-D1976","v":49},{"$f":"0","v":0}]
["2024-04-30T06:10:00",24,10,26,0,6,3,17,0,46,23,31,0,60,null,null,null,null,null,null,null,{"$f":"connected_load_plot+J1977-B1977","v":64},{"$f":"connected_load_plot+K1977-C1977","v":55},{"$f":"connected_load_plot+L1977-D1977","v":47},{"$f":"0","v":0}]
["2024-04-30T06:15:00",16,9,21,0,5,3,12,0,31,23,32,0,46,null,null,null,null,null,null,null,{"$f":"connected_load_plot+J1978-B1978","v":57},{"$f":"connected_load_plot+K1978-C1978","v":56},{"$f":"connected_load_plot+L1978-D1978","v":53},{"$f":"0","v":0}]
["2024-04-30T06:20:00",16,10,20,0,5,4,12,0,31,23,32,0,46,null,null,null,null,null,null,null,{"$f":"connected_load_plot+J1979-B1979","v":57},{"$f":"connected_load_plot+K1979-C1979","v":55},{"$f":"connected_load_plot+L1979-D1979","v":54},{"$f":"0","v":0}]
["2024-04-30T06:25:00",16,13,20,0,5,3,12,0,37,25,30,0,49,null,null,null,null,null,null,null,{"$f":"connected_load_plot+J1980-B1980","v":63},{"$f":"connected_load_plot+K1980-C1980","v":54},{"$f":"connected_load_plot+L1980-D1980","v":52},{"$f":"0","v":0}]
["2024-04-30T06:30:00",16,9,24,0,6,3,17,0,36,22,36,0,49,null,null,null,null,null,null,null,{"$f":"connected_load_plot+J1981-B1981","v":62},{"$f":"connected_load_plot+K1981-C1981","v":55},{"$f":"connected_load_plot+L1981-D1981","v":54},{"$f":"0","v":0}]
["2024-04-30T06:35:00",16,9,28,0,6,3,17,0,36,34,36,0,53,null,null,null,null,null,null,null,{"$f":"connected_load_plot+J1982-B1982","v":62},{"$f":"connected_load_plot+K1982-C1982","v":67},{"$f":"connected_load_plot+L1982-D1982","v":50},{"$f":"0","v":0}]
["2024-04-30T06:40:00",17,11,25,0,6,3,17,0,36,28,30,0,53,null,null,null,null,null,null,null,{"$f":"connected_load_plot+J1983-B1983","v":61},{"$f":"connected_load_plot+K1983-C1983","v":59},{"$f":"connected_load_plot+L1983-D1983","v":47},{"$f":"0","v":0}]
["2024-04-30T06:45:00",25,10,23,0,12,3,17,0,44,22,30,0,58,null,null,null,null,null,null,null,{"$f":"connected_load_plot+J1984-B1984","v":61},{"$f":"connected_load_plot+K1984-C1984","v":54},{"$f":"connected_load_plot+L1984-D1984","v":49},{"$f":"0","v":0}]
["2024-04-30T06:50:00",20,10,26,0,12,3,17,0,46,22,36,0,56,null,null,null,null,null,null,null,{"$f":"connected_load_plot+J1985-B1985","v":68},{"$f":"connected_load_plot+K1985-C1985","v":54},{"$f":"connected_load_plot+L1985-D1985","v":52},{"$f":"0","v":0}]
["2024-04-30T06:55:00",17,8,26,0,12,3,17,0,37,22,36,0,51,null,null,null,null,null,null,null,{"$f":"connected_load_plot+J1986-B1986","v":62},{"$f":"connected_load_plot+K1986-C1986","v":56},{"$f":"connected_load_plot+L1986-D1986","v":52},{"$f":"0","v":0}]
["2024-04-30T07:00:00",16,9,24,0,6,3,17,0,30,17,30,0,{"$f":"SUM(B1987:D1987)","v":49},null,null,null,null,null,null,null,{"$f":"connected_load_plot+J1987-B1987","v":56},{"$f":"connected_load_plot+K1987-C1987","v":50},{"$f":"connected_load_plot+L1987-D1987","v":48},{"$f":"0","v":0}]
["2024-04-30T07:05:00",15,10,26,0,6,4,17,0,32,24,32,0,51,null,null,null,null,null,null,null,{"$f":"connected_load_plot+J1988-B1988","v":59},{"$f":"connected_load_plot+K1988-C1988","v":56},{"$f":"connected_load_plot+L1988-D1988","v":48},{"$f":"0","v":0}]
["2024-04-30T07:10:00",14,8,25,0,6,4,18,0,31,18,38,0,47,null,null,null,null,null,null,null,{"$f":"connected_load_plot+J1989-B1989","v":59},{"$f":"connected_load_plot+K1989-C1989","v":52},{"$f":"connected_load_plot+L1989-D1989","v":55},{"$f":"0","v":0}]
["2024-04-30T07:15:00",15,8,24,0,11,4,18,0,31,18,37,0,47,null,null,null,null,null,null,null,{"$f":"connected_load_plot+J1990-B1990","v":58},{"$f":"connected_load_plot+K1990-C1990","v":52},{"$f":"connected_load_plot+L1990-D1990","v":55},{"$f":"0","v":0}]
["2024-04-30T07:20:00",17,9,25,0,12,3,18,0,31,23,31,0,51,null,null,null,null,null,null,null,{"$f":"connected_load_plot+J1991-B1991","v":56},{"$f":"connected_load_plot+K1991-C1991","v":56},{"$f":"connected_load_plot+L1991-D1991","v":48},{"$f":"0","v":0}]
["2024-04-30T07:25:00",14,6,24,0,5,2,18,0,32,11,32,0,44,null,null,null,null,null,null,null,{"$f":"connected_load_plot+J1992-B1992","v":60},{"$f":"connected_load_plot+K1992-C1992","v":47},{"$f":"connected_load_plot+L1992-D1992","v":50},{"$f":"0","v":0}]
["2024-04-30T07:30:00",15,6,26,0,6,3,18,0,31,10,38,0,47,null,null,null,null,null,null,null,{"$f":"connected_load_plot+J1993-B1993","v":58},{"$f":"connected_load_plot+K1993-C1993","v":46},{"$f":"connected_load_plot+L1993-D1993","v":54},{"$f":"0","v":0}]
["2024-04-30T07:35:00",13,7,30,0,4,2,18,0,31,16,40,0,50,null,null,null,null,null,null,null,{"$f":"connected_load_plot+J1994-B1994","v":60},{"$f":"connected_load_plot+K1994-C1994","v":51},{"$f":"connected_load_plot+L1994-D1994","v":52},{"$f":"0","v":0}]
["2024-04-30T07:40:00",13,5,27,0,4,2,18,0,30,16,32,0,45,null,null,null,null,null,null,null,{"$f":"connected_load_plot+J1995-B1995","v":59},{"$f":"connected_load_plot+K1995-C1995","v":53},{"$f":"connected_load_plot+L1995-D1995","v":47},{"$f":"0","v":0}]
["2024-04-30T07:45:00",17,6,24,0,5,2,18,0,39,16,38,0,47,null,null,null,null,null,null,null,{"$f":"connected_load_plot+J1996-B1996","v":64},{"$f":"connected_load_plot+K1996-C1996","v":52},{"$f":"connected_load_plot+L1996-D1996","v":56},{"$f":"0","v":0}]
["2024-04-30T07:50:00",14,10,26,0,4,3,18,0,32,24,38,0,50,null,null,null,null,null,null,null,{"$f":"connected_load_plot+J1997-B1997","v":60},{"$f":"connected_load_plot+K1997-C1997","v":56},{"$f":"connected_load_plot+L1997-D1997","v":54},{"$f":"0","v":0}]
["2024-04-30T07:55:00",13,9,27,0,4,3,18,0,29,24,32,0,49,null,null,null,null,null,null,null,{"$f":"connected_load_plot+J1998-B1998","v":58},{"$f":"connected_load_plot+K1998-C1998","v":57},{"$f":"connected_load_plot+L1998-D1998","v":47},{"$f":"0","v":0}]
["2024-04-30T08:00:00",13,6,26,0,4,2,18,0,30,16,32,0,45,null,null,null,null,null,null,null,{"$f":"connected_load_plot+J1999-B1999","v":59},{"$f":"connected_load_plot+K1999-C1999","v":52},{"$f":"connected_load_plot+L1999-D1999","v":48},{"$f":"0","v":0}]
["2024-04-30T08:05:00",14,5,22,0,4,2,13,0,30,15,33,0,41,null,null,null,null,null,null,null,{"$f":"connected_load_plot+J2000-B2000","v":58},{"$f":"connected_load_plot+K2000-C2000","v":52},{"$f":"connected_load_plot+L2000-D2000","v":53},{"$f":"0","v":0}]
["2024-04-30T08:10:00",20,8,25,0,4,2,13,0,38,21,41,0,53,null,null,null,null,null,null,null,{"$f":"connected_load_plot+J2001-B2001","v":60},{"$f":"connected_load_plot+K2001-C2001","v":55},{"$f":"connected_load_plot+L2001-D2001","v":58},{"$f":"0","v":0}]
["2024-04-30T08:15:00",15,10,21,0,4,3,13,0,37,15,31,0,46,null,null,null,null,null,null,null,{"$f":"connected_load_plot+J2002-B2002","v":64},{"$f":"connected_load_plot+K2002-C2002","v":47},{"$f":"connected_load_plot+L2002-D2002","v":52},{"$f":"0","v":0}]
["2024-04-30T08:20:00",13,9,21,0,5,2,13,0,30,15,32,0,43,null,null,null,null,null,null,null,{"$f":"connected_load_plot+J2003-B2003","v":59},{"$f":"connected_load_plot+K2003-C2003","v":48},{"$f":"connected_load_plot+L2003-D2003","v":53},{"$f":"0","v":0}]
["2024-04-30T08:25:00",12,8,25,0,4,2,18,0,30,21,32,0,45,null,null,null,null,null,null,null,{"$f":"connected_load_plot+J2004-B2004","v":60},{"$f":"connected_load_plot+K2004-C2004","v":55},{"$f":"connected_load_plot+L2004-D2004","v":49},{"$f":"0","v":0}]
["2024-04-30T08:30:00",14,10,26,0,4,2,13,0,29,28,38,0,50,null,null,null,null,null,null,null,{"$f":"connected_load_plot+J2005-B2005","v":57},{"$f":"connected_load_plot+K2005-C2005","v":60},{"$f":"connected_load_plot+L2005-D2005","v":54},{"$f":"0","v":0}]
["2024-04-30T08:35:00",18,7,24,0,4,3,13,0,38,23,33,0,49,null,null,null,null,null,null,null,{"$f":"connected_load_plot+J2006-B2006","v":62},{"$f":"connected_load_plot+K2006-C2006","v":58},{"$f":"connected_load_plot+L2006-D2006","v":51},{"$f":"0","v":0}]
["2024-04-30T08:40:00",13,6,20,0,4,3,13,0,30,16,27,0,39,null,null,null,null,null,null,null,{"$f":"connected_load_plot+J2007-B2007","v":59},{"$f":"connected_load_plot+K2007-C2007","v":52},{"$f":"connected_load_plot+L2007-D2007","v":49},{"$f":"0","v":0}]
["2024-04-30T08:45:00",13,4,15,0,4,3,7,0,30,10,27,0,32,null,null,null,null,null,null,null,{"$f":"connected_load_plot+J2008-B2008","v":59},{"$f":"connected_load_plot+K2008-C2008","v":48},{"$f":"connected_load_plot+L2008-D2008","v":54},{"$f":"0","v":0}]
["2024-04-30T08:50:00",13,7,20,0,4,3,7,0,30,17,26,0,40,null,null,null,null,null,null,null,{"$f":"connected_load_plot+J2009-B2009","v":59},{"$f":"connected_load_plot+K2009-C2009","v":52},{"$f":"connected_load_plot+L2009-D2009","v":48},{"$f":"0","v":0}]
["2024-04-30T08:55:00",15,8,22,0,5,3,12,0,30,20,31,0,45,null,null,null,null,null,null,null,{"$f":"connected_load_plot+J2010-B2010","v":57},{"$f":"connected_load_plot+K2010-C2010","v":54},{"$f":"connected_load_plot+L2010-D2010","v":51},{"$f":"0","v":0}]
["2024-04-30T09:00:00",12,7,15,0,4,2,7,0,30,23,35,0,34,null,null,null,null,null,null,null,{"$f":"connected_load_plot+J2011-B2011","v":60},{"$f":"connected_load_plot+K2011-C2011","v":58},{"$f":"connected_load_plot+L2011-D2011","v":62},{"$f":"0","v":0}]
["2024-04-30T09:05:00",17,6,16,0,4,2,7,0,38,16,25,0,39,null,null,null,null,null,null,null,{"$f":"connected_load_plot+J2012-B2012","v":63},{"$f":"connected_load_plot+K2012-C2012","v":52},{"$f":"connected_load_plot+L2012-D2012","v":51},{"$f":"0","v":0}]
["2024-04-30T09:10:00",20,5,21,0,12,2,12,0,38,15,25,0,46,null,null,null,null,null,null,null,{"$f":"connected_load_plot+J2013-B2013","v":60},{"$f":"connected_load_plot+K2013-C2013","v":52},{"$f":"connected_load_plot+L2013-D2013","v":46},{"$f":"0","v":0}]
["2024-04-30T09:15:00",19,6,19,0,12,1,12,0,32,15,25,0,44,null,null,null,null,null,null,null,{"$f":"connected_load_plot+J2014-B2014","v":55},{"$f":"connected_load_plot+K2014-C2014","v":51},{"$f":"connected_load_plot+L2014-D2014","v":48},{"$f":"0","v":0}]
["2024-04-30T09:20:00",16,7,21,0,5,2,11,0,32,15,26,0,44,null,null,null,null,null,null,null,{"$f":"connected_load_plot+J2015-B2015","v":58},{"$f":"connected_load_plot+K2015-C2015","v":50},{"$f":"connected_load_plot+L2015-D2015","v":47},{"$f":"0","v":0}]
["2024-04-30T09:25:00",15,4,16,0,5,1,7,0,37,15,31,0,35,null,null,null,null,null,null,null,{"$f":"connected_load_plot+J2016-B2016","v":64},{"$f":"connected_load_plot+K2016-C2016","v":53},{"$f":"connected_load_plot+L2016-D2016","v":57},{"$f":"0","v":0}]
["2024-04-30T09:30:00",18,5,14,0,12,1,7,0,32,15,20,0,37,null,null,null,null,null,null,null,{"$f":"connected_load_plot+J2017-B2017","v":56},{"$f":"connected_load_plot+K2017-C2017","v":52},{"$f":"connected_load_plot+L2017-D2017","v":48},{"$f":"0","v":0}]
["2024-04-30T09:35:00",14,5,18,0,5,1,7,0,33,14,25,0,37,null,null,null,null,null,null,null,{"$f":"connected_load_plot+J2018-B2018","v":61},{"$f":"connected_load_plot+K2018-C2018","v":51},{"$f":"connected_load_plot+L2018-D2018","v":49},{"$f":"0","v":0}]
["2024-04-30T09:40:00",15,5,21,0,5,1,12,0,33,15,25,0,41,null,null,null,null,null,null,null,{"$f":"connected_load_plot+J2019-B2019","v":60},{"$f":"connected_load_plot+K2019-C2019","v":52},{"$f":"connected_load_plot+L2019-D2019","v":46},{"$f":"0","v":0}]
["2024-04-30T09:45:00",15,5,22,0,5,1,18,0,32,14,31,0,42,null,null,null,null,null,null,null,{"$f":"connected_load_plot+J2020-B2020","v":59},{"$f":"connected_load_plot+K2020-C2020","v":51},{"$f":"connected_load_plot+L2020-D2020","v":51},{"$f":"0","v":0}]
["2024-04-30T09:50:00",21,4,20,0,12,1,11,0,32,13,31,0,45,null,null,null,null,null,null,null,{"$f":"connected_load_plot+J2021-B2021","v":53},{"$f":"connected_load_plot+K2021-C2021","v":51},{"$f":"connected_load_plot+L2021-D2021","v":53},{"$f":"0","v":0}]
["2024-04-30T09:55:00",18,4,16,0,5,1,7,0,32,13,25,0,38,null,null,null,null,null,null,null,{"$f":"connected_load_plot+J2022-B2022","v":56},{"$f":"connected_load_plot+K2022-C2022","v":51},{"$f":"connected_load_plot+L2022-D2022","v":51},{"$f":"0","v":0}]
["2024-04-30T10:00:00",10,6,15,0,4,1,7,0,17,14,20,0,31,null,null,null,null,null,null,null,{"$f":"connected_load_plot+J2023-B2023","v":49},{"$f":"connected_load_plot+K2023-C2023","v":50},{"$f":"connected_load_plot+L2023-D2023","v":47},{"$f":"0","v":0}]
["2024-04-30T10:05:00",10,6,16,0,4,1,7,0,23,15,26,0,32,null,null,null,null,null,null,null,{"$f":"connected_load_plot+J2024-B2024","v":55},{"$f":"connected_load_plot+K2024-C2024","v":51},{"$f":"connected_load_plot+L2024-D2024","v":52},{"$f":"0","v":0}]
["2024-04-30T10:10:00",10,4,22,0,4,2,12,0,23,15,32,0,36,null,null,null,null,null,null,null,{"$f":"connected_load_plot+J2025-B2025","v":55},{"$f":"connected_load_plot+K2025-C2025","v":53},{"$f":"connected_load_plot+L2025-D2025","v":52},{"$f":"0","v":0}]
["2024-04-30T10:15:00",11,5,18,0,4,2,12,0,24,15,31,0,34,null,null,null,null,null,null,null,{"$f":"connected_load_plot+J2026-B2026","v":55},{"$f":"connected_load_plot+K2026-C2026","v":52},{"$f":"connected_load_plot+L2026-D2026","v":55},{"$f":"0","v":0}]
["2024-04-30T10:20:00",10,6,20,0,4,2,12,0,23,15,25,0,36,null,null,null,null,null,null,null,{"$f":"connected_load_plot+J2027-B2027","v":55},{"$f":"connected_load_plot+K2027-C2027","v":51},{"$f":"connected_load_plot+L2027-D2027","v":47},{"$f":"0","v":0}]
["2024-04-30T10:25:00",12,7,18,0,4,2,7,0,24,15,25,0,37,null,null,null,null,null,null,null,{"$f":"connected_load_plot+J2028-B2028","v":54},{"$f":"connected_load_plot+K2028-C2028","v":50},{"$f":"connected_load_plot+L2028-D2028","v":49},{"$f":"0","v":0}]
["2024-04-30T10:30:00",11,6,15,0,4,2,7,0,23,21,20,0,32,null,null,null,null,null,null,null,{"$f":"connected_load_plot+J2029-B2029","v":54},{"$f":"connected_load_plot+K2029-C2029","v":57},{"$f":"connected_load_plot+L2029-D2029","v":47},{"$f":"0","v":0}]
["2024-04-30T10:35:00",11,6,19,0,4,2,7,0,23,15,31,0,36,null,null,null,null,null,null,null,{"$f":"connected_load_plot+J2030-B2030","v":54},{"$f":"connected_load_plot+K2030-C2030","v":51},{"$f":"connected_load_plot+L2030-D2030","v":54},{"$f":"0","v":0}]
["2024-04-30T10:40:00",11,6,19,0,4,2,11,0,24,15,31,0,36,null,null,null,null,null,null,null,{"$f":"connected_load_plot+J2031-B2031","v":55},{"$f":"connected_load_plot+K2031-C2031","v":51},{"$f":"connected_load_plot+L2031-D2031","v":54},{"$f":"0","v":0}]
["2024-04-30T10:45:00",10,6,19,0,4,2,11,0,23,16,25,0,35,null,null,null,null,null,null,null,{"$f":"connected_load_plot+J2032-B2032","v":55},{"$f":"connected_load_plot+K2032-C2032","v":52},{"$f":"connected_load_plot+L2032-D2032","v":48},{"$f":"0","v":0}]
["2024-04-30T10:50:00",11,4,19,0,4,2,11,0,23,9,25,0,34,null,null,null,null,null,null,null,{"$f":"connected_load_plot+J2033-B2033","v":54},{"$f":"connected_load_plot+K2033-C2033","v":47},{"$f":"connected_load_plot+L2033-D2033","v":48},{"$f":"0","v":0}]
["2024-04-30T10:55:00",11,6,16,0,4,2,7,0,22,16,25,0,33,null,null,null,null,null,null,null,{"$f":"connected_load_plot+J2034-B2034","v":53},{"$f":"connected_load_plot+K2034-C2034","v":52},{"$f":"connected_load_plot+L2034-D2034","v":51},{"$f":"0","v":0}]
["2024-04-30T11:00:00",9,7,15,0,3,2,13,0,23,21,26,0,31,null,null,null,null,null,null,null,{"$f":"connected_load_plot+J2035-B2035","v":56},{"$f":"connected_load_plot+K2035-C2035","v":56},{"$f":"connected_load_plot+L2035-D2035","v":53},{"$f":"0","v":0}]
["2024-04-30T11:05:00",9,4,15,0,3,2,7,0,16,10,25,0,28,null,null,null,null,null,null,null,{"$f":"connected_load_plot+J2036-B2036","v":49},{"$f":"connected_load_plot+K2036-C2036","v":48},{"$f":"connected_load_plot+L2036-D2036","v":52},{"$f":"0","v":0}]
["2024-04-30T11:10:00",11,6,19,0,4,2,12,0,29,15,25,0,36,null,null,null,null,null,null,null,{"$f":"connected_load_plot+J2037-B2037","v":60},{"$f":"connected_load_plot+K2037-C2037","v":51},{"$f":"connected_load_plot+L2037-D2037","v":48},{"$f":"0","v":0}]
["2024-04-30T11:15:00",11,6,21,0,3,2,12,0,22,14,30,0,38,null,null,null,null,null,null,null,{"$f":"connected_load_plot+J2038-B2038","v":53},{"$f":"connected_load_plot+K2038-C2038","v":50},{"$f":"connected_load_plot+L2038-D2038","v":51},{"$f":"0","v":0}]
["2024-04-30T11:20:00",10,6,22,0,3,2,14,0,22,14,27,0,38,null,null,null,null,null,null,null,{"$f":"connected_load_plot+J2039-B2039","v":54},{"$f":"connected_load_plot+K2039-C2039","v":50},{"$f":"connected_load_plot+L2039-D2039","v":47},{"$f":"0","v":0}]
["2024-04-30T11:25:00",10,4,21,0,3,2,11,0,22,9,33,0,35,null,null,null,null,null,null,null,{"$f":"connected_load_plot+J2040-B2040","v":54},{"$f":"connected_load_plot+K2040-C2040","v":47},{"$f":"connected_load_plot+L2040-D2040","v":54},{"$f":"0","v":0}]
["2024-04-30T11:30:00",9,6,21,0,3,1,12,0,23,16,29,0,36,null,null,null,null,null,null,null,{"$f":"connected_load_plot+J2041-B2041","v":56},{"$f":"connected_load_plot+K2041-C2041","v":52},{"$f":"connected_load_plot+L2041-D2041","v":50},{"$f":"0","v":0}]
["2024-04-30T11:35:00",10,5,13,0,3,1,7,0,22,14,20,0,28,null,null,null,null,null,null,null,{"$f":"connected_load_plot+J2042-B2042","v":54},{"$f":"connected_load_plot+K2042-C2042","v":51},{"$f":"connected_load_plot+L2042-D2042","v":49},{"$f":"0","v":0}]
["2024-04-30T11:40:00",11,3,13,0,3,1,7,0,22,8,20,0,27,null,null,null,null,null,null,null,{"$f":"connected_load_plot+J2043-B2043","v":53},{"$f":"connected_load_plot+K2043-C2043","v":47},{"$f":"connected_load_plot+L2043-D2043","v":49},{"$f":"0","v":0}]
["2024-04-30T11:45:00",8,5,19,0,3,1,12,0,22,14,25,0,32,null,null,null,null,null,null,null,{"$f":"connected_load_plot+J2044-B2044","v":56},{"$f":"connected_load_plot+K2044-C2044","v":51},{"$f":"connected_load_plot+L2044-D2044","v":48},{"$f":"0","v":0}]
["2024-04-30T11:50:00",9,5,19,0,3,1,12,0,22,14,31,0,33,null,null,null,null,null,null,null,{"$f":"connected_load_plot+J2045-B2045","v":55},{"$f":"connected_load_plot+K2045-C2045","v":51},{"$f":"connected_load_plot+L2045-D2045","v":54},{"$f":"0","v":0}]
["2024-04-30T11:55:00",9,5,21,0,3,1,15,0,22,14,34,0,35,null,null,null,null,null,null,null,{"$f":"connected_load_plot+J2046-B2046","v":55},{"$f":"connected_load_plot+K2046-C2046","v":51},{"$f":"connected_load_plot+L2046-D2046","v":55},{"$f":"0","v":0}]
["2024-04-30T12:00:00",10,4,23,0,3,1,14,0,22,9,34,0,37,null,null,null,null,null,null,null,{"$f":"connected_load_plot+J2047-B2047","v":54},{"$f":"connected_load_plot+K2047-C2047","v":47},{"$f":"connected_load_plot+L2047-D2047","v":53},{"$f":"0","v":0}]
["2024-04-30T12:05:00",9,4,14,0,3,2,7,0,22,9,27,0,27,null,null,null,null,null,null,null,{"$f":"connected_load_plot+J2048-B2048","v":55},{"$f":"connected_load_plot+K2048-C2048","v":47},{"$f":"connected_load_plot+L2048-D2048","v":55},{"$f":"0","v":0}]
["2024-04-30T12:10:00",10,5,12,0,3,2,7,0,23,15,20,0,27,null,null,null,null,null,null,null,{"$f":"connected_load_plot+J2049-B2049","v":55},{"$f":"connected_load_plot+K2049-C2049","v":52},{"$f":"connected_load_plot+L2049-D2049","v":50},{"$f":"0","v":0}]
["2024-04-30T12:15:00",9,6,15,0,3,2,7,0,22,15,20,0,30,null,null,null,null,null,null,null,{"$f":"connected_load_plot+J2050-B2050","v":55},{"$f":"connected_load_plot+K2050-C2050","v":51},{"$f":"connected_load_plot+L2050-D2050","v":47},{"$f":"0","v":0}]
["2024-04-30T12:20:00",9,4,19,0,3,2,11,0,22,9,25,0,{"$f":"SUM(B2051:D2051)","v":32},null,null,null,null,null,null,null,{"$f":"connected_load_plot+J2051-B2051","v":55},{"$f":"connected_load_plot+K2051-C2051","v":47},{"$f":"connected_load_plot+L2051-D2051","v":48},{"$f":"0","v":0}]
["2024-04-30T12:25:00",15,4,18,0,3,2,11,0,31,9,25,0,37,null,null,null,null,null,null,null,{"$f":"connected_load_plot+J2052-B2052","v":58},{"$f":"connected_load_plot+K2052-C2052","v":47},{"$f":"connected_load_plot+L2052-D2052","v":49},{"$f":"0","v":0}]
["2024-04-30T12:30:00",12,5,17,0,3,2,7,0,27,15,25,0,34,null,null,null,null,null,null,null,{"$f":"connected_load_plot+J2053-B2053","v":57},{"$f":"connected_load_plot+K2053-C2053","v":52},{"$f":"connected_load_plot+L2053-D2053","v":50},{"$f":"0","v":0}]
["2024-04-30T12:35:00",13,7,13,0,3,2,7,0,27,15,20,0,33,null,null,null,null,null,null,null,{"$f":"connected_load_plot+J2054-B2054","v":56},{"$f":"connected_load_plot+K2054-C2054","v":50},{"$f":"connected_load_plot+L2054-D2054","v":49},{"$f":"0","v":0}]
["2024-04-30T12:40:00",10,5,16,0,3,2,7,0,23,15,20,0,31,null,null,null,null,null,null,null,{"$f":"connected_load_plot+J2055-B2055","v":55},{"$f":"connected_load_plot+K2055-C2055","v":52},{"$f":"connected_load_plot+L2055-D2055","v":46},{"$f":"0","v":0}]
["2024-04-30T12:45:00",10,5,22,0,3,2,12,0,22,15,25,0,37,null,null,null,null,null,null,null,{"$f":"connected_load_plot+J2056-B2056","v":54},{"$f":"connected_load_plot+K2056-C2056","v":52},{"$f":"connected_load_plot+L2056-D2056","v":45},{"$f":"0","v":0}]
["2024-04-30T12:50:00",11,6,20,0,3,2,12,0,22,15,25,0,37,null,null,null,null,null,null,null,{"$f":"connected_load_plot+J2057-B2057","v":53},{"$f":"connected_load_plot+K2057-C2057","v":51},{"$f":"connected_load_plot+L2057-D2057","v":47},{"$f":"0","v":0}]
["2024-04-30T12:55:00",15,6,20,0,3,2,12,0,30,15,25,0,41,null,null,null,null,null,null,null,{"$f":"connected_load_plot+J2058-B2058","v":57},{"$f":"connected_load_plot+K2058-C2058","v":51},{"$f":"connected_load_plot+L2058-D2058","v":47},{"$f":"0","v":0}]
["2024-04-30T13:00:00",16,4,15,0,10,2,7,0,30,10,25,0,35,null,null,null,null,null,null,null,{"$f":"connected_load_plot+J2059-B2059","v":56},{"$f":"connected_load_plot+K2059-C2059","v":48},{"$f":"connected_load_plot+L2059-D2059","v":52},{"$f":"0","v":0}]
["2024-04-30T13:05:00",13,5,13,0,3,2,7,0,30,10,20,0,31,null,null,null,null,null,null,null,{"$f":"connected_load_plot+J2060-B2060","v":59},{"$f":"connected_load_plot+K2060-C2060","v":47},{"$f":"connected_load_plot+L2060-D2060","v":49},{"$f":"0","v":0}]
["2024-04-30T13:10:00",11,5,16,0,3,1,7,0,23,16,25,0,32,null,null,null,null,null,null,null,{"$f":"connected_load_plot+J2061-B2061","v":54},{"$f":"connected_load_plot+K2061-C2061","v":53},{"$f":"connected_load_plot+L2061-D2061","v":51},{"$f":"0","v":0}]
["2024-04-30T13:15:00",10,5,18,0,3,1,11,0,23,14,25,0,33,null,null,null,null,null,null,null,{"$f":"connected_load_plot+J2062-B2062","v":55},{"$f":"connected_load_plot+K2062-C2062","v":51},{"$f":"connected_load_plot+L2062-D2062","v":49},{"$f":"0","v":0}]
["2024-04-30T13:20:00",9,5,19,0,3,1,12,0,23,14,25,0,33,null,null,null,null,null,null,null,{"$f":"connected_load_plot+J2063-B2063","v":56},{"$f":"connected_load_plot+K2063-C2063","v":51},{"$f":"connected_load_plot+L2063-D2063","v":48},{"$f":"0","v":0}]
["2024-04-30T13:25:00",10,3,15,0,3,1,7,0,23,9,25,0,28,null,null,null,null,null,null,null,{"$f":"connected_load_plot+J2064-B2064","v":55},{"$f":"connected_load_plot+K2064-C2064","v":48},{"$f":"connected_load_plot+L2064-D2064","v":52},{"$f":"0","v":0}]
["2024-04-30T13:30:00",10,5,13,0,3,1,7,0,23,15,20,0,28,null,null,null,null,null,null,null,{"$f":"connected_load_plot+J2065-B2065","v":55},{"$f":"connected_load_plot+K2065-C2065","v":52},{"$f":"connected_load_plot+L2065-D2065","v":49},{"$f":"0","v":0}]
["2024-04-30T13:35:00",10,5,18,0,3,1,7,0,23,14,25,0,33,null,null,null,null,null,null,null,{"$f":"connected_load_plot+J2066-B2066","v":55},{"$f":"connected_load_plot+K2066-C2066","v":51},{"$f":"connected_load_plot+L2066-D2066","v":49},{"$f":"0","v":0}]
["2024-04-30T13:40:00",11,4,21,0,3,1,12,0,23,9,26,0,36,null,null,null,null,null,null,null,{"$f":"connected_load_plot+J2067-B2067","v":54},{"$f":"connected_load_plot+K2067-C2067","v":47},{"$f":"connected_load_plot+L2067-D2067","v":47},{"$f":"0","v":0}]
["2024-04-30T13:45:00",9,4,20,0,3,2,12,0,23,9,26,0,33,null,null,null,null,null,null,null,{"$f":"connected_load_plot+J2068-B2068","v":56},{"$f":"connected_load_plot+K2068-C2068","v":47},{"$f":"connected_load_plot+L2068-D2068","v":48},{"$f":"0","v":0}]
["2024-04-30T13:50:00",9,5,14,0,3,2,7,0,23,15,26,0,28,null,null,null,null,null,null,null,{"$f":"connected_load_plot+J2069-B2069","v":56},{"$f":"connected_load_plot+K2069-C2069","v":52},{"$f":"connected_load_plot+L2069-D2069","v":54},{"$f":"0","v":0}]
["2024-04-30T13:55:00",17,5,13,0,9,2,7,0,30,15,21,0,35,null,null,null,null,null,null,null,{"$f":"connected_load_plot+J2070-B2070","v":55},{"$f":"connected_load_plot+K2070-C2070","v":52},{"$f":"connected_load_plot+L2070-D2070","v":50},{"$f":"0","v":0}]
["2024-04-30T14:00:00",16,6,17,0,10,2,8,0,30,22,26,0,39,null,null,null,null,null,null,null,{"$f":"connected_load_plot+J2071-B2071","v":56},{"$f":"connected_load_plot+K2071-C2071","v":58},{"$f":"connected_load_plot+L2071-D2071","v":51},{"$f":"0","v":0}]
["2024-04-30T14:05:00",15,5,21,0,3,1,12,0,30,15,32,0,41,null,null,null,null,null,null,null,{"$f":"connected_load_plot+J2072-B2072","v":57},{"$f":"connected_load_plot+K2072-C2072","v":52},{"$f":"connected_load_plot+L2072-D2072","v":53},{"$f":"0","v":0}]
["2024-04-30T14:10:00",11,4,19,0,3,1,12,0,23,14,32,0,34,null,null,null,null,null,null,null,{"$f":"connected_load_plot+J2073-B2073","v":54},{"$f":"connected_load_plot+K2073-C2073","v":52},{"$f":"connected_load_plot+L2073-D2073","v":55},{"$f":"0","v":0}]
["2024-04-30T14:15:00",9,5,15,0,3,1,7,0,23,14,26,0,29,null,null,null,null,null,null,null,{"$f":"connected_load_plot+J2074-B2074","v":56},{"$f":"connected_load_plot+K2074-C2074","v":51},{"$f":"connected_load_plot+L2074-D2074","v":53},{"$f":"0","v":0}]
["2024-04-30T14:20:00",8,4,13,0,3,1,7,0,22,14,21,0,25,null,null,null,null,null,null,null,{"$f":"connected_load_plot+J2075-B2075","v":56},{"$f":"connected_load_plot+K2075-C2075","v":52},{"$f":"connected_load_plot+L2075-D2075","v":50},{"$f":"0","v":0}]
["2024-04-30T14:25:00",9,4,16,0,3,1,7,0,23,14,21,0,29,null,null,null,null,null,null,null,{"$f":"connected_load_plot+J2076-B2076","v":56},{"$f":"connected_load_plot+K2076-C2076","v":52},{"$f":"connected_load_plot+L2076-D2076","v":47},{"$f":"0","v":0}]
["2024-04-30T14:30:00",10,5,20,0,3,2,7,0,23,15,26,0,35,null,null,null,null,null,null,null,{"$f":"connected_load_plot+J2077-B2077","v":55},{"$f":"connected_load_plot+K2077-C2077","v":52},{"$f":"connected_load_plot+L2077-D2077","v":48},{"$f":"0","v":0}]
["2024-04-30T14:35:00",10,7,16,0,3,2,11,0,23,16,25,0,33,null,null,null,null,null,null,null,{"$f":"connected_load_plot+J2078-B2078","v":55},{"$f":"connected_load_plot+K2078-C2078","v":51},{"$f":"connected_load_plot+L2078-D2078","v":51},{"$f":"0","v":0}]
["2024-04-30T14:40:00",9,5,15,0,3,2,7,0,23,15,25,0,29,null,null,null,null,null,null,null,{"$f":"connected_load_plot+J2079-B2079","v":56},{"$f":"connected_load_plot+K2079-C2079","v":52},{"$f":"connected_load_plot+L2079-D2079","v":52},{"$f":"0","v":0}]
["2024-04-30T14:45:00",9,4,14,0,3,2,7,0,22,10,20,0,27,null,null,null,null,null,null,null,{"$f":"connected_load_plot+J2080-B2080","v":55},{"$f":"connected_load_plot+K2080-C2080","v":48},{"$f":"connected_load_plot+L2080-D2080","v":48},{"$f":"0","v":0}]
["2024-04-30T14:50:00",9,5,13,0,3,1,7,0,22,16,20,0,27,null,null,null,null,null,null,null,{"$f":"connected_load_plot+J2081-B2081","v":55},{"$f":"connected_load_plot+K2081-C2081","v":53},{"$f":"connected_load_plot+L2081-D2081","v":49},{"$f":"0","v":0}]
["2024-04-30T14:55:00",10,4,13,0,3,1,7,0,23,14,25,0,27,null,null,null,null,null,null,null,{"$f":"connected_load_plot+J2082-B2082","v":55},{"$f":"connected_load_plot+K2082-C2082","v":52},{"$f":"connected_load_plot+L2082-D2082","v":54},{"$f":"0","v":0}]
["2024-04-30T15:00:00",9,6,15,0,3,1,12,0,21,14,25,0,30,null,null,null,null,null,null,null,{"$f":"connected_load_plot+J2083-B2083","v":54},{"$f":"connected_load_plot+K2083-C2083","v":50},{"$f":"connected_load_plot+L2083-D2083","v":52},{"$f":"0","v":0}]
["2024-04-30T15:05:00",19,7,14,0,4,1,7,0,36,14,25,0,40,null,null,null,null,null,null,null,{"$f":"connected_load_plot+J2084-B2084","v":59},{"$f":"connected_load_plot+K2084-C2084","v":49},{"$f":"connected_load_plot+L2084-D2084","v":53},{"$f":"0","v":0}]
["2024-04-30T15:10:00",27,6,11,0,16,1,7,0,42,15,23,0,44,null,null,null,null,null,null,null,{"$f":"connected_load_plot+J2085-B2085","v":57},{"$f":"connected_load_plot+K2085-C2085","v":51},{"$f":"connected_load_plot+L2085-D2085","v":54},{"$f":"0","v":0}]
["2024-04-30T15:15:34",24,7,13,0,16,2,6,0,40,21,22,0,44,null,null,null,null,null,null,null,{"$f":"connected_load_plot+J2086-B2086","v":58},{"$f":"connected_load_plot+K2086-C2086","v":56},{"$f":"connected_load_plot+L2086-D2086","v":51},{"$f":"0","v":0}]

{"sheet":"NEC","index":10,"n_rows":36,"n_cols":11,"rows_kept":36,"cut":false,"hidden":true,"merged":[[15,2,15,5],[5,2,5,5],[11,2,11,5],[12,2,12,5],[17,2,17,5],[6,2,6,4],[6,5,7,5],[8,1,8,5],[6,1,7,1],[16,1,16,5],[0,2,0,5],[1,2,1,5],[2,2,2,5],[3,2,3,5],[4,2,4,5]]}
[null,"Circuit Name",{"$f":"title","v":0}]
["A","Location",{"$f":"location1","v":0}]
[null,"Panel Rating",{"$f":"panel_capacity","v":200}]
["B","Circuit Breaker Rating",{"$f":"panel_capacity","v":200}]
["C",{"$f":"temp_rating_desc","v":"90% of Rating (40C)"},{"$f":"panel_capacity*temp_rating_pc/100","v":180}]
["V","Nominal Voltage (Volts)",{"$f":"nominal_voltage","v":230}]
[null,null,"phase",null,null,"based on highest loaded phase"]
[null,null,"A","B","C",null,null,null,null,"to plot","(see nec_phase_sel on Control tab)"]
[null,"Demand Study"]
["D","Current Demand (CD)",{"$f":"'NEC Report Template'!I40","v":27},{"$f":"'NEC Report Template'!J40","v":28},{"$f":"'NEC Report Template'!K40","v":42},{"$f":"MAX(C10:E10)","v":42},"A",null,null,{"$f":"INDEX('NEC Report Template'!I40:L40,1,nec_phase_sel)","v":42}]
["E","Maximum Apparent Power",{"$f":"C10*$C6/1000","v":6.21},{"$f":"D10*$C6/1000","v":6.44},{"$f":"E10*$C6/1000","v":9.66},{"$f":"MAX(C11:E11)","v":9.66},"kVA","E = D x V /1000"]
["S","Maximum Demand (load)",{"$f":"SUM(C11:E11)","v":22.310000000000002},null,null,null,"kVA","S = Sum(E)"]
["F",{"$f":"'NEC Report Template'!B43","v":"Seasonal Adjustments"},{"$f":"IF(seasonal_en,seasonal_adjust,0)","v":0},null,null,null,"A"]
["H",{"$f":"'NEC Report Template'!B44","v":"Total Current Demand"},{"$f":"C10+IF(seasonal_en,seasonal_adjust)","v":27},{"$f":"D10+IF(seasonal_en,seasonal_adjust)","v":28},{"$f":"E10+IF(seasonal_en,seasonal_adjust)","v":42},{"$f":"MAX(C14:E14)","v":42},"A","H = D + F",null,{"$f":"INDEX(C14:F14,1,nec_phase_sel)","v":42}]
["L","Available Capacity",{"$f":"nec_main_breaker-nec_connected_load_a","v":173},{"$f":"nec_main_breaker-nec_connected_load_b","v":172},{"$f":"nec_main_breaker-nec_connected_load_c","v":158},{"$f":"MIN(C15:E15)","v":158},"A","L = B - H",null,{"$f":"INDEX($C$14:$F$14,1,nec_phase_sel)","v":42}]
["T","Free Capacity",{"$f":"nominal_voltage*SUM(C15:E15)/1000","v":115.69},null,null,null,"kVA","T = V x Sum(L)/1000"]
[null,"Plan/Projected Demand Analysis"]
["M","Planned Additional Demand",{"$f":"IF(planned_load_en,planned_load,0)","v":0},null,null,null,"A",null,null,"wait until the Wizard step that includes the Projected Load box before including Projected Load in the CONNECTED LOAD plot"]
["N","Projected Current Demand w/addition",{"$f":"nec_connected_load_a+$C$18","v":27},{"$f":"nec_connected_load_b+$C$18","v":28},{"$f":"nec_connected_load_c+$C$18","v":42},{"$f":"MAX(C19:E19)","v":42},"A","N = H + M",null,{"$f":"INDEX(C19:F19,1,nec_phase_sel)","v":42}]
["O","Projected Remaining Capacity",{"$f":"pcbr-C19","v":173},{"$f":"pcbr-D19","v":172},{"$f":"pcbr-E19","v":158},{"$f":"MIN(C20:E20)","v":158},"A","O = B - N"]
[]
[]
[]
[null,"NB. in general, the main formulae for the calcuations in this table should be on the \"NEC Report Template\" sheet"]
[null,"and the values on this sheet should be copies of (or make reference to) cells on that sheet (not the other way around, otherwise the generated reports will have links to this generator)"]
[]
[]
[]
[]
[null,"Total Capacity (based on 100% of breaker rating and specified Voltage)",{"$f":"nec_main_breaker*C6*3/1000","v":138},null,null,null,"kVA"]
[null,"Free Capacity (excluding seasonal)",{"$f":"C30-C12","v":115.69},null,null,null,"kVA"]
[null,"Total Available Current Capacity (excluding seasonal)",{"$f":"3*nec_main_breaker-SUM(C10:E10)","v":503},null,null,null,"A"]
[null,"Free Capacity from currents (excluding seasonal)",{"$f":"C32*C6/1000","v":115.69},null,null,null,"kVA"]
[]
[null,"Free Capacity (including seasonal)",{"$f":"nominal_voltage*SUM(C15:E15)/1000","v":115.69},null,null,null,"kVA"]
[null,"Capacity for seasonal adjustment",{"$f":"C33-C35","v":0},null,null,null,"kVA"]